BEGIN:VCALENDAR
VERSION:2.0
PRODID:-//The Sanctuary Community Association, Inc. - ECPv6.15.1.1//NONSGML v1.0//EN
CALSCALE:GREGORIAN
METHOD:PUBLISH
X-WR-CALNAME:The Sanctuary Community Association, Inc.
X-ORIGINAL-URL:http://thesanctuaryhoa.net
X-WR-CALDESC:Events for The Sanctuary Community Association, Inc.
REFRESH-INTERVAL;VALUE=DURATION:PT1H
X-Robots-Tag:noindex
X-PUBLISHED-TTL:PT1H
BEGIN:VTIMEZONE
TZID:America/New_York
BEGIN:DAYLIGHT
TZOFFSETFROM:-0500
TZOFFSETTO:-0400
TZNAME:EDT
DTSTART:20250309T070000
END:DAYLIGHT
BEGIN:STANDARD
TZOFFSETFROM:-0400
TZOFFSETTO:-0500
TZNAME:EST
DTSTART:20251102T060000
END:STANDARD
END:VTIMEZONE
BEGIN:VEVENT
DTSTART;TZID=America/New_York:20251028T183000
DTEND;TZID=America/New_York:20251028T183000
DTSTAMP:20260423T200339
CREATED:20241211T222044Z
LAST-MODIFIED:20241211T222044Z
UID:5955-1761676200-1761676200@thesanctuaryhoa.net
SUMMARY:Board Meeting (Budget)
DESCRIPTION:At the October 28\, 2025 meeting\, the 2026 budget will be discussed and presented. This meeting shall set the Base Assessment for Fiscal Year 2026.
URL:http://thesanctuaryhoa.net/event/board-meeting-budget/
LOCATION:The Sanctuary Clubhouse\, 800 Sanctuary Drive\, Oviedo\, FL\, 32766
CATEGORIES:Community Events
END:VEVENT
BEGIN:VEVENT
DTSTART;TZID=America/New_York:20251026T130000
DTEND;TZID=America/New_York:20251026T190000
DTSTAMP:20260423T200339
CREATED:20250924T124712Z
LAST-MODIFIED:20250924T124712Z
UID:6510-1761483600-1761505200@thesanctuaryhoa.net
SUMMARY:Private Event
DESCRIPTION:
URL:http://thesanctuaryhoa.net/event/private-event-513/
LOCATION:The Sanctuary Clubhouse\, 800 Sanctuary Drive\, Oviedo\, FL\, 32766
CATEGORIES:Private Events
END:VEVENT
BEGIN:VEVENT
DTSTART;TZID=America/New_York:20251025T160000
DTEND;TZID=America/New_York:20251025T220000
DTSTAMP:20260423T200339
CREATED:20250916T225529Z
LAST-MODIFIED:20250916T225529Z
UID:6505-1761408000-1761429600@thesanctuaryhoa.net
SUMMARY:Private Event
DESCRIPTION:
URL:http://thesanctuaryhoa.net/event/private-event-509/
LOCATION:The Sanctuary Clubhouse\, 800 Sanctuary Drive\, Oviedo\, FL\, 32766
CATEGORIES:Private Events
END:VEVENT
BEGIN:VEVENT
DTSTART;TZID=America/New_York:20251024T170000
DTEND;TZID=America/New_York:20251024T220000
DTSTAMP:20260423T200339
CREATED:20250924T130845Z
LAST-MODIFIED:20250924T130845Z
UID:6514-1761325200-1761343200@thesanctuaryhoa.net
SUMMARY:Private Event
DESCRIPTION:
URL:http://thesanctuaryhoa.net/event/private-event-515/
LOCATION:The Sanctuary Clubhouse\, 800 Sanctuary Drive\, Oviedo\, FL\, 32766
CATEGORIES:Private Events
END:VEVENT
BEGIN:VEVENT
DTSTART;TZID=America/New_York:20251020T150000
DTEND;TZID=America/New_York:20251020T210000
DTSTAMP:20260423T200339
CREATED:20251008T203038Z
LAST-MODIFIED:20251008T203038Z
UID:6524-1760972400-1760994000@thesanctuaryhoa.net
SUMMARY:Private Event
DESCRIPTION:
URL:http://thesanctuaryhoa.net/event/private-event-519/
LOCATION:The Sanctuary Clubhouse\, 800 Sanctuary Drive\, Oviedo\, FL\, 32766
CATEGORIES:Private Events
END:VEVENT
BEGIN:VEVENT
DTSTART;TZID=America/New_York:20251019T130000
DTEND;TZID=America/New_York:20251019T180000
DTSTAMP:20260423T200339
CREATED:20251014T130422Z
LAST-MODIFIED:20251014T130422Z
UID:6528-1760878800-1760896800@thesanctuaryhoa.net
SUMMARY:Private Event
DESCRIPTION:
URL:http://thesanctuaryhoa.net/event/private-event-521/
LOCATION:The Sanctuary Clubhouse\, 800 Sanctuary Drive\, Oviedo\, FL\, 32766
CATEGORIES:Private Events
END:VEVENT
BEGIN:VEVENT
DTSTART;TZID=America/New_York:20251019T110000
DTEND;TZID=America/New_York:20251019T130000
DTSTAMP:20260423T200339
CREATED:20251008T134140Z
LAST-MODIFIED:20251008T134140Z
UID:6522-1760871600-1760878800@thesanctuaryhoa.net
SUMMARY:Private Event
DESCRIPTION:
URL:http://thesanctuaryhoa.net/event/private-event-518/
LOCATION:East Pool Pavilion\, 800 Sanctuary Drive\, Oviedo\, FL\, 32766
CATEGORIES:Private Events
END:VEVENT
BEGIN:VEVENT
DTSTART;TZID=America/New_York:20251014T183000
DTEND;TZID=America/New_York:20251014T193000
DTSTAMP:20260423T200339
CREATED:20250909T225007Z
LAST-MODIFIED:20250909T225007Z
UID:6479-1760466600-1760470200@thesanctuaryhoa.net
SUMMARY:Private Event
DESCRIPTION:
URL:http://thesanctuaryhoa.net/event/private-event-505/
LOCATION:The Sanctuary Clubhouse\, 800 Sanctuary Drive\, Oviedo\, FL\, 32766
CATEGORIES:Private Events
END:VEVENT
BEGIN:VEVENT
DTSTART;TZID=America/New_York:20251012T120000
DTEND;TZID=America/New_York:20251012T180000
DTSTAMP:20260423T200339
CREATED:20250904T224348Z
LAST-MODIFIED:20250904T224348Z
UID:6469-1760270400-1760292000@thesanctuaryhoa.net
SUMMARY:Private Event
DESCRIPTION:
URL:http://thesanctuaryhoa.net/event/private-event-503/
LOCATION:Cabana\, 800 Sanctuary Drive\, Oviedo\, FL\, 32766
CATEGORIES:Private Events
END:VEVENT
BEGIN:VEVENT
DTSTART;TZID=America/New_York:20251011T160000
DTEND;TZID=America/New_York:20251011T210000
DTSTAMP:20260423T200339
CREATED:20250804T172921Z
LAST-MODIFIED:20250804T172921Z
UID:6419-1760198400-1760216400@thesanctuaryhoa.net
SUMMARY:Private Event
DESCRIPTION:
URL:http://thesanctuaryhoa.net/event/private-event-485/
LOCATION:Cabana\, 800 Sanctuary Drive\, Oviedo\, FL\, 32766
CATEGORIES:Private Events
END:VEVENT
BEGIN:VEVENT
DTSTART;TZID=America/New_York:20251009T190000
DTEND;TZID=America/New_York:20251009T190000
DTSTAMP:20260423T200339
CREATED:20241211T223308Z
LAST-MODIFIED:20241211T223308Z
UID:5983-1760036400-1760036400@thesanctuaryhoa.net
SUMMARY:ARC Meeting
DESCRIPTION:
URL:http://thesanctuaryhoa.net/event/arc-meeting-38/
LOCATION:The Sanctuary Clubhouse\, 800 Sanctuary Drive\, Oviedo\, FL\, 32766
CATEGORIES:Community Events
END:VEVENT
BEGIN:VEVENT
DTSTART;TZID=America/New_York:20251009T103000
DTEND;TZID=America/New_York:20251009T140000
DTSTAMP:20260423T200339
CREATED:20251008T131233Z
LAST-MODIFIED:20251008T131233Z
UID:6520-1760005800-1760018400@thesanctuaryhoa.net
SUMMARY:Private Event
DESCRIPTION:
URL:http://thesanctuaryhoa.net/event/private-event-517/
LOCATION:The Sanctuary Clubhouse\, 800 Sanctuary Drive\, Oviedo\, FL\, 32766
CATEGORIES:Private Events
END:VEVENT
BEGIN:VEVENT
DTSTART;VALUE=DATE:20251006
DTEND;VALUE=DATE:20251007
DTSTAMP:20260423T200339
CREATED:20241211T225817Z
LAST-MODIFIED:20241211T225817Z
UID:6013-1759708800-1759795199@thesanctuaryhoa.net
SUMMARY:ARC Applications Due
DESCRIPTION:
URL:http://thesanctuaryhoa.net/event/arc-applications-due-37/
LOCATION:FL
CATEGORIES:Community Events
END:VEVENT
BEGIN:VEVENT
DTSTART;TZID=America/New_York:20251005T110000
DTEND;TZID=America/New_York:20251005T170000
DTSTAMP:20260423T200339
CREATED:20250902T201605Z
LAST-MODIFIED:20250902T201605Z
UID:6461-1759662000-1759683600@thesanctuaryhoa.net
SUMMARY:Private Event
DESCRIPTION:
URL:http://thesanctuaryhoa.net/event/private-event-499/
LOCATION:Splash Pad\, 800 Sanctuary Drive\, Oviedo\, FL\, 32766
CATEGORIES:Private Events
END:VEVENT
BEGIN:VEVENT
DTSTART;TZID=America/New_York:20251005T110000
DTEND;TZID=America/New_York:20251005T170000
DTSTAMP:20260423T200339
CREATED:20250902T193347Z
LAST-MODIFIED:20250902T193347Z
UID:6459-1759662000-1759683600@thesanctuaryhoa.net
SUMMARY:Private Event
DESCRIPTION:
URL:http://thesanctuaryhoa.net/event/private-event-498/
LOCATION:The Sanctuary Clubhouse\, 800 Sanctuary Drive\, Oviedo\, FL\, 32766
CATEGORIES:Private Events
END:VEVENT
BEGIN:VEVENT
DTSTART;TZID=America/New_York:20251004T090000
DTEND;TZID=America/New_York:20251004T150000
DTSTAMP:20260423T200339
CREATED:20250707T214001Z
LAST-MODIFIED:20250707T214001Z
UID:6380-1759568400-1759590000@thesanctuaryhoa.net
SUMMARY:Private Event
DESCRIPTION:
URL:http://thesanctuaryhoa.net/event/private-event-472/
LOCATION:The Sanctuary Clubhouse\, 800 Sanctuary Drive\, Oviedo\, FL\, 32766
CATEGORIES:Private Events
END:VEVENT
BEGIN:VEVENT
DTSTART;TZID=America/New_York:20251004T080000
DTEND;TZID=America/New_York:20251004T120000
DTSTAMP:20260423T200339
CREATED:20241211T222333Z
LAST-MODIFIED:20250121T220520Z
UID:5963-1759564800-1759579200@thesanctuaryhoa.net
SUMMARY:Community Yard Sale
DESCRIPTION:
URL:http://thesanctuaryhoa.net/event/community-yard-sale-6/
LOCATION:FL
CATEGORIES:Community Events
END:VEVENT
BEGIN:VEVENT
DTSTART;TZID=America/New_York:20251003T130000
DTEND;TZID=America/New_York:20251003T190000
DTSTAMP:20260423T200339
CREATED:20250915T124721Z
LAST-MODIFIED:20250915T124721Z
UID:6493-1759496400-1759518000@thesanctuaryhoa.net
SUMMARY:Private Event
DESCRIPTION:
URL:http://thesanctuaryhoa.net/event/private-event-510/
LOCATION:The Sanctuary Clubhouse\, 800 Sanctuary Drive\, Oviedo\, FL\, 32766
CATEGORIES:Private Events
END:VEVENT
BEGIN:VEVENT
DTSTART;TZID=America/New_York:20250928T160000
DTEND;TZID=America/New_York:20250928T220000
DTSTAMP:20260423T200339
CREATED:20250902T221213Z
LAST-MODIFIED:20250902T221213Z
UID:6465-1759075200-1759096800@thesanctuaryhoa.net
SUMMARY:Private Event
DESCRIPTION:
URL:http://thesanctuaryhoa.net/event/private-event-501/
LOCATION:The Sanctuary Clubhouse\, 800 Sanctuary Drive\, Oviedo\, FL\, 32766
CATEGORIES:Private Events
END:VEVENT
BEGIN:VEVENT
DTSTART;TZID=America/New_York:20250928T110000
DTEND;TZID=America/New_York:20250928T180000
DTSTAMP:20260423T200339
CREATED:20250916T224550Z
LAST-MODIFIED:20250916T224550Z
UID:6502-1759057200-1759082400@thesanctuaryhoa.net
SUMMARY:Private Event
DESCRIPTION:
URL:http://thesanctuaryhoa.net/event/private-event-511/
LOCATION:East Pool Pavilion\, 800 Sanctuary Drive\, Oviedo\, FL\, 32766
CATEGORIES:Private Events
END:VEVENT
BEGIN:VEVENT
DTSTART;TZID=America/New_York:20250927T110000
DTEND;TZID=America/New_York:20250927T170000
DTSTAMP:20260423T200339
CREATED:20250911T164207Z
LAST-MODIFIED:20250911T164207Z
UID:6488-1758970800-1758992400@thesanctuaryhoa.net
SUMMARY:Private Event
DESCRIPTION:
URL:http://thesanctuaryhoa.net/event/private-event-446/
LOCATION:Cabana\, 800 Sanctuary Drive\, Oviedo\, FL\, 32766
CATEGORIES:Private Events
END:VEVENT
BEGIN:VEVENT
DTSTART;TZID=America/New_York:20250921T123000
DTEND;TZID=America/New_York:20250921T153000
DTSTAMP:20260423T200339
CREATED:20250808T142013Z
LAST-MODIFIED:20250808T142013Z
UID:6421-1758457800-1758468600@thesanctuaryhoa.net
SUMMARY:Private Event
DESCRIPTION:
URL:http://thesanctuaryhoa.net/event/private-event-486/
LOCATION:The Sanctuary Clubhouse\, 800 Sanctuary Drive\, Oviedo\, FL\, 32766
CATEGORIES:Private Events
END:VEVENT
BEGIN:VEVENT
DTSTART;TZID=America/New_York:20250921T110000
DTEND;TZID=America/New_York:20250921T160000
DTSTAMP:20260423T200339
CREATED:20250816T194035Z
LAST-MODIFIED:20250816T194035Z
UID:6436-1758452400-1758470400@thesanctuaryhoa.net
SUMMARY:Private Event
DESCRIPTION:
URL:http://thesanctuaryhoa.net/event/private-event-492/
LOCATION:East Pool Pavilion\, 800 Sanctuary Drive\, Oviedo\, FL\, 32766
CATEGORIES:Private Events
END:VEVENT
BEGIN:VEVENT
DTSTART;TZID=America/New_York:20250920T100000
DTEND;TZID=America/New_York:20250920T160000
DTSTAMP:20260423T200339
CREATED:20250816T180900Z
LAST-MODIFIED:20250816T180900Z
UID:6434-1758362400-1758384000@thesanctuaryhoa.net
SUMMARY:Private Event
DESCRIPTION:
URL:http://thesanctuaryhoa.net/event/private-event-491/
LOCATION:East Pool Pavilion\, 800 Sanctuary Drive\, Oviedo\, FL\, 32766
CATEGORIES:Private Events
END:VEVENT
BEGIN:VEVENT
DTSTART;TZID=America/New_York:20250913T120000
DTEND;TZID=America/New_York:20250913T180000
DTSTAMP:20260423T200339
CREATED:20250904T224320Z
LAST-MODIFIED:20250904T224320Z
UID:6467-1757764800-1757786400@thesanctuaryhoa.net
SUMMARY:Private Event
DESCRIPTION:
URL:http://thesanctuaryhoa.net/event/private-event-502/
LOCATION:Cabana\, 800 Sanctuary Drive\, Oviedo\, FL\, 32766
CATEGORIES:Private Events
END:VEVENT
BEGIN:VEVENT
DTSTART;TZID=America/New_York:20250913T080000
DTEND;TZID=America/New_York:20250913T170000
DTSTAMP:20260423T200339
CREATED:20250621T172843Z
LAST-MODIFIED:20250621T172843Z
UID:6347-1757750400-1757782800@thesanctuaryhoa.net
SUMMARY:Private Event
DESCRIPTION:
URL:http://thesanctuaryhoa.net/event/private-event-461/
LOCATION:The Sanctuary Clubhouse\, 800 Sanctuary Drive\, Oviedo\, FL\, 32766
CATEGORIES:Private Events
END:VEVENT
BEGIN:VEVENT
DTSTART;TZID=America/New_York:20250911T190000
DTEND;TZID=America/New_York:20250911T190000
DTSTAMP:20260423T200339
CREATED:20241211T223241Z
LAST-MODIFIED:20241211T223241Z
UID:5981-1757617200-1757617200@thesanctuaryhoa.net
SUMMARY:ARC Meeting
DESCRIPTION:
URL:http://thesanctuaryhoa.net/event/arc-meeting-37/
LOCATION:The Sanctuary Clubhouse\, 800 Sanctuary Drive\, Oviedo\, FL\, 32766
CATEGORIES:Community Events
END:VEVENT
BEGIN:VEVENT
DTSTART;TZID=America/New_York:20250909T183000
DTEND;TZID=America/New_York:20250909T193000
DTSTAMP:20260423T200339
CREATED:20250909T224930Z
LAST-MODIFIED:20250909T224930Z
UID:6477-1757442600-1757446200@thesanctuaryhoa.net
SUMMARY:Private Event
DESCRIPTION:
URL:http://thesanctuaryhoa.net/event/private-event-504/
LOCATION:The Sanctuary Clubhouse\, 800 Sanctuary Drive\, Oviedo\, FL\, 32766
CATEGORIES:Private Events
END:VEVENT
BEGIN:VEVENT
DTSTART;VALUE=DATE:20250908
DTEND;VALUE=DATE:20250909
DTSTAMP:20260423T200339
CREATED:20241211T225800Z
LAST-MODIFIED:20241211T225800Z
UID:6011-1757289600-1757375999@thesanctuaryhoa.net
SUMMARY:ARC Applications Due
DESCRIPTION:
URL:http://thesanctuaryhoa.net/event/arc-applications-due-36/
LOCATION:FL
CATEGORIES:Community Events
END:VEVENT
BEGIN:VEVENT
DTSTART;TZID=America/New_York:20250907T100000
DTEND;TZID=America/New_York:20250907T160000
DTSTAMP:20260423T200339
CREATED:20250519T205357Z
LAST-MODIFIED:20250519T205357Z
UID:6295-1757239200-1757260800@thesanctuaryhoa.net
SUMMARY:Private Event
DESCRIPTION:
URL:http://thesanctuaryhoa.net/event/private-event-442/
LOCATION:The Sanctuary Clubhouse\, 800 Sanctuary Drive\, Oviedo\, FL\, 32766
CATEGORIES:Private Events
END:VEVENT
END:VCALENDAR