BEGIN:VCALENDAR
VERSION:2.0
PRODID:-//The Sanctuary Community Association, Inc. - ECPv6.15.1.1//NONSGML v1.0//EN
CALSCALE:GREGORIAN
METHOD:PUBLISH
X-WR-CALNAME:The Sanctuary Community Association, Inc.
X-ORIGINAL-URL:http://thesanctuaryhoa.net
X-WR-CALDESC:Events for The Sanctuary Community Association, Inc.
REFRESH-INTERVAL;VALUE=DURATION:PT1H
X-Robots-Tag:noindex
X-PUBLISHED-TTL:PT1H
BEGIN:VTIMEZONE
TZID:America/New_York
BEGIN:DAYLIGHT
TZOFFSETFROM:-0500
TZOFFSETTO:-0400
TZNAME:EDT
DTSTART:20240310T070000
END:DAYLIGHT
BEGIN:STANDARD
TZOFFSETFROM:-0400
TZOFFSETTO:-0500
TZNAME:EST
DTSTART:20241103T060000
END:STANDARD
END:VTIMEZONE
BEGIN:VEVENT
DTSTART;TZID=America/New_York:20241114T190000
DTEND;TZID=America/New_York:20241114T190000
DTSTAMP:20260425T071927
CREATED:20240124T004938Z
LAST-MODIFIED:20240124T004938Z
UID:5468-1731610800-1731610800@thesanctuaryhoa.net
SUMMARY:ARC Meeting
DESCRIPTION:
URL:http://thesanctuaryhoa.net/event/arc-meeting-27/
LOCATION:The Sanctuary Clubhouse\, 800 Sanctuary Drive\, Oviedo\, FL\, 32766
CATEGORIES:Community Events
END:VEVENT
BEGIN:VEVENT
DTSTART;TZID=America/New_York:20241113T080000
DTEND;TZID=America/New_York:20241113T120000
DTSTAMP:20260425T071927
CREATED:20241112T213636Z
LAST-MODIFIED:20241112T213636Z
UID:5904-1731484800-1731499200@thesanctuaryhoa.net
SUMMARY:Private Event
DESCRIPTION:
URL:http://thesanctuaryhoa.net/event/private-event-343/
LOCATION:The Sanctuary Clubhouse\, 800 Sanctuary Drive\, Oviedo\, FL\, 32766
CATEGORIES:Private Events
END:VEVENT
BEGIN:VEVENT
DTSTART;TZID=America/New_York:20241112T180000
DTEND;TZID=America/New_York:20241112T190000
DTSTAMP:20260425T071927
CREATED:20240716T161745Z
LAST-MODIFIED:20240716T161745Z
UID:5738-1731434400-1731438000@thesanctuaryhoa.net
SUMMARY:Private Event
DESCRIPTION:
URL:http://thesanctuaryhoa.net/event/private-event-285/
LOCATION:The Sanctuary Clubhouse\, 800 Sanctuary Drive\, Oviedo\, FL\, 32766
CATEGORIES:Private Events
END:VEVENT
BEGIN:VEVENT
DTSTART;TZID=America/New_York:20241111T120000
DTEND;TZID=America/New_York:20241111T180000
DTSTAMP:20260425T071927
CREATED:20241003T172338Z
LAST-MODIFIED:20241003T172338Z
UID:5848-1731326400-1731348000@thesanctuaryhoa.net
SUMMARY:Private Event
DESCRIPTION:
URL:http://thesanctuaryhoa.net/event/private-event-322/
LOCATION:The Sanctuary Clubhouse\, 800 Sanctuary Drive\, Oviedo\, FL\, 32766
CATEGORIES:Private Events
END:VEVENT
BEGIN:VEVENT
DTSTART;VALUE=DATE:20241111
DTEND;VALUE=DATE:20241112
DTSTAMP:20260425T071927
CREATED:20240124T004720Z
LAST-MODIFIED:20240124T004720Z
UID:5462-1731283200-1731369599@thesanctuaryhoa.net
SUMMARY:ARC Applications Due
DESCRIPTION:
URL:http://thesanctuaryhoa.net/event/arc-applications-due-21/
LOCATION:The Sanctuary Clubhouse\, 800 Sanctuary Drive\, Oviedo\, FL\, 32766
CATEGORIES:Community Events
END:VEVENT
BEGIN:VEVENT
DTSTART;TZID=America/New_York:20241110T120000
DTEND;TZID=America/New_York:20241110T180000
DTSTAMP:20260425T071927
CREATED:20241007T205046Z
LAST-MODIFIED:20241007T205046Z
UID:5850-1731240000-1731261600@thesanctuaryhoa.net
SUMMARY:Private Event
DESCRIPTION:
URL:http://thesanctuaryhoa.net/event/private-event-323/
LOCATION:Cabana\, 800 Sanctuary Drive\, Oviedo\, FL\, 32766
CATEGORIES:Private Events
END:VEVENT
BEGIN:VEVENT
DTSTART;TZID=America/New_York:20241109T120000
DTEND;TZID=America/New_York:20241109T170000
DTSTAMP:20260425T071927
CREATED:20240913T230306Z
LAST-MODIFIED:20240913T230306Z
UID:5816-1731153600-1731171600@thesanctuaryhoa.net
SUMMARY:Private Event
DESCRIPTION:
URL:http://thesanctuaryhoa.net/event/private-event-311/
LOCATION:The Sanctuary Clubhouse\, 800 Sanctuary Drive\, Oviedo\, FL\, 32766
CATEGORIES:Private Events
END:VEVENT
BEGIN:VEVENT
DTSTART;TZID=America/New_York:20241108T160000
DTEND;TZID=America/New_York:20241108T220000
DTSTAMP:20260425T071927
CREATED:20241014T202236Z
LAST-MODIFIED:20241014T202236Z
UID:5859-1731081600-1731103200@thesanctuaryhoa.net
SUMMARY:Private Event
DESCRIPTION:
URL:http://thesanctuaryhoa.net/event/private-event-326/
LOCATION:The Sanctuary Clubhouse\, 800 Sanctuary Drive\, Oviedo\, FL\, 32766
CATEGORIES:Private Events
END:VEVENT
BEGIN:VEVENT
DTSTART;VALUE=DATE:20241105
DTEND;VALUE=DATE:20241106
DTSTAMP:20260425T071927
CREATED:20231230T150400Z
LAST-MODIFIED:20231230T150400Z
UID:5442-1730764800-1730851199@thesanctuaryhoa.net
SUMMARY:Equipment Delivery
DESCRIPTION:
URL:http://thesanctuaryhoa.net/event/equipment-delivery-5/
LOCATION:The Sanctuary Clubhouse\, 800 Sanctuary Drive\, Oviedo\, FL\, 32766
CATEGORIES:Community Events
END:VEVENT
BEGIN:VEVENT
DTSTART;VALUE=DATE:20241104
DTEND;VALUE=DATE:20241105
DTSTAMP:20260425T071927
CREATED:20231230T150228Z
LAST-MODIFIED:20231230T150228Z
UID:5436-1730678400-1730764799@thesanctuaryhoa.net
SUMMARY:Equipment Delivery
DESCRIPTION:
URL:http://thesanctuaryhoa.net/event/equipment-delivery-3/
LOCATION:The Sanctuary Clubhouse\, 800 Sanctuary Drive\, Oviedo\, FL\, 32766
CATEGORIES:Community Events
END:VEVENT
BEGIN:VEVENT
DTSTART;TZID=America/New_York:20241103T150000
DTEND;TZID=America/New_York:20241103T190000
DTSTAMP:20260425T071927
CREATED:20241030T135914Z
LAST-MODIFIED:20241030T135914Z
UID:5877-1730646000-1730660400@thesanctuaryhoa.net
SUMMARY:Private Event
DESCRIPTION:
URL:http://thesanctuaryhoa.net/event/private-event-333/
LOCATION:The Sanctuary Clubhouse\, 800 Sanctuary Drive\, Oviedo\, FL\, 32766
CATEGORIES:Private Events
END:VEVENT
BEGIN:VEVENT
DTSTART;TZID=America/New_York:20241102T160000
DTEND;TZID=America/New_York:20241102T220000
DTSTAMP:20260425T071927
CREATED:20241018T150849Z
LAST-MODIFIED:20241018T150849Z
UID:5865-1730563200-1730584800@thesanctuaryhoa.net
SUMMARY:Private Event
DESCRIPTION:
URL:http://thesanctuaryhoa.net/event/private-event-329/
LOCATION:The Sanctuary Clubhouse\, 800 Sanctuary Drive\, Oviedo\, FL\, 32766
CATEGORIES:Private Events
END:VEVENT
BEGIN:VEVENT
DTSTART;TZID=America/New_York:20241102T110000
DTEND;TZID=America/New_York:20241102T170000
DTSTAMP:20260425T071927
CREATED:20241027T154559Z
LAST-MODIFIED:20241027T154559Z
UID:5874-1730545200-1730566800@thesanctuaryhoa.net
SUMMARY:Private Event
DESCRIPTION:
URL:http://thesanctuaryhoa.net/event/private-event-332/
LOCATION:Cabana\, 800 Sanctuary Drive\, Oviedo\, FL\, 32766
CATEGORIES:Private Events
END:VEVENT
BEGIN:VEVENT
DTSTART;TZID=America/New_York:20241101T180000
DTEND;TZID=America/New_York:20241101T210000
DTSTAMP:20260425T071927
CREATED:20241018T133449Z
LAST-MODIFIED:20241018T133449Z
UID:5863-1730484000-1730494800@thesanctuaryhoa.net
SUMMARY:Private Event
DESCRIPTION:
URL:http://thesanctuaryhoa.net/event/private-event-328/
LOCATION:The Sanctuary Clubhouse\, 800 Sanctuary Drive\, Oviedo\, FL\, 32766
CATEGORIES:Private Events
END:VEVENT
BEGIN:VEVENT
DTSTART;TZID=America/New_York:20241101T140000
DTEND;TZID=America/New_York:20241101T190000
DTSTAMP:20260425T071927
CREATED:20241011T210207Z
LAST-MODIFIED:20241011T210207Z
UID:5853-1730469600-1730487600@thesanctuaryhoa.net
SUMMARY:Private Event
DESCRIPTION:
URL:http://thesanctuaryhoa.net/event/private-event-324/
LOCATION:East Pool Pavilion\, 800 Sanctuary Drive\, Oviedo\, FL\, 32766
CATEGORIES:Private Events
END:VEVENT
BEGIN:VEVENT
DTSTART;TZID=America/New_York:20241027T150000
DTEND;TZID=America/New_York:20241027T210000
DTSTAMP:20260425T071927
CREATED:20240917T131302Z
LAST-MODIFIED:20240917T131302Z
UID:5829-1730041200-1730062800@thesanctuaryhoa.net
SUMMARY:Private Event
DESCRIPTION:
URL:http://thesanctuaryhoa.net/event/private-event-314/
LOCATION:The Sanctuary Clubhouse\, 800 Sanctuary Drive\, Oviedo\, FL\, 32766
CATEGORIES:Private Events
END:VEVENT
BEGIN:VEVENT
DTSTART;TZID=America/New_York:20241026T160000
DTEND;TZID=America/New_York:20241026T220000
DTSTAMP:20260425T071927
CREATED:20240925T235203Z
LAST-MODIFIED:20240925T235203Z
UID:5836-1729958400-1729980000@thesanctuaryhoa.net
SUMMARY:Private Event
DESCRIPTION:
URL:http://thesanctuaryhoa.net/event/private-event-317/
LOCATION:The Sanctuary Clubhouse\, 800 Sanctuary Drive\, Oviedo\, FL\, 32766
CATEGORIES:Private Events
END:VEVENT
BEGIN:VEVENT
DTSTART;TZID=America/New_York:20241025T133000
DTEND;TZID=America/New_York:20241025T183000
DTSTAMP:20260425T071927
CREATED:20241022T203150Z
LAST-MODIFIED:20241022T203150Z
UID:5870-1729863000-1729881000@thesanctuaryhoa.net
SUMMARY:Private Event
DESCRIPTION:
URL:http://thesanctuaryhoa.net/event/private-event-330/
LOCATION:The Sanctuary Clubhouse\, 800 Sanctuary Drive\, Oviedo\, FL\, 32766
CATEGORIES:Private Events
END:VEVENT
BEGIN:VEVENT
DTSTART;TZID=America/New_York:20241022T183000
DTEND;TZID=America/New_York:20241022T183000
DTSTAMP:20260425T071927
CREATED:20231129T002103Z
LAST-MODIFIED:20231129T211534Z
UID:5360-1729621800-1729621800@thesanctuaryhoa.net
SUMMARY:Board Meeting
DESCRIPTION:
URL:http://thesanctuaryhoa.net/event/board-meeting-5/
LOCATION:The Sanctuary Clubhouse\, 800 Sanctuary Drive\, Oviedo\, FL\, 32766
CATEGORIES:Community Events
END:VEVENT
BEGIN:VEVENT
DTSTART;VALUE=DATE:20241019
DTEND;VALUE=DATE:20241020
DTSTAMP:20260425T071927
CREATED:20241012T210808Z
LAST-MODIFIED:20241013T131303Z
UID:5580-1729296000-1729382399@thesanctuaryhoa.net
SUMMARY:Community Yard Sale
DESCRIPTION:
URL:http://thesanctuaryhoa.net/event/community-yard-sale-3/
LOCATION:FL
CATEGORIES:Community Events
END:VEVENT
BEGIN:VEVENT
DTSTART;TZID=America/New_York:20241013T140000
DTEND;TZID=America/New_York:20241013T200000
DTSTAMP:20260425T071927
CREATED:20240705T140043Z
LAST-MODIFIED:20240705T140043Z
UID:5712-1728828000-1728849600@thesanctuaryhoa.net
SUMMARY:Private Event
DESCRIPTION:
URL:http://thesanctuaryhoa.net/event/private-event-277/
LOCATION:The Sanctuary Clubhouse\, 800 Sanctuary Drive\, Oviedo\, FL\, 32766
CATEGORIES:Private Events
END:VEVENT
BEGIN:VEVENT
DTSTART;TZID=America/New_York:20241012T120000
DTEND;TZID=America/New_York:20241012T160000
DTSTAMP:20260425T071927
CREATED:20240806T131609Z
LAST-MODIFIED:20240806T131609Z
UID:5765-1728734400-1728748800@thesanctuaryhoa.net
SUMMARY:Private Event
DESCRIPTION:
URL:http://thesanctuaryhoa.net/event/private-event-294/
LOCATION:The Sanctuary Clubhouse\, 800 Sanctuary Drive\, Oviedo\, FL\, 32766
CATEGORIES:Private Events
END:VEVENT
BEGIN:VEVENT
DTSTART;TZID=America/New_York:20241010T190000
DTEND;TZID=America/New_York:20241010T190000
DTSTAMP:20260425T071927
CREATED:20240124T004907Z
LAST-MODIFIED:20240124T004907Z
UID:5466-1728586800-1728586800@thesanctuaryhoa.net
SUMMARY:ARC Meeting
DESCRIPTION:
URL:http://thesanctuaryhoa.net/event/arc-meeting-26/
LOCATION:The Sanctuary Clubhouse\, 800 Sanctuary Drive\, Oviedo\, FL\, 32766
CATEGORIES:Community Events
END:VEVENT
BEGIN:VEVENT
DTSTART;TZID=America/New_York:20241008T180000
DTEND;TZID=America/New_York:20241008T190000
DTSTAMP:20260425T071927
CREATED:20240716T161558Z
LAST-MODIFIED:20240716T162002Z
UID:5735-1728410400-1728414000@thesanctuaryhoa.net
SUMMARY:Private Event
DESCRIPTION:
URL:http://thesanctuaryhoa.net/event/private-event-284/
LOCATION:Cabana\, 800 Sanctuary Drive\, Oviedo\, FL\, 32766
CATEGORIES:Private Events
END:VEVENT
BEGIN:VEVENT
DTSTART;TZID=America/New_York:20241008T173000
DTEND;TZID=America/New_York:20241008T220000
DTSTAMP:20260425T071927
CREATED:20240711T160926Z
LAST-MODIFIED:20240711T160926Z
UID:5720-1728408600-1728424800@thesanctuaryhoa.net
SUMMARY:Private Event
DESCRIPTION:
URL:http://thesanctuaryhoa.net/event/private-event-280/
LOCATION:The Sanctuary Clubhouse\, 800 Sanctuary Drive\, Oviedo\, FL\, 32766
CATEGORIES:Private Events
END:VEVENT
BEGIN:VEVENT
DTSTART;VALUE=DATE:20241007
DTEND;VALUE=DATE:20241008
DTSTAMP:20260425T071928
CREATED:20240124T004617Z
LAST-MODIFIED:20240124T004617Z
UID:5460-1728259200-1728345599@thesanctuaryhoa.net
SUMMARY:ARC Applications Due
DESCRIPTION:
URL:http://thesanctuaryhoa.net/event/arc-applications-due-20/
LOCATION:The Sanctuary Clubhouse\, 800 Sanctuary Drive\, Oviedo\, FL\, 32766
CATEGORIES:Community Events
END:VEVENT
BEGIN:VEVENT
DTSTART;TZID=America/New_York:20241006T090000
DTEND;TZID=America/New_York:20241006T150000
DTSTAMP:20260425T071928
CREATED:20240929T192148Z
LAST-MODIFIED:20240929T192148Z
UID:5839-1728205200-1728226800@thesanctuaryhoa.net
SUMMARY:Private Event
DESCRIPTION:
URL:http://thesanctuaryhoa.net/event/private-event-318/
LOCATION:Cabana\, 800 Sanctuary Drive\, Oviedo\, FL\, 32766
CATEGORIES:Private Events
END:VEVENT
BEGIN:VEVENT
DTSTART;TZID=America/New_York:20241005T120000
DTEND;TZID=America/New_York:20241005T180000
DTSTAMP:20260425T071928
CREATED:20240501T223610Z
LAST-MODIFIED:20240501T223610Z
UID:5596-1728129600-1728151200@thesanctuaryhoa.net
SUMMARY:Private Event
DESCRIPTION:
URL:http://thesanctuaryhoa.net/event/private-event-235/
LOCATION:The Sanctuary Clubhouse\, 800 Sanctuary Drive\, Oviedo\, FL\, 32766
CATEGORIES:Private Events
END:VEVENT
BEGIN:VEVENT
DTSTART;TZID=America/New_York:20241005T100000
DTEND;TZID=America/New_York:20241005T160000
DTSTAMP:20260425T071928
CREATED:20240923T203511Z
LAST-MODIFIED:20240923T203511Z
UID:5834-1728122400-1728144000@thesanctuaryhoa.net
SUMMARY:Private Event
DESCRIPTION:
URL:http://thesanctuaryhoa.net/event/private-event-316/
LOCATION:Cabana\, 800 Sanctuary Drive\, Oviedo\, FL\, 32766
CATEGORIES:Private Events
END:VEVENT
BEGIN:VEVENT
DTSTART;TZID=America/New_York:20240928T120000
DTEND;TZID=America/New_York:20240928T180000
DTSTAMP:20260425T071928
CREATED:20240923T203059Z
LAST-MODIFIED:20240923T203059Z
UID:5832-1727524800-1727546400@thesanctuaryhoa.net
SUMMARY:Private Event
DESCRIPTION:
URL:http://thesanctuaryhoa.net/event/private-event-315/
LOCATION:East Pool Pavilion\, 800 Sanctuary Drive\, Oviedo\, FL\, 32766
CATEGORIES:Private Events
END:VEVENT
END:VCALENDAR