BEGIN:VCALENDAR
VERSION:2.0
PRODID:-//The Sanctuary Community Association, Inc. - ECPv6.15.1.1//NONSGML v1.0//EN
CALSCALE:GREGORIAN
METHOD:PUBLISH
X-WR-CALNAME:The Sanctuary Community Association, Inc.
X-ORIGINAL-URL:http://thesanctuaryhoa.net
X-WR-CALDESC:Events for The Sanctuary Community Association, Inc.
REFRESH-INTERVAL;VALUE=DURATION:PT1H
X-Robots-Tag:noindex
X-PUBLISHED-TTL:PT1H
BEGIN:VTIMEZONE
TZID:America/New_York
BEGIN:DAYLIGHT
TZOFFSETFROM:-0500
TZOFFSETTO:-0400
TZNAME:EDT
DTSTART:20240310T070000
END:DAYLIGHT
BEGIN:STANDARD
TZOFFSETFROM:-0400
TZOFFSETTO:-0500
TZNAME:EST
DTSTART:20241103T060000
END:STANDARD
END:VTIMEZONE
BEGIN:VEVENT
DTSTART;TZID=America/New_York:20240720T090000
DTEND;TZID=America/New_York:20240720T140000
DTSTAMP:20260425T123602
CREATED:20240602T204814Z
LAST-MODIFIED:20240602T204814Z
UID:5644-1721466000-1721484000@thesanctuaryhoa.net
SUMMARY:Private Event
DESCRIPTION:
URL:http://thesanctuaryhoa.net/event/private-event-253/
LOCATION:East Pool Pavilion\, 800 Sanctuary Drive\, Oviedo\, FL\, 32766
CATEGORIES:Private Events
END:VEVENT
BEGIN:VEVENT
DTSTART;TZID=America/New_York:20240719T170000
DTEND;TZID=America/New_York:20240719T230000
DTSTAMP:20260425T123602
CREATED:20240611T171232Z
LAST-MODIFIED:20240611T171232Z
UID:5659-1721408400-1721430000@thesanctuaryhoa.net
SUMMARY:Private Event
DESCRIPTION:
URL:http://thesanctuaryhoa.net/event/private-event-259/
LOCATION:The Sanctuary Clubhouse\, 800 Sanctuary Drive\, Oviedo\, FL\, 32766
CATEGORIES:Private Events
END:VEVENT
BEGIN:VEVENT
DTSTART;TZID=America/New_York:20240713T100000
DTEND;TZID=America/New_York:20240713T160000
DTSTAMP:20260425T123602
CREATED:20240513T235004Z
LAST-MODIFIED:20240513T235004Z
UID:5620-1720864800-1720886400@thesanctuaryhoa.net
SUMMARY:Private Event
DESCRIPTION:
URL:http://thesanctuaryhoa.net/event/private-event-246/
LOCATION:East Pool Pavilion\, 800 Sanctuary Drive\, Oviedo\, FL\, 32766
CATEGORIES:Private Events
END:VEVENT
BEGIN:VEVENT
DTSTART;TZID=America/New_York:20240713T100000
DTEND;TZID=America/New_York:20240713T130000
DTSTAMP:20260425T123602
CREATED:20240611T170923Z
LAST-MODIFIED:20240611T170923Z
UID:5657-1720864800-1720875600@thesanctuaryhoa.net
SUMMARY:Private Event
DESCRIPTION:
URL:http://thesanctuaryhoa.net/event/private-event-258/
LOCATION:The Sanctuary Clubhouse\, 800 Sanctuary Drive\, Oviedo\, FL\, 32766
CATEGORIES:Private Events
END:VEVENT
BEGIN:VEVENT
DTSTART;TZID=America/New_York:20240712T160000
DTEND;TZID=America/New_York:20240712T210000
DTSTAMP:20260425T123602
CREATED:20240620T154120Z
LAST-MODIFIED:20240620T154120Z
UID:5687-1720800000-1720818000@thesanctuaryhoa.net
SUMMARY:Private Event
DESCRIPTION:
URL:http://thesanctuaryhoa.net/event/private-event-269/
LOCATION:The Sanctuary Clubhouse\, 800 Sanctuary Drive\, Oviedo\, FL\, 32766
CATEGORIES:Private Events
END:VEVENT
BEGIN:VEVENT
DTSTART;TZID=America/New_York:20240711T190000
DTEND;TZID=America/New_York:20240711T190000
DTSTAMP:20260425T123602
CREATED:20231129T000915Z
LAST-MODIFIED:20231129T211511Z
UID:5346-1720724400-1720724400@thesanctuaryhoa.net
SUMMARY:ARC Meeting
DESCRIPTION:
URL:http://thesanctuaryhoa.net/event/arc-meeting-23/
LOCATION:The Sanctuary Clubhouse\, 800 Sanctuary Drive\, Oviedo\, FL\, 32766
CATEGORIES:Community Events
END:VEVENT
BEGIN:VEVENT
DTSTART;VALUE=DATE:20240708
DTEND;VALUE=DATE:20240709
DTSTAMP:20260425T123602
CREATED:20231129T212934Z
LAST-MODIFIED:20231129T212934Z
UID:5386-1720396800-1720483199@thesanctuaryhoa.net
SUMMARY:ARC Applications Due
DESCRIPTION:
URL:http://thesanctuaryhoa.net/event/arc-applications-due-17/
CATEGORIES:Community Events
END:VEVENT
BEGIN:VEVENT
DTSTART;TZID=America/New_York:20240707T180000
DTEND;TZID=America/New_York:20240707T230000
DTSTAMP:20260425T123602
CREATED:20240704T154357Z
LAST-MODIFIED:20240704T154357Z
UID:5708-1720375200-1720393200@thesanctuaryhoa.net
SUMMARY:Private Event
DESCRIPTION:
URL:http://thesanctuaryhoa.net/event/private-event-275/
END:VEVENT
BEGIN:VEVENT
DTSTART;TZID=America/New_York:20240706T140000
DTEND;TZID=America/New_York:20240706T200000
DTSTAMP:20260425T123602
CREATED:20240620T154048Z
LAST-MODIFIED:20240620T154048Z
UID:5685-1720274400-1720296000@thesanctuaryhoa.net
SUMMARY:Private Event
DESCRIPTION:
URL:http://thesanctuaryhoa.net/event/private-event-215/
LOCATION:Cabana\, 800 Sanctuary Drive\, Oviedo\, FL\, 32766
CATEGORIES:Private Events
END:VEVENT
BEGIN:VEVENT
DTSTART;TZID=America/New_York:20240706T140000
DTEND;TZID=America/New_York:20240706T200000
DTSTAMP:20260425T123602
CREATED:20240102T220845Z
LAST-MODIFIED:20240102T220845Z
UID:5444-1720274400-1720296000@thesanctuaryhoa.net
SUMMARY:Private Event
DESCRIPTION:
URL:http://thesanctuaryhoa.net/event/private-event-192/
LOCATION:The Sanctuary Clubhouse\, 800 Sanctuary Drive\, Oviedo\, FL\, 32766
CATEGORIES:Private Events
END:VEVENT
BEGIN:VEVENT
DTSTART;TZID=America/New_York:20240704T130000
DTEND;TZID=America/New_York:20240704T180000
DTSTAMP:20260425T123602
CREATED:20240704T153606Z
LAST-MODIFIED:20240704T153705Z
UID:5702-1720098000-1720116000@thesanctuaryhoa.net
SUMMARY:Private Event
DESCRIPTION:
URL:http://thesanctuaryhoa.net/event/private-event-272/
LOCATION:East Pool Pavilion\, 800 Sanctuary Drive\, Oviedo\, FL\, 32766
END:VEVENT
BEGIN:VEVENT
DTSTART;TZID=America/New_York:20240704T120000
DTEND;TZID=America/New_York:20240704T180000
DTSTAMP:20260425T123602
CREATED:20240704T153942Z
LAST-MODIFIED:20240704T153942Z
UID:5704-1720094400-1720116000@thesanctuaryhoa.net
SUMMARY:Private Event
DESCRIPTION:
URL:http://thesanctuaryhoa.net/event/private-event-273/
CATEGORIES:Private Events
END:VEVENT
BEGIN:VEVENT
DTSTART;TZID=America/New_York:20240630T130000
DTEND;TZID=America/New_York:20240630T180000
DTSTAMP:20260425T123602
CREATED:20240613T140410Z
LAST-MODIFIED:20240613T140410Z
UID:5665-1719752400-1719770400@thesanctuaryhoa.net
SUMMARY:Private Event
DESCRIPTION:
URL:http://thesanctuaryhoa.net/event/private-event-262/
LOCATION:Cabana\, 800 Sanctuary Drive\, Oviedo\, FL\, 32766
CATEGORIES:Private Events
END:VEVENT
BEGIN:VEVENT
DTSTART;TZID=America/New_York:20240630T120000
DTEND;TZID=America/New_York:20240630T180000
DTSTAMP:20260425T123602
CREATED:20240613T171732Z
LAST-MODIFIED:20240613T171732Z
UID:5673-1719748800-1719770400@thesanctuaryhoa.net
SUMMARY:Private Event
DESCRIPTION:
URL:http://thesanctuaryhoa.net/event/private-event-250/
LOCATION:The Sanctuary Clubhouse\, 800 Sanctuary Drive\, Oviedo\, FL\, 32766
CATEGORIES:Private Events
END:VEVENT
BEGIN:VEVENT
DTSTART;TZID=America/New_York:20240628T163000
DTEND;TZID=America/New_York:20240628T213000
DTSTAMP:20260425T123602
CREATED:20240617T165854Z
LAST-MODIFIED:20240617T165854Z
UID:5678-1719592200-1719610200@thesanctuaryhoa.net
SUMMARY:Private Event
DESCRIPTION:
URL:http://thesanctuaryhoa.net/event/private-event-267/
LOCATION:The Sanctuary Clubhouse\, 800 Sanctuary Drive\, Oviedo\, FL\, 32766
CATEGORIES:Private Events
END:VEVENT
BEGIN:VEVENT
DTSTART;TZID=America/New_York:20240625T183000
DTEND;TZID=America/New_York:20240625T183000
DTSTAMP:20260425T123602
CREATED:20231129T001953Z
LAST-MODIFIED:20231129T211507Z
UID:5356-1719340200-1719340200@thesanctuaryhoa.net
SUMMARY:Board Meeting
DESCRIPTION:
URL:http://thesanctuaryhoa.net/event/board-meeting-3/
LOCATION:The Sanctuary Clubhouse\, 800 Sanctuary Drive\, Oviedo\, FL\, 32766
CATEGORIES:Community Events
END:VEVENT
BEGIN:VEVENT
DTSTART;TZID=America/New_York:20240622T150000
DTEND;TZID=America/New_York:20240622T210000
DTSTAMP:20260425T123602
CREATED:20240612T195053Z
LAST-MODIFIED:20240612T195053Z
UID:5663-1719068400-1719090000@thesanctuaryhoa.net
SUMMARY:Private Event
DESCRIPTION:
URL:http://thesanctuaryhoa.net/event/private-event-261/
LOCATION:The Sanctuary Clubhouse\, 800 Sanctuary Drive\, Oviedo\, FL\, 32766
CATEGORIES:Private Events
END:VEVENT
BEGIN:VEVENT
DTSTART;TZID=America/New_York:20240622T080000
DTEND;TZID=America/New_York:20240622T140000
DTSTAMP:20260425T123602
CREATED:20240318T221251Z
LAST-MODIFIED:20240318T221251Z
UID:5536-1719043200-1719064800@thesanctuaryhoa.net
SUMMARY:Private Event
DESCRIPTION:
URL:http://thesanctuaryhoa.net/event/private-event-220/
LOCATION:East Pool Pavilion\, 800 Sanctuary Drive\, Oviedo\, FL\, 32766
CATEGORIES:Private Events
END:VEVENT
BEGIN:VEVENT
DTSTART;TZID=America/New_York:20240619T100000
DTEND;TZID=America/New_York:20240619T160000
DTSTAMP:20260425T123602
CREATED:20240617T135354Z
LAST-MODIFIED:20240617T135354Z
UID:5676-1718791200-1718812800@thesanctuaryhoa.net
SUMMARY:Private Event
DESCRIPTION:
URL:http://thesanctuaryhoa.net/event/private-event-266/
LOCATION:Splash Pad\, 800 Sanctuary Drive\, Oviedo\, FL\, 32766
CATEGORIES:Private Events
END:VEVENT
BEGIN:VEVENT
DTSTART;TZID=America/New_York:20240615T140000
DTEND;TZID=America/New_York:20240615T200000
DTSTAMP:20260425T123602
CREATED:20240602T205419Z
LAST-MODIFIED:20240602T205419Z
UID:5648-1718460000-1718481600@thesanctuaryhoa.net
SUMMARY:Private Event
DESCRIPTION:
URL:http://thesanctuaryhoa.net/event/private-event-255/
LOCATION:Cabana\, 800 Sanctuary Drive\, Oviedo\, FL\, 32766
CATEGORIES:Private Events
END:VEVENT
BEGIN:VEVENT
DTSTART;TZID=America/New_York:20240613T190000
DTEND;TZID=America/New_York:20240613T190000
DTSTAMP:20260425T123602
CREATED:20231129T000813Z
LAST-MODIFIED:20231129T211500Z
UID:5344-1718305200-1718305200@thesanctuaryhoa.net
SUMMARY:ARC Meeting
DESCRIPTION:
URL:http://thesanctuaryhoa.net/event/arc-meeting-22/
LOCATION:The Sanctuary Clubhouse\, 800 Sanctuary Drive\, Oviedo\, FL\, 32766
CATEGORIES:Community Events
END:VEVENT
BEGIN:VEVENT
DTSTART;TZID=America/New_York:20240611T170000
DTEND;TZID=America/New_York:20240611T200000
DTSTAMP:20260425T123602
CREATED:20240610T154307Z
LAST-MODIFIED:20240610T154307Z
UID:5654-1718125200-1718136000@thesanctuaryhoa.net
SUMMARY:Private Event
DESCRIPTION:
URL:http://thesanctuaryhoa.net/event/private-event-257/
LOCATION:Cabana\, 800 Sanctuary Drive\, Oviedo\, FL\, 32766
CATEGORIES:Private Events
END:VEVENT
BEGIN:VEVENT
DTSTART;TZID=America/New_York:20240610T180000
DTEND;TZID=America/New_York:20240610T200000
DTSTAMP:20260425T123602
CREATED:20240507T232844Z
LAST-MODIFIED:20240507T232844Z
UID:5614-1718042400-1718049600@thesanctuaryhoa.net
SUMMARY:Private Event
DESCRIPTION:
URL:http://thesanctuaryhoa.net/event/private-event-243/
LOCATION:The Sanctuary Clubhouse\, 800 Sanctuary Drive\, Oviedo\, FL\, 32766
CATEGORIES:Private Events
END:VEVENT
BEGIN:VEVENT
DTSTART;VALUE=DATE:20240610
DTEND;VALUE=DATE:20240611
DTSTAMP:20260425T123602
CREATED:20231129T212854Z
LAST-MODIFIED:20231129T212854Z
UID:5384-1717977600-1718063999@thesanctuaryhoa.net
SUMMARY:ARC Applications Due
DESCRIPTION:
URL:http://thesanctuaryhoa.net/event/arc-applications-due-16/
CATEGORIES:Community Events
END:VEVENT
BEGIN:VEVENT
DTSTART;TZID=America/New_York:20240608T140000
DTEND;TZID=America/New_York:20240608T200000
DTSTAMP:20260425T123602
CREATED:20240325T224359Z
LAST-MODIFIED:20240325T224359Z
UID:5551-1717855200-1717876800@thesanctuaryhoa.net
SUMMARY:Private Event
DESCRIPTION:
URL:http://thesanctuaryhoa.net/event/private-event-226/
LOCATION:The Sanctuary Clubhouse\, 800 Sanctuary Drive\, Oviedo\, FL\, 32766
CATEGORIES:Private Events
END:VEVENT
BEGIN:VEVENT
DTSTART;TZID=America/New_York:20240602T120000
DTEND;TZID=America/New_York:20240602T180000
DTSTAMP:20260425T123602
CREATED:20240306T005244Z
LAST-MODIFIED:20240306T005244Z
UID:5518-1717329600-1717351200@thesanctuaryhoa.net
SUMMARY:Private Event
DESCRIPTION:
URL:http://thesanctuaryhoa.net/event/private-event-213/
LOCATION:The Sanctuary Clubhouse\, 800 Sanctuary Drive\, Oviedo\, FL\, 32766
CATEGORIES:Private Events
END:VEVENT
BEGIN:VEVENT
DTSTART;TZID=America/New_York:20240601T130000
DTEND;TZID=America/New_York:20240601T180000
DTSTAMP:20260425T123602
CREATED:20240529T163412Z
LAST-MODIFIED:20240529T163412Z
UID:5640-1717246800-1717264800@thesanctuaryhoa.net
SUMMARY:Private Event
DESCRIPTION:
URL:http://thesanctuaryhoa.net/event/private-event-252/
LOCATION:The Sanctuary Clubhouse\, 800 Sanctuary Drive\, Oviedo\, FL\, 32766
CATEGORIES:Private Events
END:VEVENT
BEGIN:VEVENT
DTSTART;TZID=America/New_York:20240601T110000
DTEND;TZID=America/New_York:20240601T170000
DTSTAMP:20260425T123602
CREATED:20240510T205950Z
LAST-MODIFIED:20240510T205950Z
UID:5618-1717239600-1717261200@thesanctuaryhoa.net
SUMMARY:Private Event
DESCRIPTION:
URL:http://thesanctuaryhoa.net/event/private-event-245/
LOCATION:Splash Pad\, 800 Sanctuary Drive\, Oviedo\, FL\, 32766
CATEGORIES:Private Events
END:VEVENT
BEGIN:VEVENT
DTSTART;TZID=America/New_York:20240528T160000
DTEND;TZID=America/New_York:20240528T220000
DTSTAMP:20260425T123602
CREATED:20240515T200822Z
LAST-MODIFIED:20240515T200822Z
UID:5627-1716912000-1716933600@thesanctuaryhoa.net
SUMMARY:Private Event
DESCRIPTION:
URL:http://thesanctuaryhoa.net/event/private-event-249/
LOCATION:The Sanctuary Clubhouse\, 800 Sanctuary Drive\, Oviedo\, FL\, 32766
CATEGORIES:Private Events
END:VEVENT
BEGIN:VEVENT
DTSTART;TZID=America/New_York:20240527T130000
DTEND;TZID=America/New_York:20240527T180000
DTSTAMP:20260425T123602
CREATED:20240507T205521Z
LAST-MODIFIED:20240507T205521Z
UID:5612-1716814800-1716832800@thesanctuaryhoa.net
SUMMARY:Private Event
DESCRIPTION:
URL:http://thesanctuaryhoa.net/event/private-event-242/
LOCATION:Cabana\, 800 Sanctuary Drive\, Oviedo\, FL\, 32766
CATEGORIES:Private Events
END:VEVENT
END:VCALENDAR