BEGIN:VCALENDAR
VERSION:2.0
PRODID:-//The Sanctuary Community Association, Inc. - ECPv6.15.1.1//NONSGML v1.0//EN
CALSCALE:GREGORIAN
METHOD:PUBLISH
X-WR-CALNAME:The Sanctuary Community Association, Inc.
X-ORIGINAL-URL:http://thesanctuaryhoa.net
X-WR-CALDESC:Events for The Sanctuary Community Association, Inc.
REFRESH-INTERVAL;VALUE=DURATION:PT1H
X-Robots-Tag:noindex
X-PUBLISHED-TTL:PT1H
BEGIN:VTIMEZONE
TZID:America/New_York
BEGIN:DAYLIGHT
TZOFFSETFROM:-0500
TZOFFSETTO:-0400
TZNAME:EDT
DTSTART:20240310T070000
END:DAYLIGHT
BEGIN:STANDARD
TZOFFSETFROM:-0400
TZOFFSETTO:-0500
TZNAME:EST
DTSTART:20241103T060000
END:STANDARD
END:VTIMEZONE
BEGIN:VEVENT
DTSTART;TZID=America/New_York:20240823T163000
DTEND;TZID=America/New_York:20240823T193000
DTSTAMP:20260425T114033
CREATED:20240814T160655Z
LAST-MODIFIED:20240814T160655Z
UID:5774-1724430600-1724441400@thesanctuaryhoa.net
SUMMARY:Private Event
DESCRIPTION:
URL:http://thesanctuaryhoa.net/event/private-event-298/
LOCATION:Cabana\, 800 Sanctuary Drive\, Oviedo\, FL\, 32766
CATEGORIES:Private Events
END:VEVENT
BEGIN:VEVENT
DTSTART;VALUE=DATE:20240820
DTEND;VALUE=DATE:20240821
DTSTAMP:20260425T114033
CREATED:20231230T150331Z
LAST-MODIFIED:20231230T150331Z
UID:5440-1724112000-1724198399@thesanctuaryhoa.net
SUMMARY:Equipment Delivery
DESCRIPTION:
URL:http://thesanctuaryhoa.net/event/equipment-delivery-4/
LOCATION:The Sanctuary Clubhouse\, 800 Sanctuary Drive\, Oviedo\, FL\, 32766
CATEGORIES:Community Events
END:VEVENT
BEGIN:VEVENT
DTSTART;VALUE=DATE:20240819
DTEND;VALUE=DATE:20240820
DTSTAMP:20260425T114033
CREATED:20231230T150159Z
LAST-MODIFIED:20231230T150159Z
UID:5434-1724025600-1724111999@thesanctuaryhoa.net
SUMMARY:Equipment Delivery
DESCRIPTION:
URL:http://thesanctuaryhoa.net/event/equipment-delivery-2/
LOCATION:The Sanctuary Clubhouse\, 800 Sanctuary Drive\, Oviedo\, FL\, 32766
CATEGORIES:Community Events
END:VEVENT
BEGIN:VEVENT
DTSTART;TZID=America/New_York:20240817T160000
DTEND;TZID=America/New_York:20240817T220000
DTSTAMP:20260425T114033
CREATED:20240613T140537Z
LAST-MODIFIED:20240613T140537Z
UID:5669-1723910400-1723932000@thesanctuaryhoa.net
SUMMARY:Private Event
DESCRIPTION:
URL:http://thesanctuaryhoa.net/event/private-event-264/
LOCATION:The Sanctuary Clubhouse\, 800 Sanctuary Drive\, Oviedo\, FL\, 32766
CATEGORIES:Private Events
END:VEVENT
BEGIN:VEVENT
DTSTART;VALUE=DATE:20240816
DTEND;VALUE=DATE:20240817
DTSTAMP:20260425T114033
CREATED:20240712T132259Z
LAST-MODIFIED:20240712T132259Z
UID:5726-1723766400-1723852799@thesanctuaryhoa.net
SUMMARY:Back to School Bash
DESCRIPTION:
URL:http://thesanctuaryhoa.net/event/back-to-school-bash-2/
LOCATION:The Sanctuary Clubhouse\, 800 Sanctuary Drive\, Oviedo\, FL\, 32766
CATEGORIES:Community Events
END:VEVENT
BEGIN:VEVENT
DTSTART;TZID=America/New_York:20240814T100000
DTEND;TZID=America/New_York:20240814T150000
DTSTAMP:20260425T114033
CREATED:20240722T220622Z
LAST-MODIFIED:20240722T220622Z
UID:5756-1723629600-1723647600@thesanctuaryhoa.net
SUMMARY:Private Event
DESCRIPTION:
URL:http://thesanctuaryhoa.net/event/private-event-291/
LOCATION:Splash Pad\, 800 Sanctuary Drive\, Oviedo\, FL\, 32766
CATEGORIES:Private Events
END:VEVENT
BEGIN:VEVENT
DTSTART;TZID=America/New_York:20240813T180000
DTEND;TZID=America/New_York:20240813T190000
DTSTAMP:20260425T114033
CREATED:20240716T161057Z
LAST-MODIFIED:20240716T161057Z
UID:5731-1723572000-1723575600@thesanctuaryhoa.net
SUMMARY:Private Event
DESCRIPTION:
URL:http://thesanctuaryhoa.net/event/private-event-282/
LOCATION:The Sanctuary Clubhouse\, 800 Sanctuary Drive\, Oviedo\, FL\, 32766
CATEGORIES:Private Events
END:VEVENT
BEGIN:VEVENT
DTSTART;TZID=America/New_York:20240811T140000
DTEND;TZID=America/New_York:20240811T200000
DTSTAMP:20260425T114033
CREATED:20240722T140735Z
LAST-MODIFIED:20240722T140735Z
UID:5744-1723384800-1723406400@thesanctuaryhoa.net
SUMMARY:Private Event
DESCRIPTION:
URL:http://thesanctuaryhoa.net/event/private-event-287/
LOCATION:East Pool Pavilion\, 800 Sanctuary Drive\, Oviedo\, FL\, 32766
CATEGORIES:Private Events
END:VEVENT
BEGIN:VEVENT
DTSTART;TZID=America/New_York:20240811T100000
DTEND;TZID=America/New_York:20240811T160000
DTSTAMP:20260425T114033
CREATED:20240620T214218Z
LAST-MODIFIED:20240620T214218Z
UID:5690-1723370400-1723392000@thesanctuaryhoa.net
SUMMARY:Private Event
DESCRIPTION:
URL:http://thesanctuaryhoa.net/event/private-event-270/
LOCATION:The Sanctuary Clubhouse\, 800 Sanctuary Drive\, Oviedo\, FL\, 32766
CATEGORIES:Private Events
END:VEVENT
BEGIN:VEVENT
DTSTART;TZID=America/New_York:20240810T103000
DTEND;TZID=America/New_York:20240810T153000
DTSTAMP:20260425T114033
CREATED:20240722T141042Z
LAST-MODIFIED:20240722T141042Z
UID:5746-1723285800-1723303800@thesanctuaryhoa.net
SUMMARY:Private Event
DESCRIPTION:
URL:http://thesanctuaryhoa.net/event/private-event-288/
LOCATION:East Pool Pavilion\, 800 Sanctuary Drive\, Oviedo\, FL\, 32766
CATEGORIES:Private Events
END:VEVENT
BEGIN:VEVENT
DTSTART;TZID=America/New_York:20240810T100000
DTEND;TZID=America/New_York:20240810T150000
DTSTAMP:20260425T114033
CREATED:20240613T171045Z
LAST-MODIFIED:20240613T171045Z
UID:5671-1723284000-1723302000@thesanctuaryhoa.net
SUMMARY:Private Event
DESCRIPTION:
URL:http://thesanctuaryhoa.net/event/private-event-265/
LOCATION:The Sanctuary Clubhouse\, 800 Sanctuary Drive\, Oviedo\, FL\, 32766
CATEGORIES:Private Events
END:VEVENT
BEGIN:VEVENT
DTSTART;TZID=America/New_York:20240809T163000
DTEND;TZID=America/New_York:20240809T213000
DTSTAMP:20260425T114033
CREATED:20240722T214708Z
LAST-MODIFIED:20240722T214708Z
UID:5751-1723221000-1723239000@thesanctuaryhoa.net
SUMMARY:Private Event
DESCRIPTION:
URL:http://thesanctuaryhoa.net/event/private-event-289/
LOCATION:The Sanctuary Clubhouse\, 800 Sanctuary Drive\, Oviedo\, FL\, 32766
CATEGORIES:Private Events
END:VEVENT
BEGIN:VEVENT
DTSTART;TZID=America/New_York:20240808T190000
DTEND;TZID=America/New_York:20240808T190000
DTSTAMP:20260425T114033
CREATED:20231129T001037Z
LAST-MODIFIED:20231129T211519Z
UID:5348-1723143600-1723143600@thesanctuaryhoa.net
SUMMARY:ARC Meeting
DESCRIPTION:
URL:http://thesanctuaryhoa.net/event/arc-meeting-24/
LOCATION:The Sanctuary Clubhouse\, 800 Sanctuary Drive\, Oviedo\, FL\, 32766
CATEGORIES:Community Events
END:VEVENT
BEGIN:VEVENT
DTSTART;VALUE=DATE:20240805
DTEND;VALUE=DATE:20240806
DTSTAMP:20260425T114033
CREATED:20231129T213023Z
LAST-MODIFIED:20231129T213023Z
UID:5388-1722816000-1722902399@thesanctuaryhoa.net
SUMMARY:ARC Applications Due
DESCRIPTION:
URL:http://thesanctuaryhoa.net/event/arc-applications-due-18/
LOCATION:FL
CATEGORIES:Community Events
END:VEVENT
BEGIN:VEVENT
DTSTART;TZID=America/New_York:20240804T160000
DTEND;TZID=America/New_York:20240804T220000
DTSTAMP:20260425T114033
CREATED:20240613T140444Z
LAST-MODIFIED:20240613T140444Z
UID:5667-1722787200-1722808800@thesanctuaryhoa.net
SUMMARY:Private Event
DESCRIPTION:
URL:http://thesanctuaryhoa.net/event/private-event-263/
LOCATION:The Sanctuary Clubhouse\, 800 Sanctuary Drive\, Oviedo\, FL\, 32766
CATEGORIES:Private Events
END:VEVENT
BEGIN:VEVENT
DTSTART;TZID=America/New_York:20240804T093000
DTEND;TZID=America/New_York:20240804T153000
DTSTAMP:20260425T114033
CREATED:20240705T135843Z
LAST-MODIFIED:20240705T135843Z
UID:5710-1722763800-1722785400@thesanctuaryhoa.net
SUMMARY:Private Event
DESCRIPTION:
URL:http://thesanctuaryhoa.net/event/private-event-276/
LOCATION:East Pool Pavilion\, 800 Sanctuary Drive\, Oviedo\, FL\, 32766
CATEGORIES:Private Events
END:VEVENT
BEGIN:VEVENT
DTSTART;TZID=America/New_York:20240803T120000
DTEND;TZID=America/New_York:20240803T170000
DTSTAMP:20260425T114033
CREATED:20240708T162947Z
LAST-MODIFIED:20240708T162947Z
UID:5715-1722686400-1722704400@thesanctuaryhoa.net
SUMMARY:Private Event
DESCRIPTION:
URL:http://thesanctuaryhoa.net/event/private-event-278/
LOCATION:East Pool Pavilion\, 800 Sanctuary Drive\, Oviedo\, FL\, 32766
CATEGORIES:Private Events
END:VEVENT
BEGIN:VEVENT
DTSTART;TZID=America/New_York:20240731T100000
DTEND;TZID=America/New_York:20240731T150000
DTSTAMP:20260425T114033
CREATED:20240722T220410Z
LAST-MODIFIED:20240722T220410Z
UID:5753-1722420000-1722438000@thesanctuaryhoa.net
SUMMARY:Private Event
DESCRIPTION:
URL:http://thesanctuaryhoa.net/event/private-event-290/
LOCATION:Splash Pad\, 800 Sanctuary Drive\, Oviedo\, FL\, 32766
CATEGORIES:Private Events
END:VEVENT
BEGIN:VEVENT
DTSTART;TZID=America/New_York:20240728T140000
DTEND;TZID=America/New_York:20240728T193000
DTSTAMP:20260425T114033
CREATED:20240711T195518Z
LAST-MODIFIED:20240711T195518Z
UID:5722-1722175200-1722195000@thesanctuaryhoa.net
SUMMARY:Private Event
DESCRIPTION:
URL:http://thesanctuaryhoa.net/event/private-event-281/
LOCATION:Cabana\, 800 Sanctuary Drive\, Oviedo\, FL\, 32766
CATEGORIES:Private Events
END:VEVENT
BEGIN:VEVENT
DTSTART;TZID=America/New_York:20240728T120000
DTEND;TZID=America/New_York:20240728T170000
DTSTAMP:20260425T114033
CREATED:20240618T134640Z
LAST-MODIFIED:20240618T134640Z
UID:5682-1722168000-1722186000@thesanctuaryhoa.net
SUMMARY:Private Event
DESCRIPTION:
URL:http://thesanctuaryhoa.net/event/private-event-268/
LOCATION:The Sanctuary Clubhouse\, 800 Sanctuary Drive\, Oviedo\, FL\, 32766
CATEGORIES:Private Events
END:VEVENT
BEGIN:VEVENT
DTSTART;TZID=America/New_York:20240727T160000
DTEND;TZID=America/New_York:20240727T220000
DTSTAMP:20260425T114033
CREATED:20240611T171338Z
LAST-MODIFIED:20240611T171338Z
UID:5661-1722096000-1722117600@thesanctuaryhoa.net
SUMMARY:Private Event
DESCRIPTION:
URL:http://thesanctuaryhoa.net/event/private-event-260/
LOCATION:Cabana\, 800 Sanctuary Drive\, Oviedo\, FL\, 32766
CATEGORIES:Private Events
END:VEVENT
BEGIN:VEVENT
DTSTART;TZID=America/New_York:20240727T103000
DTEND;TZID=America/New_York:20240727T150000
DTSTAMP:20260425T114033
CREATED:20240603T150018Z
LAST-MODIFIED:20240603T150018Z
UID:5651-1722076200-1722092400@thesanctuaryhoa.net
SUMMARY:Private Event
DESCRIPTION:
URL:http://thesanctuaryhoa.net/event/private-event-256/
LOCATION:The Sanctuary Clubhouse\, 800 Sanctuary Drive\, Oviedo\, FL\, 32766
CATEGORIES:Private Events
END:VEVENT
BEGIN:VEVENT
DTSTART;TZID=America/New_York:20240726T110000
DTEND;TZID=America/New_York:20240726T140000
DTSTAMP:20260425T114033
CREATED:20240726T143629Z
LAST-MODIFIED:20240726T143629Z
UID:5760-1721991600-1722002400@thesanctuaryhoa.net
SUMMARY:Private Event
DESCRIPTION:
URL:http://thesanctuaryhoa.net/event/private-event-292/
LOCATION:The Sanctuary Clubhouse\, 800 Sanctuary Drive\, Oviedo\, FL\, 32766
CATEGORIES:Private Events
END:VEVENT
BEGIN:VEVENT
DTSTART;TZID=America/New_York:20240724T100000
DTEND;TZID=America/New_York:20240724T150000
DTSTAMP:20260425T114033
CREATED:20240722T214526Z
LAST-MODIFIED:20240722T214526Z
UID:5749-1721815200-1721833200@thesanctuaryhoa.net
SUMMARY:Private Event
DESCRIPTION:
URL:http://thesanctuaryhoa.net/event/private-event-248/
LOCATION:Splash Pad\, 800 Sanctuary Drive\, Oviedo\, FL\, 32766
CATEGORIES:Private Events
END:VEVENT
BEGIN:VEVENT
DTSTART;TZID=America/New_York:20240721T150000
DTEND;TZID=America/New_York:20240721T210000
DTSTAMP:20260425T114033
CREATED:20240704T154222Z
LAST-MODIFIED:20240704T154222Z
UID:5706-1721574000-1721595600@thesanctuaryhoa.net
SUMMARY:Private Event
DESCRIPTION:
URL:http://thesanctuaryhoa.net/event/private-event-274/
LOCATION:Splash Pad\, 800 Sanctuary Drive\, Oviedo\, FL\, 32766
END:VEVENT
BEGIN:VEVENT
DTSTART;TZID=America/New_York:20240721T120000
DTEND;TZID=America/New_York:20240721T180000
DTSTAMP:20260425T114033
CREATED:20240408T232008Z
LAST-MODIFIED:20240408T232008Z
UID:5571-1721563200-1721584800@thesanctuaryhoa.net
SUMMARY:Private Event
DESCRIPTION:
URL:http://thesanctuaryhoa.net/event/private-event-230/
LOCATION:The Sanctuary Clubhouse\, 800 Sanctuary Drive\, Oviedo\, FL\, 32766
CATEGORIES:Private Events
END:VEVENT
BEGIN:VEVENT
DTSTART;TZID=America/New_York:20240720T090000
DTEND;TZID=America/New_York:20240720T140000
DTSTAMP:20260425T114033
CREATED:20240602T204814Z
LAST-MODIFIED:20240602T204814Z
UID:5644-1721466000-1721484000@thesanctuaryhoa.net
SUMMARY:Private Event
DESCRIPTION:
URL:http://thesanctuaryhoa.net/event/private-event-253/
LOCATION:East Pool Pavilion\, 800 Sanctuary Drive\, Oviedo\, FL\, 32766
CATEGORIES:Private Events
END:VEVENT
BEGIN:VEVENT
DTSTART;TZID=America/New_York:20240719T170000
DTEND;TZID=America/New_York:20240719T230000
DTSTAMP:20260425T114033
CREATED:20240611T171232Z
LAST-MODIFIED:20240611T171232Z
UID:5659-1721408400-1721430000@thesanctuaryhoa.net
SUMMARY:Private Event
DESCRIPTION:
URL:http://thesanctuaryhoa.net/event/private-event-259/
LOCATION:The Sanctuary Clubhouse\, 800 Sanctuary Drive\, Oviedo\, FL\, 32766
CATEGORIES:Private Events
END:VEVENT
BEGIN:VEVENT
DTSTART;TZID=America/New_York:20240713T100000
DTEND;TZID=America/New_York:20240713T160000
DTSTAMP:20260425T114033
CREATED:20240513T235004Z
LAST-MODIFIED:20240513T235004Z
UID:5620-1720864800-1720886400@thesanctuaryhoa.net
SUMMARY:Private Event
DESCRIPTION:
URL:http://thesanctuaryhoa.net/event/private-event-246/
LOCATION:East Pool Pavilion\, 800 Sanctuary Drive\, Oviedo\, FL\, 32766
CATEGORIES:Private Events
END:VEVENT
BEGIN:VEVENT
DTSTART;TZID=America/New_York:20240713T100000
DTEND;TZID=America/New_York:20240713T130000
DTSTAMP:20260425T114033
CREATED:20240611T170923Z
LAST-MODIFIED:20240611T170923Z
UID:5657-1720864800-1720875600@thesanctuaryhoa.net
SUMMARY:Private Event
DESCRIPTION:
URL:http://thesanctuaryhoa.net/event/private-event-258/
LOCATION:The Sanctuary Clubhouse\, 800 Sanctuary Drive\, Oviedo\, FL\, 32766
CATEGORIES:Private Events
END:VEVENT
END:VCALENDAR