BEGIN:VCALENDAR
VERSION:2.0
PRODID:-//The Sanctuary Community Association, Inc. - ECPv6.15.1.1//NONSGML v1.0//EN
CALSCALE:GREGORIAN
METHOD:PUBLISH
X-ORIGINAL-URL:http://thesanctuaryhoa.net
X-WR-CALDESC:Events for The Sanctuary Community Association, Inc.
REFRESH-INTERVAL;VALUE=DURATION:PT1H
X-Robots-Tag:noindex
X-PUBLISHED-TTL:PT1H
BEGIN:VTIMEZONE
TZID:America/New_York
BEGIN:DAYLIGHT
TZOFFSETFROM:-0500
TZOFFSETTO:-0400
TZNAME:EDT
DTSTART:20260308T070000
END:DAYLIGHT
BEGIN:STANDARD
TZOFFSETFROM:-0400
TZOFFSETTO:-0500
TZNAME:EST
DTSTART:20261101T060000
END:STANDARD
END:VTIMEZONE
BEGIN:VEVENT
DTSTART;TZID=America/New_York:20260213T110000
DTEND;TZID=America/New_York:20260213T150000
DTSTAMP:20260423T195907
CREATED:20260120T231859Z
LAST-MODIFIED:20260129T231918Z
UID:6796-1770980400-1770994800@thesanctuaryhoa.net
SUMMARY:Private Event
DESCRIPTION:
URL:http://thesanctuaryhoa.net/event/private-event-564/
LOCATION:The Sanctuary Clubhouse\, 800 Sanctuary Drive\, Oviedo\, FL\, 32766
CATEGORIES:Private Events
END:VEVENT
BEGIN:VEVENT
DTSTART;VALUE=DATE:20260214
DTEND;VALUE=DATE:20260215
DTSTAMP:20260423T195907
CREATED:20251217T213736Z
LAST-MODIFIED:20251217T213736Z
UID:6733-1771027200-1771113599@thesanctuaryhoa.net
SUMMARY:Office Closed
DESCRIPTION:
URL:http://thesanctuaryhoa.net/event/office-closed-11/
LOCATION:FL
END:VEVENT
BEGIN:VEVENT
DTSTART;VALUE=DATE:20260216
DTEND;VALUE=DATE:20260217
DTSTAMP:20260423T195907
CREATED:20260213T175309Z
LAST-MODIFIED:20260213T175921Z
UID:6866-1771200000-1771286399@thesanctuaryhoa.net
SUMMARY:Office Closed
DESCRIPTION:
URL:http://thesanctuaryhoa.net/event/office-closed-12/
LOCATION:FL
CATEGORIES:Community Events
END:VEVENT
BEGIN:VEVENT
DTSTART;TZID=America/New_York:20260220T180000
DTEND;TZID=America/New_York:20260220T220000
DTSTAMP:20260423T195907
CREATED:20260122T205804Z
LAST-MODIFIED:20260206T173127Z
UID:6808-1771610400-1771624800@thesanctuaryhoa.net
SUMMARY:Private Event
DESCRIPTION:
URL:http://thesanctuaryhoa.net/event/private-event-567/
LOCATION:The Sanctuary Clubhouse\, 800 Sanctuary Drive\, Oviedo\, FL\, 32766
CATEGORIES:Private Events
END:VEVENT
BEGIN:VEVENT
DTSTART;TZID=America/New_York:20260221T170000
DTEND;TZID=America/New_York:20260221T210000
DTSTAMP:20260423T195907
CREATED:20260112T143534Z
LAST-MODIFIED:20260112T143534Z
UID:6772-1771693200-1771707600@thesanctuaryhoa.net
SUMMARY:Private Event
DESCRIPTION:
URL:http://thesanctuaryhoa.net/event/private-event-558/
LOCATION:The Sanctuary Clubhouse\, 800 Sanctuary Drive\, Oviedo\, FL\, 32766
CATEGORIES:Private Events
END:VEVENT
BEGIN:VEVENT
DTSTART;TZID=America/New_York:20260224T183000
DTEND;TZID=America/New_York:20260224T190000
DTSTAMP:20260423T195907
CREATED:20251210T232924Z
LAST-MODIFIED:20251210T232924Z
UID:6681-1771957800-1771959600@thesanctuaryhoa.net
SUMMARY:Board Meeting
DESCRIPTION:
URL:http://thesanctuaryhoa.net/event/board-meeting-12/
LOCATION:The Sanctuary Clubhouse\, 800 Sanctuary Drive\, Oviedo\, FL\, 32766
CATEGORIES:Private Events
END:VEVENT
BEGIN:VEVENT
DTSTART;TZID=America/New_York:20260228T090000
DTEND;TZID=America/New_York:20260228T150000
DTSTAMP:20260423T195907
CREATED:20260220T173829Z
LAST-MODIFIED:20260220T173829Z
UID:6902-1772269200-1772290800@thesanctuaryhoa.net
SUMMARY:Private Event
DESCRIPTION:
URL:http://thesanctuaryhoa.net/event/private-event-587/
LOCATION:The Sanctuary Clubhouse\, 800 Sanctuary Drive\, Oviedo\, FL\, 32766
CATEGORIES:Private Events
END:VEVENT
BEGIN:VEVENT
DTSTART;TZID=America/New_York:20260301T130000
DTEND;TZID=America/New_York:20260301T170000
DTSTAMP:20260423T195907
CREATED:20260125T005302Z
LAST-MODIFIED:20260125T005302Z
UID:6815-1772370000-1772384400@thesanctuaryhoa.net
SUMMARY:Private Event
DESCRIPTION:
URL:http://thesanctuaryhoa.net/event/private-event-569/
LOCATION:East Pool Pavilion\, 800 Sanctuary Drive\, Oviedo\, FL\, 32766
CATEGORIES:Private Events
END:VEVENT
BEGIN:VEVENT
DTSTART;TZID=America/New_York:20260307T093000
DTEND;TZID=America/New_York:20260307T153000
DTSTAMP:20260423T195907
CREATED:20260218T154653Z
LAST-MODIFIED:20260218T154653Z
UID:6896-1772875800-1772897400@thesanctuaryhoa.net
SUMMARY:Private Event
DESCRIPTION:
URL:http://thesanctuaryhoa.net/event/private-event-584/
LOCATION:Cabana\, 800 Sanctuary Drive\, Oviedo\, FL\, 32766
CATEGORIES:Private Events
END:VEVENT
BEGIN:VEVENT
DTSTART;TZID=America/New_York:20260308T113000
DTEND;TZID=America/New_York:20260308T163000
DTSTAMP:20260423T195907
CREATED:20260218T160242Z
LAST-MODIFIED:20260218T160242Z
UID:6898-1772969400-1772987400@thesanctuaryhoa.net
SUMMARY:Private Event
DESCRIPTION:
URL:http://thesanctuaryhoa.net/event/private-event-585/
LOCATION:East Pool Pavilion\, 800 Sanctuary Drive\, Oviedo\, FL\, 32766
CATEGORIES:Private Events
END:VEVENT
BEGIN:VEVENT
DTSTART;TZID=America/New_York:20260308T120000
DTEND;TZID=America/New_York:20260308T180000
DTSTAMP:20260423T195907
CREATED:20260214T004615Z
LAST-MODIFIED:20260214T004615Z
UID:6887-1772971200-1772992800@thesanctuaryhoa.net
SUMMARY:Private Event
DESCRIPTION:
URL:http://thesanctuaryhoa.net/event/private-event-582/
LOCATION:The Sanctuary Clubhouse\, 800 Sanctuary Drive\, Oviedo\, FL\, 32766
CATEGORIES:Private Events
END:VEVENT
BEGIN:VEVENT
DTSTART;VALUE=DATE:20260309
DTEND;VALUE=DATE:20260310
DTSTAMP:20260423T195907
CREATED:20251203T132655Z
LAST-MODIFIED:20251203T132655Z
UID:6622-1773014400-1773100799@thesanctuaryhoa.net
SUMMARY:ARC Applications Due
DESCRIPTION:
URL:http://thesanctuaryhoa.net/event/arc-applications-due-42/
LOCATION:FL
CATEGORIES:Community Events
END:VEVENT
BEGIN:VEVENT
DTSTART;TZID=America/New_York:20260310T183000
DTEND;TZID=America/New_York:20260310T200000
DTSTAMP:20260423T195907
CREATED:20260108T230533Z
LAST-MODIFIED:20260108T230533Z
UID:6763-1773167400-1773172800@thesanctuaryhoa.net
SUMMARY:Private Event
DESCRIPTION:
URL:http://thesanctuaryhoa.net/event/private-event-555/
LOCATION:The Sanctuary Clubhouse\, 800 Sanctuary Drive\, Oviedo\, FL\, 32766
CATEGORIES:Private Events
END:VEVENT
BEGIN:VEVENT
DTSTART;TZID=America/New_York:20260312T190000
DTEND;TZID=America/New_York:20260312T190000
DTSTAMP:20260423T195907
CREATED:20251203T133426Z
LAST-MODIFIED:20251203T133426Z
UID:6646-1773342000-1773342000@thesanctuaryhoa.net
SUMMARY:ARC Meeting
DESCRIPTION:
URL:http://thesanctuaryhoa.net/event/arc-meeting-43/
LOCATION:The Sanctuary Clubhouse\, 800 Sanctuary Drive\, Oviedo\, FL\, 32766
CATEGORIES:Community Events
END:VEVENT
BEGIN:VEVENT
DTSTART;TZID=America/New_York:20260313T190000
DTEND;TZID=America/New_York:20260313T210000
DTSTAMP:20260423T195907
CREATED:20260213T214221Z
LAST-MODIFIED:20260213T214221Z
UID:6881-1773428400-1773435600@thesanctuaryhoa.net
SUMMARY:Private Event
DESCRIPTION:
URL:http://thesanctuaryhoa.net/event/private-event-580/
LOCATION:The Sanctuary Clubhouse\, 800 Sanctuary Drive\, Oviedo\, FL\, 32766
CATEGORIES:Private Events
END:VEVENT
BEGIN:VEVENT
DTSTART;TZID=America/New_York:20260314T110000
DTEND;TZID=America/New_York:20260314T150000
DTSTAMP:20260423T195907
CREATED:20260206T173236Z
LAST-MODIFIED:20260206T173236Z
UID:6838-1773486000-1773500400@thesanctuaryhoa.net
SUMMARY:Private Event
DESCRIPTION:
URL:http://thesanctuaryhoa.net/event/private-event-574/
LOCATION:The Sanctuary Clubhouse\, 800 Sanctuary Drive\, Oviedo\, FL\, 32766
CATEGORIES:Private Events
END:VEVENT
BEGIN:VEVENT
DTSTART;TZID=America/New_York:20260315T100000
DTEND;TZID=America/New_York:20260315T160000
DTSTAMP:20260423T195907
CREATED:20260203T212821Z
LAST-MODIFIED:20260209T204828Z
UID:6831-1773568800-1773590400@thesanctuaryhoa.net
SUMMARY:Private Event
DESCRIPTION:
URL:http://thesanctuaryhoa.net/event/private-event-572/
LOCATION:Cabana\, 800 Sanctuary Drive\, Oviedo\, FL\, 32766
CATEGORIES:Private Events
END:VEVENT
BEGIN:VEVENT
DTSTART;TZID=America/New_York:20260315T140000
DTEND;TZID=America/New_York:20260315T163000
DTSTAMP:20260423T195907
CREATED:20260205T231759Z
LAST-MODIFIED:20260205T231759Z
UID:6835-1773583200-1773592200@thesanctuaryhoa.net
SUMMARY:Private Event
DESCRIPTION:
URL:http://thesanctuaryhoa.net/event/private-event-573/
LOCATION:The Sanctuary Clubhouse\, 800 Sanctuary Drive\, Oviedo\, FL\, 32766
CATEGORIES:Private Events
END:VEVENT
BEGIN:VEVENT
DTSTART;TZID=America/New_York:20260316T150000
DTEND;TZID=America/New_York:20260316T200000
DTSTAMP:20260423T195907
CREATED:20260307T193653Z
LAST-MODIFIED:20260307T193653Z
UID:6928-1773673200-1773691200@thesanctuaryhoa.net
SUMMARY:Private Event
DESCRIPTION:
URL:http://thesanctuaryhoa.net/event/private-event-592/
LOCATION:The Sanctuary Clubhouse\, 800 Sanctuary Drive\, Oviedo\, FL\, 32766
CATEGORIES:Private Events
END:VEVENT
BEGIN:VEVENT
DTSTART;TZID=America/New_York:20260319T160000
DTEND;TZID=America/New_York:20260319T220000
DTSTAMP:20260423T195907
CREATED:20260317T161551Z
LAST-MODIFIED:20260317T194622Z
UID:6953-1773936000-1773957600@thesanctuaryhoa.net
SUMMARY:Private Event
DESCRIPTION:
URL:http://thesanctuaryhoa.net/event/private-event-600/
LOCATION:The Sanctuary Clubhouse\, 800 Sanctuary Drive\, Oviedo\, FL\, 32766
CATEGORIES:Private Events
END:VEVENT
BEGIN:VEVENT
DTSTART;TZID=America/New_York:20260320T180000
DTEND;TZID=America/New_York:20260320T220000
DTSTAMP:20260423T195907
CREATED:20260317T211228Z
LAST-MODIFIED:20260317T211228Z
UID:6956-1774029600-1774044000@thesanctuaryhoa.net
SUMMARY:Private Event
DESCRIPTION:
URL:http://thesanctuaryhoa.net/event/private-event-601/
LOCATION:The Sanctuary Clubhouse\, 800 Sanctuary Drive\, Oviedo\, FL\, 32766
CATEGORIES:Private Events
END:VEVENT
BEGIN:VEVENT
DTSTART;TZID=America/New_York:20260321T170000
DTEND;TZID=America/New_York:20260321T230000
DTSTAMP:20260423T195907
CREATED:20260316T150245Z
LAST-MODIFIED:20260316T150245Z
UID:6950-1774112400-1774134000@thesanctuaryhoa.net
SUMMARY:Private Event
DESCRIPTION:
URL:http://thesanctuaryhoa.net/event/private-event-599/
LOCATION:The Sanctuary Clubhouse\, 800 Sanctuary Drive\, Oviedo\, FL\, 32766
CATEGORIES:Private Events
END:VEVENT
BEGIN:VEVENT
DTSTART;TZID=America/New_York:20260322T150000
DTEND;TZID=America/New_York:20260322T210000
DTSTAMP:20260423T195907
CREATED:20260303T193550Z
LAST-MODIFIED:20260303T193550Z
UID:6923-1774191600-1774213200@thesanctuaryhoa.net
SUMMARY:Private Event
DESCRIPTION:
URL:http://thesanctuaryhoa.net/event/private-event-590/
LOCATION:The Sanctuary Clubhouse\, 800 Sanctuary Drive\, Oviedo\, FL\, 32766
CATEGORIES:Private Events
END:VEVENT
BEGIN:VEVENT
DTSTART;TZID=America/New_York:20260328T110000
DTEND;TZID=America/New_York:20260328T170000
DTSTAMP:20260423T195907
CREATED:20260307T213459Z
LAST-MODIFIED:20260307T213459Z
UID:6931-1774695600-1774717200@thesanctuaryhoa.net
SUMMARY:Private Event
DESCRIPTION:
URL:http://thesanctuaryhoa.net/event/private-event-593/
LOCATION:Cabana\, 800 Sanctuary Drive\, Oviedo\, FL\, 32766
CATEGORIES:Private Events
END:VEVENT
BEGIN:VEVENT
DTSTART;TZID=America/New_York:20260328T130000
DTEND;TZID=America/New_York:20260328T170000
DTSTAMP:20260423T195907
CREATED:20260202T170549Z
LAST-MODIFIED:20260218T154505Z
UID:6825-1774702800-1774717200@thesanctuaryhoa.net
SUMMARY:Private Event
DESCRIPTION:
URL:http://thesanctuaryhoa.net/event/private-event-571/
LOCATION:The Sanctuary Clubhouse\, 800 Sanctuary Drive\, Oviedo\, FL\, 32766
CATEGORIES:Private Events
END:VEVENT
BEGIN:VEVENT
DTSTART;VALUE=DATE:20260329
DTEND;VALUE=DATE:20260330
DTSTAMP:20260423T195907
CREATED:20251217T220029Z
LAST-MODIFIED:20251217T220029Z
UID:6735-1774742400-1774828799@thesanctuaryhoa.net
SUMMARY:Easter Event
DESCRIPTION:
URL:http://thesanctuaryhoa.net/event/easter-event/
LOCATION:FL
CATEGORIES:Community Events
END:VEVENT
BEGIN:VEVENT
DTSTART;TZID=America/New_York:20260403T170000
DTEND;TZID=America/New_York:20260403T210000
DTSTAMP:20260423T195907
CREATED:20260206T220503Z
LAST-MODIFIED:20260206T221404Z
UID:6840-1775235600-1775250000@thesanctuaryhoa.net
SUMMARY:Private Event
DESCRIPTION:
URL:http://thesanctuaryhoa.net/event/private-event-575/
LOCATION:The Sanctuary Clubhouse\, 800 Sanctuary Drive\, Oviedo\, FL\, 32766
CATEGORIES:Private Events
END:VEVENT
BEGIN:VEVENT
DTSTART;TZID=America/New_York:20260404T120000
DTEND;TZID=America/New_York:20260404T180000
DTSTAMP:20260423T195907
CREATED:20251013T121123Z
LAST-MODIFIED:20251013T121123Z
UID:6526-1775304000-1775325600@thesanctuaryhoa.net
SUMMARY:Private Event
DESCRIPTION:
URL:http://thesanctuaryhoa.net/event/private-event-520/
LOCATION:The Sanctuary Clubhouse\, 800 Sanctuary Drive\, Oviedo\, FL\, 32766
CATEGORIES:Private Events
END:VEVENT
BEGIN:VEVENT
DTSTART;TZID=America/New_York:20260404T120000
DTEND;TZID=America/New_York:20260404T180000
DTSTAMP:20260423T195907
CREATED:20260325T222059Z
LAST-MODIFIED:20260325T222059Z
UID:6967-1775304000-1775325600@thesanctuaryhoa.net
SUMMARY:Private Event
DESCRIPTION:
URL:http://thesanctuaryhoa.net/event/private-event-603/
LOCATION:East Pool Pavilion\, 800 Sanctuary Drive\, Oviedo\, FL\, 32766
CATEGORIES:Private Events
END:VEVENT
BEGIN:VEVENT
DTSTART;VALUE=DATE:20260406
DTEND;VALUE=DATE:20260407
DTSTAMP:20260423T195907
CREATED:20251203T132722Z
LAST-MODIFIED:20251203T132722Z
UID:6624-1775433600-1775519999@thesanctuaryhoa.net
SUMMARY:ARC Applications Due
DESCRIPTION:
URL:http://thesanctuaryhoa.net/event/arc-applications-due-43/
LOCATION:FL
CATEGORIES:Community Events
END:VEVENT
END:VCALENDAR