BEGIN:VCALENDAR
VERSION:2.0
PRODID:-//The Sanctuary Community Association, Inc. - ECPv6.15.1.1//NONSGML v1.0//EN
CALSCALE:GREGORIAN
METHOD:PUBLISH
X-WR-CALNAME:The Sanctuary Community Association, Inc.
X-ORIGINAL-URL:http://thesanctuaryhoa.net
X-WR-CALDESC:Events for The Sanctuary Community Association, Inc.
REFRESH-INTERVAL;VALUE=DURATION:PT1H
X-Robots-Tag:noindex
X-PUBLISHED-TTL:PT1H
BEGIN:VTIMEZONE
TZID:America/New_York
BEGIN:DAYLIGHT
TZOFFSETFROM:-0500
TZOFFSETTO:-0400
TZNAME:EDT
DTSTART:20230312T070000
END:DAYLIGHT
BEGIN:STANDARD
TZOFFSETFROM:-0400
TZOFFSETTO:-0500
TZNAME:EST
DTSTART:20231105T060000
END:STANDARD
BEGIN:DAYLIGHT
TZOFFSETFROM:-0500
TZOFFSETTO:-0400
TZNAME:EDT
DTSTART:20240310T070000
END:DAYLIGHT
BEGIN:STANDARD
TZOFFSETFROM:-0400
TZOFFSETTO:-0500
TZNAME:EST
DTSTART:20241103T060000
END:STANDARD
END:VTIMEZONE
BEGIN:VEVENT
DTSTART;TZID=America/New_York:20240116T190000
DTEND;TZID=America/New_York:20240116T220000
DTSTAMP:20260425T184219
CREATED:20231206T001727Z
LAST-MODIFIED:20231206T001727Z
UID:5409-1705431600-1705442400@thesanctuaryhoa.net
SUMMARY:Private Event
DESCRIPTION:
URL:http://thesanctuaryhoa.net/event/private-event-189/
LOCATION:The Sanctuary Clubhouse\, 800 Sanctuary Drive\, Oviedo\, FL\, 32766
CATEGORIES:Private Events
END:VEVENT
BEGIN:VEVENT
DTSTART;TZID=America/New_York:20240111T190000
DTEND;TZID=America/New_York:20240111T190000
DTSTAMP:20260425T184219
CREATED:20231128T235701Z
LAST-MODIFIED:20231129T211907Z
UID:5334-1704999600-1704999600@thesanctuaryhoa.net
SUMMARY:ARC Meeting
DESCRIPTION:
URL:http://thesanctuaryhoa.net/event/arc-meeting-12/
LOCATION:The Sanctuary Clubhouse\, 800 Sanctuary Drive\, Oviedo\, FL\, 32766
CATEGORIES:Community Events
END:VEVENT
BEGIN:VEVENT
DTSTART;TZID=America/New_York:20240109T190000
DTEND;TZID=America/New_York:20240109T220000
DTSTAMP:20260425T184219
CREATED:20231206T001654Z
LAST-MODIFIED:20231206T001654Z
UID:5407-1704826800-1704837600@thesanctuaryhoa.net
SUMMARY:Private Event
DESCRIPTION:
URL:http://thesanctuaryhoa.net/event/private-event-188/
LOCATION:The Sanctuary Clubhouse\, 800 Sanctuary Drive\, Oviedo\, FL\, 32766
CATEGORIES:Private Events
END:VEVENT
BEGIN:VEVENT
DTSTART;VALUE=DATE:20240108
DTEND;VALUE=DATE:20240109
DTSTAMP:20260425T184219
CREATED:20231129T212328Z
LAST-MODIFIED:20231129T212328Z
UID:5372-1704672000-1704758399@thesanctuaryhoa.net
SUMMARY:ARC Applications Due
DESCRIPTION:
URL:http://thesanctuaryhoa.net/event/arc-applications-due-11/
LOCATION:FL
CATEGORIES:Community Events
END:VEVENT
BEGIN:VEVENT
DTSTART;TZID=America/New_York:20240107T140000
DTEND;TZID=America/New_York:20240107T160000
DTSTAMP:20260425T184219
CREATED:20230123T201557Z
LAST-MODIFIED:20230123T201557Z
UID:4923-1704636000-1704643200@thesanctuaryhoa.net
SUMMARY:Snacks & Shredding
DESCRIPTION:
URL:http://thesanctuaryhoa.net/event/snacks-shredding/
LOCATION:The Sanctuary Clubhouse\, 800 Sanctuary Drive\, Oviedo\, FL\, 32766
CATEGORIES:Community Events
END:VEVENT
BEGIN:VEVENT
DTSTART;TZID=America/New_York:20240102T190000
DTEND;TZID=America/New_York:20240102T220000
DTSTAMP:20260425T184219
CREATED:20231206T001545Z
LAST-MODIFIED:20231206T001545Z
UID:5405-1704222000-1704232800@thesanctuaryhoa.net
SUMMARY:Private Event
DESCRIPTION:
URL:http://thesanctuaryhoa.net/event/private-event-187/
LOCATION:The Sanctuary Clubhouse\, 800 Sanctuary Drive\, Oviedo\, FL\, 32766
CATEGORIES:Private Events
END:VEVENT
BEGIN:VEVENT
DTSTART;TZID=America/New_York:20240101T170000
DTEND;TZID=America/New_York:20240101T223000
DTSTAMP:20260425T184219
CREATED:20231114T225128Z
LAST-MODIFIED:20231129T211901Z
UID:5310-1704128400-1704148200@thesanctuaryhoa.net
SUMMARY:Private Event
DESCRIPTION:
URL:http://thesanctuaryhoa.net/event/private-event-180/
LOCATION:The Sanctuary Clubhouse\, 800 Sanctuary Drive\, Oviedo\, FL\, 32766
CATEGORIES:Private Events
END:VEVENT
BEGIN:VEVENT
DTSTART;TZID=America/New_York:20231230T120000
DTEND;TZID=America/New_York:20231230T190000
DTSTAMP:20260425T184219
CREATED:20231108T003043Z
LAST-MODIFIED:20231129T211850Z
UID:5304-1703937600-1703962800@thesanctuaryhoa.net
SUMMARY:Private Event
DESCRIPTION:
URL:http://thesanctuaryhoa.net/event/private-event-177/
LOCATION:The Sanctuary Clubhouse\, 800 Sanctuary Drive\, Oviedo\, FL\, 32766
CATEGORIES:Private Events
END:VEVENT
BEGIN:VEVENT
DTSTART;TZID=America/New_York:20231225T180000
DTEND;TZID=America/New_York:20231225T233000
DTSTAMP:20260425T184219
CREATED:20231127T231134Z
LAST-MODIFIED:20231129T211844Z
UID:5332-1703527200-1703547000@thesanctuaryhoa.net
SUMMARY:Private Event
DESCRIPTION:
URL:http://thesanctuaryhoa.net/event/private-event-184/
LOCATION:The Sanctuary Clubhouse\, 800 Sanctuary Drive\, Oviedo\, FL\, 32766
CATEGORIES:Private Events
END:VEVENT
BEGIN:VEVENT
DTSTART;VALUE=DATE:20231225
DTEND;VALUE=DATE:20231226
DTSTAMP:20260425T184219
CREATED:20231219T211021Z
LAST-MODIFIED:20231219T211021Z
UID:5419-1703462400-1703548799@thesanctuaryhoa.net
SUMMARY:Office Closed
DESCRIPTION:
URL:http://thesanctuaryhoa.net/event/office-closed-2/
LOCATION:The Sanctuary Clubhouse\, 800 Sanctuary Drive\, Oviedo\, FL\, 32766
END:VEVENT
BEGIN:VEVENT
DTSTART;TZID=America/New_York:20231224T170000
DTEND;TZID=America/New_York:20231224T230000
DTSTAMP:20260425T184219
CREATED:20231114T224642Z
LAST-MODIFIED:20231129T211841Z
UID:5306-1703437200-1703458800@thesanctuaryhoa.net
SUMMARY:Private Event
DESCRIPTION:
URL:http://thesanctuaryhoa.net/event/private-event-178/
LOCATION:The Sanctuary Clubhouse\, 800 Sanctuary Drive\, Oviedo\, FL\, 32766
CATEGORIES:Private Events
END:VEVENT
BEGIN:VEVENT
DTSTART;TZID=America/New_York:20231219T183000
DTEND;TZID=America/New_York:20231219T213000
DTSTAMP:20260425T184219
CREATED:20231031T231517Z
LAST-MODIFIED:20231129T211837Z
UID:5285-1703010600-1703021400@thesanctuaryhoa.net
SUMMARY:Private Event
DESCRIPTION:
URL:http://thesanctuaryhoa.net/event/private-event-171/
LOCATION:The Sanctuary Clubhouse\, 800 Sanctuary Drive\, Oviedo\, FL\, 32766
CATEGORIES:Private Events
END:VEVENT
BEGIN:VEVENT
DTSTART;TZID=America/New_York:20231217T120000
DTEND;TZID=America/New_York:20231217T180000
DTSTAMP:20260425T184219
CREATED:20231130T220530Z
LAST-MODIFIED:20231130T220530Z
UID:5393-1702814400-1702836000@thesanctuaryhoa.net
SUMMARY:Private Event
DESCRIPTION:
URL:http://thesanctuaryhoa.net/event/private-event-185/
LOCATION:The Sanctuary Clubhouse\, 800 Sanctuary Drive\, Oviedo\, FL\, 32766
CATEGORIES:Private Events
END:VEVENT
BEGIN:VEVENT
DTSTART;TZID=America/New_York:20231216T100000
DTEND;TZID=America/New_York:20231216T140000
DTSTAMP:20260425T184219
CREATED:20231108T003011Z
LAST-MODIFIED:20231129T211831Z
UID:5302-1702720800-1702735200@thesanctuaryhoa.net
SUMMARY:Private Event
DESCRIPTION:
URL:http://thesanctuaryhoa.net/event/private-event-176/
LOCATION:The Sanctuary Clubhouse\, 800 Sanctuary Drive\, Oviedo\, FL\, 32766
CATEGORIES:Private Events
END:VEVENT
BEGIN:VEVENT
DTSTART;TZID=America/New_York:20231215T110000
DTEND;TZID=America/New_York:20231215T170000
DTSTAMP:20260425T184219
CREATED:20231204T232440Z
LAST-MODIFIED:20231204T232440Z
UID:5395-1702638000-1702659600@thesanctuaryhoa.net
SUMMARY:Private Event
DESCRIPTION:
URL:http://thesanctuaryhoa.net/event/private-event-186/
LOCATION:The Sanctuary Clubhouse\, 800 Sanctuary Drive\, Oviedo\, FL\, 32766
CATEGORIES:Private Events
END:VEVENT
BEGIN:VEVENT
DTSTART;TZID=America/New_York:20231214T200000
DTEND;TZID=America/New_York:20231214T200000
DTSTAMP:20260425T184219
CREATED:20230123T201234Z
LAST-MODIFIED:20230123T201234Z
UID:4915-1702584000-1702584000@thesanctuaryhoa.net
SUMMARY:ARC Meeting
DESCRIPTION:
URL:http://thesanctuaryhoa.net/event/arc-meeting-11/
LOCATION:The Sanctuary Clubhouse\, 800 Sanctuary Drive\, Oviedo\, FL\, 32766
CATEGORIES:Community Events
END:VEVENT
BEGIN:VEVENT
DTSTART;TZID=America/New_York:20231212T183000
DTEND;TZID=America/New_York:20231212T213000
DTSTAMP:20260425T184219
CREATED:20231031T231437Z
LAST-MODIFIED:20231129T211828Z
UID:5283-1702405800-1702416600@thesanctuaryhoa.net
SUMMARY:Private Event
DESCRIPTION:
URL:http://thesanctuaryhoa.net/event/private-event-170/
LOCATION:The Sanctuary Clubhouse\, 800 Sanctuary Drive\, Oviedo\, FL\, 32766
CATEGORIES:Private Events
END:VEVENT
BEGIN:VEVENT
DTSTART;VALUE=DATE:20231211
DTEND;VALUE=DATE:20231212
DTSTAMP:20260425T184219
CREATED:20230123T201338Z
LAST-MODIFIED:20231129T211821Z
UID:4919-1702252800-1702339199@thesanctuaryhoa.net
SUMMARY:ARC Applications Due
DESCRIPTION:
URL:http://thesanctuaryhoa.net/event/arc-applications-due-9/
LOCATION:FL
CATEGORIES:Community Events
END:VEVENT
BEGIN:VEVENT
DTSTART;TZID=America/New_York:20231210T130000
DTEND;TZID=America/New_York:20231210T160000
DTSTAMP:20260425T184219
CREATED:20231108T002858Z
LAST-MODIFIED:20231129T002750Z
UID:5300-1702213200-1702224000@thesanctuaryhoa.net
SUMMARY:Winter Festival
DESCRIPTION:
URL:http://thesanctuaryhoa.net/event/winter-festival-3/
LOCATION:The Sanctuary Clubhouse\, 800 Sanctuary Drive\, Oviedo\, FL\, 32766
CATEGORIES:Community Events
END:VEVENT
BEGIN:VEVENT
DTSTART;TZID=America/New_York:20231209T130000
DTEND;TZID=America/New_York:20231209T160000
DTSTAMP:20260425T184219
CREATED:20231013T155240Z
LAST-MODIFIED:20231013T155240Z
UID:5240-1702126800-1702137600@thesanctuaryhoa.net
SUMMARY:Private Event
DESCRIPTION:
URL:http://thesanctuaryhoa.net/event/private-event-155/
LOCATION:The Sanctuary Clubhouse\, 800 Sanctuary Drive\, Oviedo\, FL\, 32766
CATEGORIES:Private Events
END:VEVENT
BEGIN:VEVENT
DTSTART;TZID=America/New_York:20231208T070000
DTEND;TZID=America/New_York:20231208T220000
DTSTAMP:20260425T184219
CREATED:20230821T224722Z
LAST-MODIFIED:20231129T211814Z
UID:5181-1702018800-1702072800@thesanctuaryhoa.net
SUMMARY:Private Event
DESCRIPTION:
URL:http://thesanctuaryhoa.net/event/private-event-89/
LOCATION:The Sanctuary Clubhouse\, 800 Sanctuary Drive\, Oviedo\, FL\, 32766
CATEGORIES:Private Events
END:VEVENT
BEGIN:VEVENT
DTSTART;TZID=America/New_York:20231207T180000
DTEND;TZID=America/New_York:20231207T210000
DTSTAMP:20260425T184219
CREATED:20231108T002803Z
LAST-MODIFIED:20231129T211810Z
UID:5298-1701972000-1701982800@thesanctuaryhoa.net
SUMMARY:Private Event
DESCRIPTION:
URL:http://thesanctuaryhoa.net/event/private-event-175/
LOCATION:The Sanctuary Clubhouse\, 800 Sanctuary Drive\, Oviedo\, FL\, 32766
CATEGORIES:Private Events
END:VEVENT
BEGIN:VEVENT
DTSTART;TZID=America/New_York:20231205T183000
DTEND;TZID=America/New_York:20231205T213000
DTSTAMP:20260425T184219
CREATED:20231031T231417Z
LAST-MODIFIED:20231129T211805Z
UID:5281-1701801000-1701811800@thesanctuaryhoa.net
SUMMARY:Private Event
DESCRIPTION:
URL:http://thesanctuaryhoa.net/event/private-event-169/
LOCATION:The Sanctuary Clubhouse\, 800 Sanctuary Drive\, Oviedo\, FL\, 32766
CATEGORIES:Private Events
END:VEVENT
BEGIN:VEVENT
DTSTART;TZID=America/New_York:20231202T090000
DTEND;TZID=America/New_York:20231202T150000
DTSTAMP:20260425T184219
CREATED:20231108T002718Z
LAST-MODIFIED:20231129T211759Z
UID:5296-1701507600-1701529200@thesanctuaryhoa.net
SUMMARY:Private Event
DESCRIPTION:
URL:http://thesanctuaryhoa.net/event/private-event-174/
LOCATION:The Sanctuary Clubhouse\, 800 Sanctuary Drive\, Oviedo\, FL\, 32766
CATEGORIES:Private Events
END:VEVENT
BEGIN:VEVENT
DTSTART;TZID=America/New_York:20231130T180000
DTEND;TZID=America/New_York:20231130T210000
DTSTAMP:20260425T184219
CREATED:20231026T200453Z
LAST-MODIFIED:20231129T211753Z
UID:5270-1701367200-1701378000@thesanctuaryhoa.net
SUMMARY:Private Event
DESCRIPTION:
URL:http://thesanctuaryhoa.net/event/private-event-165/
LOCATION:The Sanctuary Clubhouse\, 800 Sanctuary Drive\, Oviedo\, FL\, 32766
CATEGORIES:Private Events
END:VEVENT
BEGIN:VEVENT
DTSTART;TZID=America/New_York:20231128T183000
DTEND;TZID=America/New_York:20231128T213000
DTSTAMP:20260425T184219
CREATED:20231031T231353Z
LAST-MODIFIED:20231129T211748Z
UID:5279-1701196200-1701207000@thesanctuaryhoa.net
SUMMARY:Private Event
DESCRIPTION:
URL:http://thesanctuaryhoa.net/event/private-event-168/
LOCATION:The Sanctuary Clubhouse\, 800 Sanctuary Drive\, Oviedo\, FL\, 32766
CATEGORIES:Private Events
END:VEVENT
BEGIN:VEVENT
DTSTART;TZID=America/New_York:20231125T150000
DTEND;TZID=America/New_York:20231125T210000
DTSTAMP:20260425T184219
CREATED:20230918T165042Z
LAST-MODIFIED:20230918T165042Z
UID:5211-1700924400-1700946000@thesanctuaryhoa.net
SUMMARY:Private Event
DESCRIPTION:
URL:http://thesanctuaryhoa.net/event/private-event-144/
LOCATION:The Sanctuary Clubhouse\, 800 Sanctuary Drive\, Oviedo\, FL\, 32766
CATEGORIES:Private Events
END:VEVENT
BEGIN:VEVENT
DTSTART;TZID=America/New_York:20231123T170000
DTEND;TZID=America/New_York:20231123T230000
DTSTAMP:20260425T184219
CREATED:20231114T224938Z
LAST-MODIFIED:20231114T224938Z
UID:5308-1700758800-1700780400@thesanctuaryhoa.net
SUMMARY:Private Event
DESCRIPTION:
URL:http://thesanctuaryhoa.net/event/private-event-179/
LOCATION:The Sanctuary Clubhouse\, 800 Sanctuary Drive\, Oviedo\, FL\, 32766
END:VEVENT
BEGIN:VEVENT
DTSTART;TZID=America/New_York:20231121T183000
DTEND;TZID=America/New_York:20231121T213000
DTSTAMP:20260425T184219
CREATED:20231031T231331Z
LAST-MODIFIED:20231031T231331Z
UID:5277-1700591400-1700602200@thesanctuaryhoa.net
SUMMARY:Private Event
DESCRIPTION:
URL:http://thesanctuaryhoa.net/event/private-event-167/
LOCATION:The Sanctuary Clubhouse\, 800 Sanctuary Drive\, Oviedo\, FL\, 32766
END:VEVENT
BEGIN:VEVENT
DTSTART;TZID=America/New_York:20231120T160000
DTEND;TZID=America/New_York:20231120T220000
DTSTAMP:20260425T184219
CREATED:20231026T200427Z
LAST-MODIFIED:20231026T200427Z
UID:5268-1700496000-1700517600@thesanctuaryhoa.net
SUMMARY:Private Event
DESCRIPTION:
URL:http://thesanctuaryhoa.net/event/private-event-164/
LOCATION:The Sanctuary Clubhouse\, 800 Sanctuary Drive\, Oviedo\, FL\, 32766
END:VEVENT
END:VCALENDAR