BEGIN:VCALENDAR
VERSION:2.0
PRODID:-//The Sanctuary Community Association, Inc. - ECPv6.15.1.1//NONSGML v1.0//EN
CALSCALE:GREGORIAN
METHOD:PUBLISH
X-WR-CALNAME:The Sanctuary Community Association, Inc.
X-ORIGINAL-URL:http://thesanctuaryhoa.net
X-WR-CALDESC:Events for The Sanctuary Community Association, Inc.
REFRESH-INTERVAL;VALUE=DURATION:PT1H
X-Robots-Tag:noindex
X-PUBLISHED-TTL:PT1H
BEGIN:VTIMEZONE
TZID:America/New_York
BEGIN:DAYLIGHT
TZOFFSETFROM:-0500
TZOFFSETTO:-0400
TZNAME:EDT
DTSTART:20230312T070000
END:DAYLIGHT
BEGIN:STANDARD
TZOFFSETFROM:-0400
TZOFFSETTO:-0500
TZNAME:EST
DTSTART:20231105T060000
END:STANDARD
END:VTIMEZONE
BEGIN:VEVENT
DTSTART;TZID=America/New_York:20231104T120000
DTEND;TZID=America/New_York:20231104T180000
DTSTAMP:20260425T230324
CREATED:20231026T195457Z
LAST-MODIFIED:20231026T195457Z
UID:5251-1699099200-1699120800@thesanctuaryhoa.net
SUMMARY:Private Event
DESCRIPTION:
URL:http://thesanctuaryhoa.net/event/private-event-158/
LOCATION:The Sanctuary Clubhouse\, 800 Sanctuary Drive\, Oviedo\, FL\, 32766
END:VEVENT
BEGIN:VEVENT
DTSTART;TZID=America/New_York:20231102T180000
DTEND;TZID=America/New_York:20231102T210000
DTSTAMP:20260425T230324
CREATED:20231026T195418Z
LAST-MODIFIED:20231026T195418Z
UID:5249-1698948000-1698958800@thesanctuaryhoa.net
SUMMARY:Private Event
DESCRIPTION:
URL:http://thesanctuaryhoa.net/event/private-event-157/
LOCATION:The Sanctuary Clubhouse\, 800 Sanctuary Drive\, Oviedo\, FL\, 32766
END:VEVENT
BEGIN:VEVENT
DTSTART;TZID=America/New_York:20231031T063000
DTEND;TZID=America/New_York:20231031T220000
DTSTAMP:20260425T230324
CREATED:20231005T222824Z
LAST-MODIFIED:20231005T222824Z
UID:5234-1698733800-1698789600@thesanctuaryhoa.net
SUMMARY:Private Event
DESCRIPTION:
URL:http://thesanctuaryhoa.net/event/private-event-153/
LOCATION:The Sanctuary Clubhouse\, 800 Sanctuary Drive\, Oviedo\, FL\, 32766
END:VEVENT
BEGIN:VEVENT
DTSTART;TZID=America/New_York:20231028T160000
DTEND;TZID=America/New_York:20231028T220000
DTSTAMP:20260425T230324
CREATED:20231005T222749Z
LAST-MODIFIED:20231005T222749Z
UID:5232-1698508800-1698530400@thesanctuaryhoa.net
SUMMARY:Private Event
DESCRIPTION:
URL:http://thesanctuaryhoa.net/event/private-event-152/
LOCATION:The Sanctuary Clubhouse\, 800 Sanctuary Drive\, Oviedo\, FL\, 32766
END:VEVENT
BEGIN:VEVENT
DTSTART;TZID=America/New_York:20231026T183000
DTEND;TZID=America/New_York:20231026T210000
DTSTAMP:20260425T230324
CREATED:20231005T222714Z
LAST-MODIFIED:20231005T222714Z
UID:5230-1698345000-1698354000@thesanctuaryhoa.net
SUMMARY:Private Event
DESCRIPTION:
URL:http://thesanctuaryhoa.net/event/private-event-151/
LOCATION:The Sanctuary Clubhouse\, 800 Sanctuary Drive\, Oviedo\, FL\, 32766
END:VEVENT
BEGIN:VEVENT
DTSTART;TZID=America/New_York:20231024T183000
DTEND;TZID=America/New_York:20231024T183000
DTSTAMP:20260425T230324
CREATED:20230123T184947Z
LAST-MODIFIED:20230123T184947Z
UID:4865-1698172200-1698172200@thesanctuaryhoa.net
SUMMARY:Board of Directors Meeting (Budget)
DESCRIPTION:At the October 24\, 2023 meeting the 2023 budget will be discussed and presented. This meeting shall set the Base Assessment for Fiscal Year 2024.
URL:http://thesanctuaryhoa.net/event/board-of-directors-meeting-budget/
LOCATION:The Sanctuary Clubhouse\, 800 Sanctuary Drive\, Oviedo\, FL\, 32766
CATEGORIES:Community Events
END:VEVENT
BEGIN:VEVENT
DTSTART;TZID=America/New_York:20231022T110000
DTEND;TZID=America/New_York:20231022T160000
DTSTAMP:20260425T230324
CREATED:20231020T163744Z
LAST-MODIFIED:20231020T163744Z
UID:5242-1697972400-1697990400@thesanctuaryhoa.net
SUMMARY:Private Event
DESCRIPTION:
URL:http://thesanctuaryhoa.net/event/private-event-156/
LOCATION:Cabana\, 800 Sanctuary Drive\, Oviedo\, FL\, 32766
CATEGORIES:Private Events
END:VEVENT
BEGIN:VEVENT
DTSTART;TZID=America/New_York:20231020T070000
DTEND;TZID=America/New_York:20231020T220000
DTSTAMP:20260425T230324
CREATED:20230821T224811Z
LAST-MODIFIED:20230821T224811Z
UID:5183-1697785200-1697839200@thesanctuaryhoa.net
SUMMARY:Private Event
DESCRIPTION:
URL:http://thesanctuaryhoa.net/event/private-event-90/
LOCATION:The Sanctuary Clubhouse\, 800 Sanctuary Drive\, Oviedo\, FL\, 32766
END:VEVENT
BEGIN:VEVENT
DTSTART;TZID=America/New_York:20231019T183000
DTEND;TZID=America/New_York:20231019T210000
DTSTAMP:20260425T230324
CREATED:20231005T222625Z
LAST-MODIFIED:20231005T222625Z
UID:5228-1697740200-1697749200@thesanctuaryhoa.net
SUMMARY:Private Event
DESCRIPTION:
URL:http://thesanctuaryhoa.net/event/private-event-150/
LOCATION:The Sanctuary Clubhouse\, 800 Sanctuary Drive\, Oviedo\, FL\, 32766
END:VEVENT
BEGIN:VEVENT
DTSTART;TZID=America/New_York:20231018T070000
DTEND;TZID=America/New_York:20231018T130000
DTSTAMP:20260425T230324
CREATED:20231005T221414Z
LAST-MODIFIED:20231005T221414Z
UID:5226-1697612400-1697634000@thesanctuaryhoa.net
SUMMARY:Private Event
DESCRIPTION:
URL:http://thesanctuaryhoa.net/event/private-event-149/
LOCATION:The Sanctuary Clubhouse\, 800 Sanctuary Drive\, Oviedo\, FL\, 32766
END:VEVENT
BEGIN:VEVENT
DTSTART;TZID=America/New_York:20231017T183000
DTEND;TZID=America/New_York:20231017T220000
DTSTAMP:20260425T230324
CREATED:20231005T221319Z
LAST-MODIFIED:20231005T221319Z
UID:5224-1697567400-1697580000@thesanctuaryhoa.net
SUMMARY:Private Event
DESCRIPTION:
URL:http://thesanctuaryhoa.net/event/private-event-148/
LOCATION:The Sanctuary Clubhouse\, 800 Sanctuary Drive\, Oviedo\, FL\, 32766
END:VEVENT
BEGIN:VEVENT
DTSTART;TZID=America/New_York:20231014T150000
DTEND;TZID=America/New_York:20231014T180000
DTSTAMP:20260425T230324
CREATED:20231005T221240Z
LAST-MODIFIED:20231005T221240Z
UID:5222-1697295600-1697306400@thesanctuaryhoa.net
SUMMARY:Private Event
DESCRIPTION:
URL:http://thesanctuaryhoa.net/event/private-event-147/
LOCATION:Splash Pad\, 800 Sanctuary Drive\, Oviedo\, FL\, 32766
END:VEVENT
BEGIN:VEVENT
DTSTART;TZID=America/New_York:20231012T200000
DTEND;TZID=America/New_York:20231012T200000
DTSTAMP:20260425T230324
CREATED:20230123T200959Z
LAST-MODIFIED:20230123T200959Z
UID:4909-1697140800-1697140800@thesanctuaryhoa.net
SUMMARY:ARC Meeting
DESCRIPTION:
URL:http://thesanctuaryhoa.net/event/arc-meeting-9/
LOCATION:The Sanctuary Clubhouse\, 800 Sanctuary Drive\, Oviedo\, FL\, 32766
CATEGORIES:Community Events
END:VEVENT
BEGIN:VEVENT
DTSTART;TZID=America/New_York:20231011T180000
DTEND;TZID=America/New_York:20231011T220000
DTSTAMP:20260425T230324
CREATED:20231010T232938Z
LAST-MODIFIED:20231010T232938Z
UID:5236-1697047200-1697061600@thesanctuaryhoa.net
SUMMARY:Private Event
DESCRIPTION:
URL:http://thesanctuaryhoa.net/event/private-event-154/
LOCATION:The Sanctuary Clubhouse\, 800 Sanctuary Drive\, Oviedo\, FL\, 32766
END:VEVENT
BEGIN:VEVENT
DTSTART;TZID=America/New_York:20231010T183000
DTEND;TZID=America/New_York:20231010T220000
DTSTAMP:20260425T230324
CREATED:20231005T221047Z
LAST-MODIFIED:20231005T221047Z
UID:5219-1696962600-1696975200@thesanctuaryhoa.net
SUMMARY:Private Event
DESCRIPTION:
URL:http://thesanctuaryhoa.net/event/private-event-145/
LOCATION:The Sanctuary Clubhouse\, 800 Sanctuary Drive\, Oviedo\, FL\, 32766
END:VEVENT
BEGIN:VEVENT
DTSTART;VALUE=DATE:20231009
DTEND;VALUE=DATE:20231010
DTSTAMP:20260425T230324
CREATED:20230123T201426Z
LAST-MODIFIED:20230123T201426Z
UID:4921-1696809600-1696895999@thesanctuaryhoa.net
SUMMARY:ARC Applications Due
DESCRIPTION:
URL:http://thesanctuaryhoa.net/event/arc-applications-due-10/
LOCATION:FL
END:VEVENT
BEGIN:VEVENT
DTSTART;TZID=America/New_York:20231007T123000
DTEND;TZID=America/New_York:20231007T183000
DTSTAMP:20260425T230324
CREATED:20230912T230828Z
LAST-MODIFIED:20230912T230828Z
UID:5208-1696681800-1696703400@thesanctuaryhoa.net
SUMMARY:Private Event
DESCRIPTION:
URL:http://thesanctuaryhoa.net/event/private-event-143/
LOCATION:Cabana\, 800 Sanctuary Drive\, Oviedo\, FL\, 32766
END:VEVENT
BEGIN:VEVENT
DTSTART;TZID=America/New_York:20231007T120000
DTEND;TZID=America/New_York:20231007T170000
DTSTAMP:20260425T230324
CREATED:20230817T235124Z
LAST-MODIFIED:20230817T235124Z
UID:5174-1696680000-1696698000@thesanctuaryhoa.net
SUMMARY:Private Event
DESCRIPTION:
URL:http://thesanctuaryhoa.net/event/private-event-86/
LOCATION:The Sanctuary Clubhouse\, 800 Sanctuary Drive\, Oviedo\, FL\, 32766
END:VEVENT
BEGIN:VEVENT
DTSTART;VALUE=DATE:20231007
DTEND;VALUE=DATE:20231008
DTSTAMP:20260425T230324
CREATED:20230123T201055Z
LAST-MODIFIED:20230123T201055Z
UID:4911-1696636800-1696723199@thesanctuaryhoa.net
SUMMARY:Community Yard Sale
DESCRIPTION:
URL:http://thesanctuaryhoa.net/event/community-yard-sale-2/
LOCATION:FL
CATEGORIES:Community Events
END:VEVENT
BEGIN:VEVENT
DTSTART;TZID=America/New_York:20230930T123000
DTEND;TZID=America/New_York:20230930T183000
DTSTAMP:20260425T230324
CREATED:20230715T150647Z
LAST-MODIFIED:20230715T150647Z
UID:5111-1696077000-1696098600@thesanctuaryhoa.net
SUMMARY:Private Event
DESCRIPTION:
URL:http://thesanctuaryhoa.net/event/private-event-68/
LOCATION:The Sanctuary Clubhouse\, 800 Sanctuary Drive\, Oviedo\, FL\, 32766
CATEGORIES:Private Events
END:VEVENT
BEGIN:VEVENT
DTSTART;TZID=America/New_York:20230927T180000
DTEND;TZID=America/New_York:20230927T220000
DTSTAMP:20260425T230324
CREATED:20230926T222820Z
LAST-MODIFIED:20230926T222820Z
UID:5216-1695837600-1695852000@thesanctuaryhoa.net
SUMMARY:Private Event
DESCRIPTION:
URL:http://thesanctuaryhoa.net/event/private-event-146/
LOCATION:The Sanctuary Clubhouse\, 800 Sanctuary Drive\, Oviedo\, FL\, 32766
END:VEVENT
BEGIN:VEVENT
DTSTART;TZID=America/New_York:20230926T183000
DTEND;TZID=America/New_York:20230926T220000
DTSTAMP:20260425T230324
CREATED:20230905T231649Z
LAST-MODIFIED:20230905T231649Z
UID:5206-1695753000-1695765600@thesanctuaryhoa.net
SUMMARY:Private Event
DESCRIPTION:
URL:http://thesanctuaryhoa.net/event/private-event-142/
LOCATION:The Sanctuary Clubhouse\, 800 Sanctuary Drive\, Oviedo\, FL\, 32766
END:VEVENT
BEGIN:VEVENT
DTSTART;TZID=America/New_York:20230924T160000
DTEND;TZID=America/New_York:20230924T220000
DTSTAMP:20260425T230324
CREATED:20230817T225930Z
LAST-MODIFIED:20230817T225930Z
UID:5172-1695571200-1695592800@thesanctuaryhoa.net
SUMMARY:Private Event
DESCRIPTION:
URL:http://thesanctuaryhoa.net/event/private-event-85/
LOCATION:The Sanctuary Clubhouse\, 800 Sanctuary Drive\, Oviedo\, FL\, 32766
END:VEVENT
BEGIN:VEVENT
DTSTART;TZID=America/New_York:20230922T103000
DTEND;TZID=America/New_York:20230922T140000
DTSTAMP:20260425T230324
CREATED:20230828T162519Z
LAST-MODIFIED:20230828T162519Z
UID:5199-1695378600-1695391200@thesanctuaryhoa.net
SUMMARY:Private Event
DESCRIPTION:
URL:http://thesanctuaryhoa.net/event/private-event-139/
LOCATION:Cabana\, 800 Sanctuary Drive\, Oviedo\, FL\, 32766
CATEGORIES:Private Events
END:VEVENT
BEGIN:VEVENT
DTSTART;TZID=America/New_York:20230922T070000
DTEND;TZID=America/New_York:20230922T220000
DTSTAMP:20260425T230324
CREATED:20230821T224857Z
LAST-MODIFIED:20230821T224857Z
UID:5185-1695366000-1695420000@thesanctuaryhoa.net
SUMMARY:Private Event
DESCRIPTION:
URL:http://thesanctuaryhoa.net/event/private-event-91/
LOCATION:The Sanctuary Clubhouse\, 800 Sanctuary Drive\, Oviedo\, FL\, 32766
END:VEVENT
BEGIN:VEVENT
DTSTART;TZID=America/New_York:20230919T183000
DTEND;TZID=America/New_York:20230919T220000
DTSTAMP:20260425T230324
CREATED:20230905T231605Z
LAST-MODIFIED:20230905T231605Z
UID:5204-1695148200-1695160800@thesanctuaryhoa.net
SUMMARY:Private Event
DESCRIPTION:
URL:http://thesanctuaryhoa.net/event/private-event-141/
LOCATION:The Sanctuary Clubhouse\, 800 Sanctuary Drive\, Oviedo\, FL\, 32766
END:VEVENT
BEGIN:VEVENT
DTSTART;TZID=America/New_York:20230916T120000
DTEND;TZID=America/New_York:20230916T170000
DTSTAMP:20260425T230324
CREATED:20230817T225738Z
LAST-MODIFIED:20230817T225738Z
UID:5168-1694865600-1694883600@thesanctuaryhoa.net
SUMMARY:Private Event
DESCRIPTION:
URL:http://thesanctuaryhoa.net/event/private-event-83/
LOCATION:The Sanctuary Clubhouse\, 800 Sanctuary Drive\, Oviedo\, FL\, 32766
END:VEVENT
BEGIN:VEVENT
DTSTART;TZID=America/New_York:20230916T100000
DTEND;TZID=America/New_York:20230916T160000
DTSTAMP:20260425T230324
CREATED:20230802T214415Z
LAST-MODIFIED:20230802T214415Z
UID:5140-1694858400-1694880000@thesanctuaryhoa.net
SUMMARY:Private Event
DESCRIPTION:
URL:http://thesanctuaryhoa.net/event/private-event-76/
LOCATION:East Pool Pavilion\, 800 Sanctuary Drive\, Oviedo\, FL\, 32766
END:VEVENT
BEGIN:VEVENT
DTSTART;TZID=America/New_York:20230914T200000
DTEND;TZID=America/New_York:20230914T200000
DTSTAMP:20260425T230324
CREATED:20230123T200446Z
LAST-MODIFIED:20230123T200446Z
UID:4907-1694721600-1694721600@thesanctuaryhoa.net
SUMMARY:ARC Meeting
DESCRIPTION:
URL:http://thesanctuaryhoa.net/event/arc-meeting-8/
LOCATION:The Sanctuary Clubhouse\, 800 Sanctuary Drive\, Oviedo\, FL\, 32766
CATEGORIES:Community Events
END:VEVENT
BEGIN:VEVENT
DTSTART;TZID=America/New_York:20230914T110000
DTEND;TZID=America/New_York:20230914T140000
DTSTAMP:20260425T230324
CREATED:20230828T162445Z
LAST-MODIFIED:20230828T162445Z
UID:5197-1694689200-1694700000@thesanctuaryhoa.net
SUMMARY:Private Event
DESCRIPTION:
URL:http://thesanctuaryhoa.net/event/private-event-138/
LOCATION:Cabana\, 800 Sanctuary Drive\, Oviedo\, FL\, 32766
CATEGORIES:Private Events
END:VEVENT
END:VCALENDAR