BEGIN:VCALENDAR
VERSION:2.0
PRODID:-//The Sanctuary Community Association, Inc. - ECPv6.15.1.1//NONSGML v1.0//EN
CALSCALE:GREGORIAN
METHOD:PUBLISH
X-ORIGINAL-URL:http://thesanctuaryhoa.net
X-WR-CALDESC:Events for The Sanctuary Community Association, Inc.
REFRESH-INTERVAL;VALUE=DURATION:PT1H
X-Robots-Tag:noindex
X-PUBLISHED-TTL:PT1H
BEGIN:VTIMEZONE
TZID:America/New_York
BEGIN:DAYLIGHT
TZOFFSETFROM:-0500
TZOFFSETTO:-0400
TZNAME:EDT
DTSTART:20260308T070000
END:DAYLIGHT
BEGIN:STANDARD
TZOFFSETFROM:-0400
TZOFFSETTO:-0500
TZNAME:EST
DTSTART:20261101T060000
END:STANDARD
END:VTIMEZONE
BEGIN:VEVENT
DTSTART;TZID=America/New_York:20260627T090000
DTEND;TZID=America/New_York:20260627T150000
DTSTAMP:20260423T195133
CREATED:20260409T164238Z
LAST-MODIFIED:20260409T164238Z
UID:6986-1782550800-1782572400@thesanctuaryhoa.net
SUMMARY:Private Event
DESCRIPTION:
URL:http://thesanctuaryhoa.net/event/private-event-607/
LOCATION:The Sanctuary Clubhouse\, 800 Sanctuary Drive\, Oviedo\, FL\, 32766
CATEGORIES:Private Events
END:VEVENT
BEGIN:VEVENT
DTSTART;VALUE=DATE:20260704
DTEND;VALUE=DATE:20260705
DTSTAMP:20260423T195133
CREATED:20260213T175526Z
LAST-MODIFIED:20260213T175526Z
UID:6868-1783123200-1783209599@thesanctuaryhoa.net
SUMMARY:Office Closed
DESCRIPTION:
URL:http://thesanctuaryhoa.net/event/office-closed-13/
LOCATION:FL
CATEGORIES:Community Events
END:VEVENT
BEGIN:VEVENT
DTSTART;VALUE=DATE:20260706
DTEND;VALUE=DATE:20260707
DTSTAMP:20260423T195133
CREATED:20251203T132925Z
LAST-MODIFIED:20251203T132925Z
UID:6630-1783296000-1783382399@thesanctuaryhoa.net
SUMMARY:ARC Applications Due
DESCRIPTION:
URL:http://thesanctuaryhoa.net/event/arc-applications-due-46/
LOCATION:FL
CATEGORIES:Community Events
END:VEVENT
BEGIN:VEVENT
DTSTART;TZID=America/New_York:20260709T190000
DTEND;TZID=America/New_York:20260709T190000
DTSTAMP:20260423T195133
CREATED:20251203T133644Z
LAST-MODIFIED:20251203T133644Z
UID:6654-1783623600-1783623600@thesanctuaryhoa.net
SUMMARY:ARC Meeting
DESCRIPTION:
URL:http://thesanctuaryhoa.net/event/arc-meeting-47/
LOCATION:The Sanctuary Clubhouse\, 800 Sanctuary Drive\, Oviedo\, FL\, 32766
CATEGORIES:Community Events
END:VEVENT
BEGIN:VEVENT
DTSTART;TZID=America/New_York:20260717T090000
DTEND;TZID=America/New_York:20260717T150000
DTSTAMP:20260423T195133
CREATED:20260409T164520Z
LAST-MODIFIED:20260409T164520Z
UID:6988-1784278800-1784300400@thesanctuaryhoa.net
SUMMARY:Private Event
DESCRIPTION:
URL:http://thesanctuaryhoa.net/event/private-event-608/
LOCATION:The Sanctuary Clubhouse\, 800 Sanctuary Drive\, Oviedo\, FL\, 32766
CATEGORIES:Private Events
END:VEVENT
BEGIN:VEVENT
DTSTART;TZID=America/New_York:20260725T110000
DTEND;TZID=America/New_York:20260725T170000
DTSTAMP:20260423T195133
CREATED:20260218T190451Z
LAST-MODIFIED:20260218T190451Z
UID:6900-1784977200-1784998800@thesanctuaryhoa.net
SUMMARY:Private Event
DESCRIPTION:
URL:http://thesanctuaryhoa.net/event/private-event-586/
LOCATION:The Sanctuary Clubhouse\, 800 Sanctuary Drive\, Oviedo\, FL\, 32766
CATEGORIES:Private Events
END:VEVENT
BEGIN:VEVENT
DTSTART;TZID=America/New_York:20260801T080000
DTEND;TZID=America/New_York:20260801T170000
DTSTAMP:20260423T195133
CREATED:20260409T164909Z
LAST-MODIFIED:20260409T164909Z
UID:6990-1785571200-1785603600@thesanctuaryhoa.net
SUMMARY:Private Event
DESCRIPTION:
URL:http://thesanctuaryhoa.net/event/private-event-609/
LOCATION:The Sanctuary Clubhouse\, 800 Sanctuary Drive\, Oviedo\, FL\, 32766
CATEGORIES:Private Events
END:VEVENT
BEGIN:VEVENT
DTSTART;VALUE=DATE:20260810
DTEND;VALUE=DATE:20260811
DTSTAMP:20260423T195133
CREATED:20251203T132956Z
LAST-MODIFIED:20251203T132956Z
UID:6632-1786320000-1786406399@thesanctuaryhoa.net
SUMMARY:ARC Applications Due
DESCRIPTION:
URL:http://thesanctuaryhoa.net/event/arc-applications-due-47/
LOCATION:FL
CATEGORIES:Community Events
END:VEVENT
BEGIN:VEVENT
DTSTART;TZID=America/New_York:20260813T190000
DTEND;TZID=America/New_York:20260813T190000
DTSTAMP:20260423T195133
CREATED:20251203T133714Z
LAST-MODIFIED:20251203T133714Z
UID:6656-1786647600-1786647600@thesanctuaryhoa.net
SUMMARY:ARC Meeting
DESCRIPTION:
URL:http://thesanctuaryhoa.net/event/arc-meeting-48/
LOCATION:The Sanctuary Clubhouse\, 800 Sanctuary Drive\, Oviedo\, FL\, 32766
CATEGORIES:Community Events
END:VEVENT
BEGIN:VEVENT
DTSTART;TZID=America/New_York:20260822T090000
DTEND;TZID=America/New_York:20260822T150000
DTSTAMP:20260423T195133
CREATED:20260409T165334Z
LAST-MODIFIED:20260409T165334Z
UID:6993-1787389200-1787410800@thesanctuaryhoa.net
SUMMARY:Private Event
DESCRIPTION:
URL:http://thesanctuaryhoa.net/event/private-event-610/
LOCATION:The Sanctuary Clubhouse\, 800 Sanctuary Drive\, Oviedo\, FL\, 32766
CATEGORIES:Private Events
END:VEVENT
BEGIN:VEVENT
DTSTART;TZID=America/New_York:20260825T183000
DTEND;TZID=America/New_York:20260825T183000
DTSTAMP:20260423T195133
CREATED:20251210T233404Z
LAST-MODIFIED:20251210T233404Z
UID:6689-1787682600-1787682600@thesanctuaryhoa.net
SUMMARY:Board Meeting
DESCRIPTION:
URL:http://thesanctuaryhoa.net/event/board-meeting-15/
LOCATION:The Sanctuary Clubhouse\, 800 Sanctuary Drive\, Oviedo\, FL\, 32766
END:VEVENT
BEGIN:VEVENT
DTSTART;VALUE=DATE:20260907
DTEND;VALUE=DATE:20260908
DTSTAMP:20260423T195133
CREATED:20251203T133032Z
LAST-MODIFIED:20251203T133032Z
UID:6634-1788739200-1788825599@thesanctuaryhoa.net
SUMMARY:ARC Applications Due
DESCRIPTION:
URL:http://thesanctuaryhoa.net/event/arc-applications-due-48/
LOCATION:FL
CATEGORIES:Community Events
END:VEVENT
BEGIN:VEVENT
DTSTART;VALUE=DATE:20260907
DTEND;VALUE=DATE:20260908
DTSTAMP:20260423T195133
CREATED:20260213T175601Z
LAST-MODIFIED:20260213T175601Z
UID:6870-1788739200-1788825599@thesanctuaryhoa.net
SUMMARY:Office Closed
DESCRIPTION:
URL:http://thesanctuaryhoa.net/event/office-closed-14/
LOCATION:FL
CATEGORIES:Community Events
END:VEVENT
BEGIN:VEVENT
DTSTART;TZID=America/New_York:20260910T190000
DTEND;TZID=America/New_York:20260910T190000
DTSTAMP:20260423T195133
CREATED:20251203T133748Z
LAST-MODIFIED:20251203T133748Z
UID:6658-1789066800-1789066800@thesanctuaryhoa.net
SUMMARY:ARC Meeting
DESCRIPTION:
URL:http://thesanctuaryhoa.net/event/arc-meeting-49/
LOCATION:The Sanctuary Clubhouse\, 800 Sanctuary Drive\, Oviedo\, FL\, 32766
CATEGORIES:Community Events
END:VEVENT
BEGIN:VEVENT
DTSTART;VALUE=DATE:20261005
DTEND;VALUE=DATE:20261006
DTSTAMP:20260423T195133
CREATED:20251203T133054Z
LAST-MODIFIED:20251203T133054Z
UID:6636-1791158400-1791244799@thesanctuaryhoa.net
SUMMARY:ARC Applications Due
DESCRIPTION:
URL:http://thesanctuaryhoa.net/event/arc-applications-due-49/
LOCATION:FL
CATEGORIES:Community Events
END:VEVENT
BEGIN:VEVENT
DTSTART;TZID=America/New_York:20261008T190000
DTEND;TZID=America/New_York:20261008T190000
DTSTAMP:20260423T195133
CREATED:20251203T133815Z
LAST-MODIFIED:20251203T133815Z
UID:6660-1791486000-1791486000@thesanctuaryhoa.net
SUMMARY:ARC Meeting
DESCRIPTION:
URL:http://thesanctuaryhoa.net/event/arc-meeting-50/
LOCATION:The Sanctuary Clubhouse\, 800 Sanctuary Drive\, Oviedo\, FL\, 32766
CATEGORIES:Community Events
END:VEVENT
BEGIN:VEVENT
DTSTART;TZID=America/New_York:20261010T080000
DTEND;TZID=America/New_York:20261010T140000
DTSTAMP:20260423T195133
CREATED:20251210T233456Z
LAST-MODIFIED:20251210T233456Z
UID:6691-1791619200-1791640800@thesanctuaryhoa.net
SUMMARY:Community Yard Sale
DESCRIPTION:
URL:http://thesanctuaryhoa.net/event/community-yard-sale-8/
LOCATION:FL
CATEGORIES:Community Events
END:VEVENT
BEGIN:VEVENT
DTSTART;TZID=America/New_York:20261027T183000
DTEND;TZID=America/New_York:20261027T183000
DTSTAMP:20260423T195133
CREATED:20251210T233524Z
LAST-MODIFIED:20251210T233524Z
UID:6693-1793125800-1793125800@thesanctuaryhoa.net
SUMMARY:Board Meeting
DESCRIPTION:
URL:http://thesanctuaryhoa.net/event/board-meeting-16/
LOCATION:The Sanctuary Clubhouse\, 800 Sanctuary Drive\, Oviedo\, FL\, 32766
END:VEVENT
BEGIN:VEVENT
DTSTART;VALUE=DATE:20261031
DTEND;VALUE=DATE:20261101
DTSTAMP:20260423T195133
CREATED:20260213T175646Z
LAST-MODIFIED:20260213T175646Z
UID:6872-1793404800-1793491199@thesanctuaryhoa.net
SUMMARY:Office Closed
DESCRIPTION:
URL:http://thesanctuaryhoa.net/event/office-closed-15/
LOCATION:FL
CATEGORIES:Community Events
END:VEVENT
BEGIN:VEVENT
DTSTART;VALUE=DATE:20261109
DTEND;VALUE=DATE:20261110
DTSTAMP:20260423T195133
CREATED:20251203T133131Z
LAST-MODIFIED:20251203T133131Z
UID:6638-1794182400-1794268799@thesanctuaryhoa.net
SUMMARY:ARC Applications Due
DESCRIPTION:
URL:http://thesanctuaryhoa.net/event/arc-applications-due-50/
LOCATION:FL
CATEGORIES:Community Events
END:VEVENT
BEGIN:VEVENT
DTSTART;VALUE=DATE:20261111
DTEND;VALUE=DATE:20261112
DTSTAMP:20260423T195133
CREATED:20260213T175711Z
LAST-MODIFIED:20260213T175711Z
UID:6874-1794355200-1794441599@thesanctuaryhoa.net
SUMMARY:Office Closed
DESCRIPTION:
URL:http://thesanctuaryhoa.net/event/office-closed-16/
LOCATION:FL
CATEGORIES:Community Events
END:VEVENT
BEGIN:VEVENT
DTSTART;TZID=America/New_York:20261112T190000
DTEND;TZID=America/New_York:20261112T190000
DTSTAMP:20260423T195133
CREATED:20251203T133851Z
LAST-MODIFIED:20251203T133851Z
UID:6662-1794510000-1794510000@thesanctuaryhoa.net
SUMMARY:ARC Meeting
DESCRIPTION:
URL:http://thesanctuaryhoa.net/event/arc-meeting-51/
LOCATION:The Sanctuary Clubhouse\, 800 Sanctuary Drive\, Oviedo\, FL\, 32766
CATEGORIES:Community Events
END:VEVENT
BEGIN:VEVENT
DTSTART;VALUE=DATE:20261126
DTEND;VALUE=DATE:20261127
DTSTAMP:20260423T195133
CREATED:20260213T175740Z
LAST-MODIFIED:20260213T175740Z
UID:6876-1795651200-1795737599@thesanctuaryhoa.net
SUMMARY:Office Closed
DESCRIPTION:
URL:http://thesanctuaryhoa.net/event/office-closed-17/
LOCATION:FL
CATEGORIES:Community Events
END:VEVENT
BEGIN:VEVENT
DTSTART;VALUE=DATE:20261207
DTEND;VALUE=DATE:20261208
DTSTAMP:20260423T195133
CREATED:20251203T133157Z
LAST-MODIFIED:20251203T133157Z
UID:6640-1796601600-1796687999@thesanctuaryhoa.net
SUMMARY:ARC Applications Due
DESCRIPTION:
URL:http://thesanctuaryhoa.net/event/arc-applications-due-51/
LOCATION:FL
CATEGORIES:Community Events
END:VEVENT
BEGIN:VEVENT
DTSTART;TZID=America/New_York:20261210T190000
DTEND;TZID=America/New_York:20261210T190000
DTSTAMP:20260423T195133
CREATED:20251203T133920Z
LAST-MODIFIED:20251203T133920Z
UID:6664-1796929200-1796929200@thesanctuaryhoa.net
SUMMARY:ARC Meeting
DESCRIPTION:
URL:http://thesanctuaryhoa.net/event/arc-meeting-52/
LOCATION:The Sanctuary Clubhouse\, 800 Sanctuary Drive\, Oviedo\, FL\, 32766
CATEGORIES:Community Events
END:VEVENT
BEGIN:VEVENT
DTSTART;VALUE=DATE:20261213
DTEND;VALUE=DATE:20261214
DTSTAMP:20260423T195133
CREATED:20260212T201617Z
LAST-MODIFIED:20260212T201617Z
UID:6858-1797120000-1797206399@thesanctuaryhoa.net
SUMMARY:Winter Festival
DESCRIPTION:
URL:http://thesanctuaryhoa.net/event/winter-festival/
LOCATION:East Pool Pavilion\, 800 Sanctuary Drive\, Oviedo\, FL\, 32766
CATEGORIES:Community Events
END:VEVENT
BEGIN:VEVENT
DTSTART;TZID=America/New_York:20261215T183000
DTEND;TZID=America/New_York:20261215T183000
DTSTAMP:20260423T195133
CREATED:20251210T233625Z
LAST-MODIFIED:20251210T233625Z
UID:6695-1797359400-1797359400@thesanctuaryhoa.net
SUMMARY:Board Meeting
DESCRIPTION:
URL:http://thesanctuaryhoa.net/event/board-meeting-17/
LOCATION:The Sanctuary Clubhouse\, 800 Sanctuary Drive\, Oviedo\, FL\, 32766
END:VEVENT
BEGIN:VEVENT
DTSTART;VALUE=DATE:20261220
DTEND;VALUE=DATE:20261227
DTSTAMP:20260423T195133
CREATED:20260213T175828Z
LAST-MODIFIED:20260213T175828Z
UID:6878-1797724800-1798329599@thesanctuaryhoa.net
SUMMARY:Office Closed
DESCRIPTION:
URL:http://thesanctuaryhoa.net/event/office-closed-18/
LOCATION:FL
END:VEVENT
END:VCALENDAR