BEGIN:VCALENDAR
VERSION:2.0
PRODID:-//The Sanctuary Community Association, Inc. - ECPv6.15.1.1//NONSGML v1.0//EN
CALSCALE:GREGORIAN
METHOD:PUBLISH
X-WR-CALNAME:The Sanctuary Community Association, Inc.
X-ORIGINAL-URL:https://thesanctuaryhoa.net
X-WR-CALDESC:Events for The Sanctuary Community Association, Inc.
REFRESH-INTERVAL;VALUE=DURATION:PT1H
X-Robots-Tag:noindex
X-PUBLISHED-TTL:PT1H
BEGIN:VTIMEZONE
TZID:America/New_York
BEGIN:DAYLIGHT
TZOFFSETFROM:-0500
TZOFFSETTO:-0400
TZNAME:EDT
DTSTART:20230312T070000
END:DAYLIGHT
BEGIN:STANDARD
TZOFFSETFROM:-0400
TZOFFSETTO:-0500
TZNAME:EST
DTSTART:20231105T060000
END:STANDARD
END:VTIMEZONE
BEGIN:VEVENT
DTSTART;VALUE=DATE:20231007
DTEND;VALUE=DATE:20231008
DTSTAMP:20260425T064331
CREATED:20230123T201055Z
LAST-MODIFIED:20230123T201055Z
UID:4911-1696636800-1696723199@thesanctuaryhoa.net
SUMMARY:Community Yard Sale
DESCRIPTION:
URL:https://thesanctuaryhoa.net/event/community-yard-sale-2/
CATEGORIES:Community Events
END:VEVENT
BEGIN:VEVENT
DTSTART;TZID=America/New_York:20231012T200000
DTEND;TZID=America/New_York:20231012T200000
DTSTAMP:20260425T064331
CREATED:20230123T200959Z
LAST-MODIFIED:20230123T200959Z
UID:4909-1697140800-1697140800@thesanctuaryhoa.net
SUMMARY:ARC Meeting
DESCRIPTION:
URL:https://thesanctuaryhoa.net/event/arc-meeting-9/
LOCATION:The Sanctuary Clubhouse\, 800 Sanctuary Drive\, Oviedo\, FL\, 32766
CATEGORIES:Community Events
END:VEVENT
BEGIN:VEVENT
DTSTART;TZID=America/New_York:20231024T183000
DTEND;TZID=America/New_York:20231024T183000
DTSTAMP:20260425T064331
CREATED:20230123T184947Z
LAST-MODIFIED:20230123T184947Z
UID:4865-1698172200-1698172200@thesanctuaryhoa.net
SUMMARY:Board of Directors Meeting (Budget)
DESCRIPTION:At the October 24\, 2023 meeting the 2023 budget will be discussed and presented. This meeting shall set the Base Assessment for Fiscal Year 2024.
URL:https://thesanctuaryhoa.net/event/board-of-directors-meeting-budget/
LOCATION:The Sanctuary Clubhouse\, 800 Sanctuary Drive\, Oviedo\, FL\, 32766
CATEGORIES:Community Events
END:VEVENT
END:VCALENDAR