BEGIN:VCALENDAR
VERSION:2.0
PRODID:-//The Sanctuary Community Association, Inc. - ECPv6.15.1.1//NONSGML v1.0//EN
CALSCALE:GREGORIAN
METHOD:PUBLISH
X-ORIGINAL-URL:https://thesanctuaryhoa.net
X-WR-CALDESC:Events for The Sanctuary Community Association, Inc.
REFRESH-INTERVAL;VALUE=DURATION:PT1H
X-Robots-Tag:noindex
X-PUBLISHED-TTL:PT1H
BEGIN:VTIMEZONE
TZID:America/New_York
BEGIN:DAYLIGHT
TZOFFSETFROM:-0500
TZOFFSETTO:-0400
TZNAME:EDT
DTSTART:20250309T070000
END:DAYLIGHT
BEGIN:STANDARD
TZOFFSETFROM:-0400
TZOFFSETTO:-0500
TZNAME:EST
DTSTART:20251102T060000
END:STANDARD
BEGIN:DAYLIGHT
TZOFFSETFROM:-0500
TZOFFSETTO:-0400
TZNAME:EDT
DTSTART:20260308T070000
END:DAYLIGHT
BEGIN:STANDARD
TZOFFSETFROM:-0400
TZOFFSETTO:-0500
TZNAME:EST
DTSTART:20261101T060000
END:STANDARD
END:VTIMEZONE
BEGIN:VEVENT
DTSTART;VALUE=DATE:20251231
DTEND;VALUE=DATE:20260102
DTSTAMP:20260423T152252
CREATED:20251217T211808Z
LAST-MODIFIED:20251217T211808Z
UID:6729-1767139200-1767311999@thesanctuaryhoa.net
SUMMARY:Office Closed
DESCRIPTION:
URL:https://thesanctuaryhoa.net/event/office-closed-9/
CATEGORIES:Community Events
END:VEVENT
BEGIN:VEVENT
DTSTART;VALUE=DATE:20260105
DTEND;VALUE=DATE:20260106
DTSTAMP:20260423T152252
CREATED:20251203T132520Z
LAST-MODIFIED:20251203T132532Z
UID:6618-1767571200-1767657599@thesanctuaryhoa.net
SUMMARY:ARC Applications Due
DESCRIPTION:
URL:https://thesanctuaryhoa.net/event/arc-applications-due-40/
CATEGORIES:Community Events
END:VEVENT
BEGIN:VEVENT
DTSTART;TZID=America/New_York:20260108T190000
DTEND;TZID=America/New_York:20260108T190000
DTSTAMP:20260423T152252
CREATED:20251203T133304Z
LAST-MODIFIED:20251203T133312Z
UID:6642-1767898800-1767898800@thesanctuaryhoa.net
SUMMARY:ARC Meeting
DESCRIPTION:
URL:https://thesanctuaryhoa.net/event/arc-meeting-41/
LOCATION:The Sanctuary Clubhouse\, 800 Sanctuary Drive\, Oviedo\, FL\, 32766
CATEGORIES:Community Events
END:VEVENT
BEGIN:VEVENT
DTSTART;TZID=America/New_York:20260111T140000
DTEND;TZID=America/New_York:20260111T160000
DTSTAMP:20260423T152252
CREATED:20251122T175711Z
LAST-MODIFIED:20260108T214107Z
UID:6599-1768140000-1768147200@thesanctuaryhoa.net
SUMMARY:Snacks & Shredding
DESCRIPTION:
URL:https://thesanctuaryhoa.net/event/snacks-shredding-4/
LOCATION:The Sanctuary Clubhouse\, 800 Sanctuary Drive\, Oviedo\, FL\, 32766
CATEGORIES:Community Events
END:VEVENT
END:VCALENDAR