BEGIN:VCALENDAR
VERSION:2.0
PRODID:-//The Sanctuary Community Association, Inc. - ECPv6.15.1.1//NONSGML v1.0//EN
CALSCALE:GREGORIAN
METHOD:PUBLISH
X-ORIGINAL-URL:https://thesanctuaryhoa.net
X-WR-CALDESC:Events for The Sanctuary Community Association, Inc.
REFRESH-INTERVAL;VALUE=DURATION:PT1H
X-Robots-Tag:noindex
X-PUBLISHED-TTL:PT1H
BEGIN:VTIMEZONE
TZID:America/New_York
BEGIN:DAYLIGHT
TZOFFSETFROM:-0500
TZOFFSETTO:-0400
TZNAME:EDT
DTSTART:20260308T070000
END:DAYLIGHT
BEGIN:STANDARD
TZOFFSETFROM:-0400
TZOFFSETTO:-0500
TZNAME:EST
DTSTART:20261101T060000
END:STANDARD
END:VTIMEZONE
BEGIN:VEVENT
DTSTART;VALUE=DATE:20261005
DTEND;VALUE=DATE:20261006
DTSTAMP:20260423T193459
CREATED:20251203T133054Z
LAST-MODIFIED:20251203T133054Z
UID:6636-1791158400-1791244799@thesanctuaryhoa.net
SUMMARY:ARC Applications Due
DESCRIPTION:
URL:https://thesanctuaryhoa.net/event/arc-applications-due-49/
CATEGORIES:Community Events
END:VEVENT
BEGIN:VEVENT
DTSTART;TZID=America/New_York:20261008T190000
DTEND;TZID=America/New_York:20261008T190000
DTSTAMP:20260423T193459
CREATED:20251203T133815Z
LAST-MODIFIED:20251203T133815Z
UID:6660-1791486000-1791486000@thesanctuaryhoa.net
SUMMARY:ARC Meeting
DESCRIPTION:
URL:https://thesanctuaryhoa.net/event/arc-meeting-50/
LOCATION:The Sanctuary Clubhouse\, 800 Sanctuary Drive\, Oviedo\, FL\, 32766
CATEGORIES:Community Events
END:VEVENT
BEGIN:VEVENT
DTSTART;TZID=America/New_York:20261010T080000
DTEND;TZID=America/New_York:20261010T140000
DTSTAMP:20260423T193459
CREATED:20251210T233456Z
LAST-MODIFIED:20251210T233456Z
UID:6691-1791619200-1791640800@thesanctuaryhoa.net
SUMMARY:Community Yard Sale
DESCRIPTION:
URL:https://thesanctuaryhoa.net/event/community-yard-sale-8/
CATEGORIES:Community Events
END:VEVENT
BEGIN:VEVENT
DTSTART;VALUE=DATE:20261031
DTEND;VALUE=DATE:20261101
DTSTAMP:20260423T193459
CREATED:20260213T175646Z
LAST-MODIFIED:20260213T175646Z
UID:6872-1793404800-1793491199@thesanctuaryhoa.net
SUMMARY:Office Closed
DESCRIPTION:
URL:https://thesanctuaryhoa.net/event/office-closed-15/
CATEGORIES:Community Events
END:VEVENT
END:VCALENDAR