BEGIN:VCALENDAR
VERSION:2.0
PRODID:-//The Sanctuary Community Association, Inc. - ECPv6.15.1.1//NONSGML v1.0//EN
CALSCALE:GREGORIAN
METHOD:PUBLISH
X-ORIGINAL-URL:https://thesanctuaryhoa.net
X-WR-CALDESC:Events for The Sanctuary Community Association, Inc.
REFRESH-INTERVAL;VALUE=DURATION:PT1H
X-Robots-Tag:noindex
X-PUBLISHED-TTL:PT1H
BEGIN:VTIMEZONE
TZID:America/New_York
BEGIN:DAYLIGHT
TZOFFSETFROM:-0500
TZOFFSETTO:-0400
TZNAME:EDT
DTSTART:20220313T070000
END:DAYLIGHT
BEGIN:STANDARD
TZOFFSETFROM:-0400
TZOFFSETTO:-0500
TZNAME:EST
DTSTART:20221106T060000
END:STANDARD
END:VTIMEZONE
BEGIN:VEVENT
DTSTART;VALUE=DATE:20221205
DTEND;VALUE=DATE:20221206
DTSTAMP:20260424T041808
CREATED:20211221T193952Z
LAST-MODIFIED:20211221T193952Z
UID:4400-1670198400-1670284799@thesanctuaryhoa.net
SUMMARY:ARC Applications Due
DESCRIPTION:
URL:https://thesanctuaryhoa.net/event/arc-applications-due-31/
LOCATION:FL
CATEGORIES:Community Events
END:VEVENT
BEGIN:VEVENT
DTSTART;TZID=America/New_York:20221110T200000
DTEND;TZID=America/New_York:20221110T200000
DTSTAMP:20260424T041808
CREATED:20211221T192732Z
LAST-MODIFIED:20211221T192732Z
UID:4376-1668110400-1668110400@thesanctuaryhoa.net
SUMMARY:ARC Meeting
DESCRIPTION:
URL:https://thesanctuaryhoa.net/event/arc-meeting-19/
LOCATION:FL
CATEGORIES:Community Events
END:VEVENT
BEGIN:VEVENT
DTSTART;VALUE=DATE:20221107
DTEND;VALUE=DATE:20221108
DTSTAMP:20260424T041808
CREATED:20211221T193921Z
LAST-MODIFIED:20211221T195717Z
UID:4398-1667779200-1667865599@thesanctuaryhoa.net
SUMMARY:ARC Applications Due
DESCRIPTION:
URL:https://thesanctuaryhoa.net/event/arc-applications-due-30/
LOCATION:FL
CATEGORIES:Community Events
END:VEVENT
BEGIN:VEVENT
DTSTART;TZID=America/New_York:20221025T183000
DTEND;TZID=America/New_York:20221025T183000
DTSTAMP:20260424T041808
CREATED:20211221T191412Z
LAST-MODIFIED:20211221T191412Z
UID:4352-1666722600-1666722600@thesanctuaryhoa.net
SUMMARY:Board of Directors Meeting (Budget)
DESCRIPTION:
URL:https://thesanctuaryhoa.net/event/board-of-directors-meeting-budget-2/
LOCATION:The Sanctuary Clubhouse\, 800 Sanctuary Drive\, Oviedo\, FL\, 32766
CATEGORIES:Community Events
END:VEVENT
BEGIN:VEVENT
DTSTART;TZID=America/New_York:20221013T200000
DTEND;TZID=America/New_York:20221013T200000
DTSTAMP:20260424T041808
CREATED:20211221T192624Z
LAST-MODIFIED:20211221T192624Z
UID:4374-1665691200-1665691200@thesanctuaryhoa.net
SUMMARY:ARC Meeting
DESCRIPTION:
URL:https://thesanctuaryhoa.net/event/arc-meeting-18/
LOCATION:FL
CATEGORIES:Community Events
END:VEVENT
BEGIN:VEVENT
DTSTART;VALUE=DATE:20221010
DTEND;VALUE=DATE:20221011
DTSTAMP:20260424T041808
CREATED:20211221T193849Z
LAST-MODIFIED:20211221T195841Z
UID:4396-1665360000-1665446399@thesanctuaryhoa.net
SUMMARY:ARC Applications Due
DESCRIPTION:
URL:https://thesanctuaryhoa.net/event/arc-applications-due-29/
LOCATION:FL
CATEGORIES:Community Events
END:VEVENT
BEGIN:VEVENT
DTSTART;VALUE=DATE:20221008
DTEND;VALUE=DATE:20221009
DTSTAMP:20260424T041808
CREATED:20211221T194458Z
LAST-MODIFIED:20211221T194458Z
UID:4408-1665187200-1665273599@thesanctuaryhoa.net
SUMMARY:Community Yard Sale
DESCRIPTION:
URL:https://thesanctuaryhoa.net/event/community-yard-sale-4/
LOCATION:FL
CATEGORIES:Community Events
END:VEVENT
BEGIN:VEVENT
DTSTART;TZID=America/New_York:20220908T200000
DTEND;TZID=America/New_York:20220908T200000
DTSTAMP:20260424T041808
CREATED:20211221T192538Z
LAST-MODIFIED:20211221T192538Z
UID:4372-1662667200-1662667200@thesanctuaryhoa.net
SUMMARY:ARC Meeting
DESCRIPTION:
URL:https://thesanctuaryhoa.net/event/arc-meeting-17/
LOCATION:FL
CATEGORIES:Community Events
END:VEVENT
BEGIN:VEVENT
DTSTART;VALUE=DATE:20220905
DTEND;VALUE=DATE:20220906
DTSTAMP:20260424T041808
CREATED:20211221T193818Z
LAST-MODIFIED:20211221T193818Z
UID:4394-1662336000-1662422399@thesanctuaryhoa.net
SUMMARY:ARC Applications Due
DESCRIPTION:
URL:https://thesanctuaryhoa.net/event/arc-applications-due-28/
LOCATION:FL
CATEGORIES:Community Events
END:VEVENT
END:VCALENDAR