BEGIN:VCALENDAR
VERSION:2.0
PRODID:-//The Sanctuary Community Association, Inc. - ECPv6.15.1.1//NONSGML v1.0//EN
CALSCALE:GREGORIAN
METHOD:PUBLISH
X-WR-CALNAME:The Sanctuary Community Association, Inc.
X-ORIGINAL-URL:https://thesanctuaryhoa.net
X-WR-CALDESC:Events for The Sanctuary Community Association, Inc.
REFRESH-INTERVAL;VALUE=DURATION:PT1H
X-Robots-Tag:noindex
X-PUBLISHED-TTL:PT1H
BEGIN:VTIMEZONE
TZID:America/New_York
BEGIN:DAYLIGHT
TZOFFSETFROM:-0500
TZOFFSETTO:-0400
TZNAME:EDT
DTSTART:20250309T070000
END:DAYLIGHT
BEGIN:STANDARD
TZOFFSETFROM:-0400
TZOFFSETTO:-0500
TZNAME:EST
DTSTART:20251102T060000
END:STANDARD
BEGIN:DAYLIGHT
TZOFFSETFROM:-0500
TZOFFSETTO:-0400
TZNAME:EDT
DTSTART:20260308T070000
END:DAYLIGHT
BEGIN:STANDARD
TZOFFSETFROM:-0400
TZOFFSETTO:-0500
TZNAME:EST
DTSTART:20261101T060000
END:STANDARD
END:VTIMEZONE
BEGIN:VEVENT
DTSTART;VALUE=DATE:20251231
DTEND;VALUE=DATE:20260102
DTSTAMP:20260423T152813
CREATED:20251217T211808Z
LAST-MODIFIED:20251217T211808Z
UID:6729-1767139200-1767311999@thesanctuaryhoa.net
SUMMARY:Office Closed
DESCRIPTION:
URL:https://thesanctuaryhoa.net/event/office-closed-9/
LOCATION:FL
CATEGORIES:Community Events
END:VEVENT
BEGIN:VEVENT
DTSTART;VALUE=DATE:20251227
DTEND;VALUE=DATE:20251228
DTSTAMP:20260423T152813
CREATED:20251217T211655Z
LAST-MODIFIED:20251217T211655Z
UID:6727-1766793600-1766879999@thesanctuaryhoa.net
SUMMARY:Office Closed
DESCRIPTION:
URL:https://thesanctuaryhoa.net/event/office-closed-8/
LOCATION:FL
CATEGORIES:Community Events
END:VEVENT
BEGIN:VEVENT
DTSTART;VALUE=DATE:20251226
DTEND;VALUE=DATE:20251227
DTSTAMP:20260423T152813
CREATED:20251217T211353Z
LAST-MODIFIED:20251217T211353Z
UID:6722-1766707200-1766793599@thesanctuaryhoa.net
SUMMARY:Office Closed 2pm-8pm
DESCRIPTION:
URL:https://thesanctuaryhoa.net/event/office-closed-2pm-8pm/
LOCATION:FL
CATEGORIES:Community Events
END:VEVENT
BEGIN:VEVENT
DTSTART;VALUE=DATE:20251224
DTEND;VALUE=DATE:20251226
DTSTAMP:20260423T152813
CREATED:20251217T211012Z
LAST-MODIFIED:20251217T211602Z
UID:6715-1766534400-1766707199@thesanctuaryhoa.net
SUMMARY:Office Closed
DESCRIPTION:
URL:https://thesanctuaryhoa.net/event/clubhouse-closed/
LOCATION:The Sanctuary Clubhouse\, 800 Sanctuary Drive\, Oviedo\, FL\, 32766
CATEGORIES:Community Events
END:VEVENT
BEGIN:VEVENT
DTSTART;VALUE=DATE:20251223
DTEND;VALUE=DATE:20251224
DTSTAMP:20260423T152813
CREATED:20251217T211141Z
LAST-MODIFIED:20251217T211517Z
UID:6717-1766448000-1766534399@thesanctuaryhoa.net
SUMMARY:Office Closed 2pm-8pm
DESCRIPTION:
URL:https://thesanctuaryhoa.net/event/clubhouse-closed-2/
LOCATION:The Sanctuary Clubhouse\, 800 Sanctuary Drive\, Oviedo\, FL\, 32766
CATEGORIES:Community Events
END:VEVENT
BEGIN:VEVENT
DTSTART;VALUE=DATE:20251222
DTEND;VALUE=DATE:20251223
DTSTAMP:20260423T152813
CREATED:20251217T211248Z
LAST-MODIFIED:20251217T211503Z
UID:6720-1766361600-1766447999@thesanctuaryhoa.net
SUMMARY:Office Closed
DESCRIPTION:
URL:https://thesanctuaryhoa.net/event/clubhouse-closed-3/
LOCATION:The Sanctuary Clubhouse\, 800 Sanctuary Drive\, Oviedo\, FL\, 32766
CATEGORIES:Community Events
END:VEVENT
BEGIN:VEVENT
DTSTART;VALUE=DATE:20251220
DTEND;VALUE=DATE:20251221
DTSTAMP:20260423T152813
CREATED:20251125T210446Z
LAST-MODIFIED:20251125T210446Z
UID:6610-1766188800-1766275199@thesanctuaryhoa.net
SUMMARY:Christmas Event
DESCRIPTION:
URL:https://thesanctuaryhoa.net/event/christmas-event/
LOCATION:The Sanctuary Clubhouse\, 800 Sanctuary Drive\, Oviedo\, FL\, 32766
CATEGORIES:Community Events
END:VEVENT
BEGIN:VEVENT
DTSTART;TZID=America/New_York:20251216T183000
DTEND;TZID=America/New_York:20251216T183000
DTSTAMP:20260423T152813
CREATED:20241211T222118Z
LAST-MODIFIED:20241211T222118Z
UID:5957-1765909800-1765909800@thesanctuaryhoa.net
SUMMARY:Board Meeting
DESCRIPTION:
URL:https://thesanctuaryhoa.net/event/board-meeting-11/
LOCATION:The Sanctuary Clubhouse\, 800 Sanctuary Drive\, Oviedo\, FL\, 32766
CATEGORIES:Community Events
END:VEVENT
BEGIN:VEVENT
DTSTART;TZID=America/New_York:20251211T190000
DTEND;TZID=America/New_York:20251211T190000
DTSTAMP:20260423T152813
CREATED:20241211T223406Z
LAST-MODIFIED:20241211T223406Z
UID:5987-1765479600-1765479600@thesanctuaryhoa.net
SUMMARY:ARC Meeting
DESCRIPTION:
URL:https://thesanctuaryhoa.net/event/arc-meeting-40/
LOCATION:The Sanctuary Clubhouse\, 800 Sanctuary Drive\, Oviedo\, FL\, 32766
CATEGORIES:Community Events
END:VEVENT
BEGIN:VEVENT
DTSTART;VALUE=DATE:20251208
DTEND;VALUE=DATE:20251209
DTSTAMP:20260423T152813
CREATED:20241211T225905Z
LAST-MODIFIED:20241211T225905Z
UID:6017-1765152000-1765238399@thesanctuaryhoa.net
SUMMARY:ARC Applications Due
DESCRIPTION:
URL:https://thesanctuaryhoa.net/event/arc-applications-due-39/
LOCATION:FL
CATEGORIES:Community Events
END:VEVENT
BEGIN:VEVENT
DTSTART;TZID=America/New_York:20251113T190000
DTEND;TZID=America/New_York:20251113T190000
DTSTAMP:20260423T152813
CREATED:20241211T223338Z
LAST-MODIFIED:20241211T223338Z
UID:5985-1763060400-1763060400@thesanctuaryhoa.net
SUMMARY:ARC Meeting
DESCRIPTION:
URL:https://thesanctuaryhoa.net/event/arc-meeting-39/
LOCATION:The Sanctuary Clubhouse\, 800 Sanctuary Drive\, Oviedo\, FL\, 32766
CATEGORIES:Community Events
END:VEVENT
BEGIN:VEVENT
DTSTART;VALUE=DATE:20251110
DTEND;VALUE=DATE:20251111
DTSTAMP:20260423T152813
CREATED:20241211T225843Z
LAST-MODIFIED:20241211T225843Z
UID:6015-1762732800-1762819199@thesanctuaryhoa.net
SUMMARY:ARC Applications Due
DESCRIPTION:
URL:https://thesanctuaryhoa.net/event/arc-applications-due-38/
LOCATION:FL
CATEGORIES:Community Events
END:VEVENT
BEGIN:VEVENT
DTSTART;TZID=America/New_York:20251028T183000
DTEND;TZID=America/New_York:20251028T183000
DTSTAMP:20260423T152813
CREATED:20241211T222044Z
LAST-MODIFIED:20241211T222044Z
UID:5955-1761676200-1761676200@thesanctuaryhoa.net
SUMMARY:Board Meeting (Budget)
DESCRIPTION:At the October 28\, 2025 meeting\, the 2026 budget will be discussed and presented. This meeting shall set the Base Assessment for Fiscal Year 2026.
URL:https://thesanctuaryhoa.net/event/board-meeting-budget/
LOCATION:The Sanctuary Clubhouse\, 800 Sanctuary Drive\, Oviedo\, FL\, 32766
CATEGORIES:Community Events
END:VEVENT
BEGIN:VEVENT
DTSTART;TZID=America/New_York:20251009T190000
DTEND;TZID=America/New_York:20251009T190000
DTSTAMP:20260423T152813
CREATED:20241211T223308Z
LAST-MODIFIED:20241211T223308Z
UID:5983-1760036400-1760036400@thesanctuaryhoa.net
SUMMARY:ARC Meeting
DESCRIPTION:
URL:https://thesanctuaryhoa.net/event/arc-meeting-38/
LOCATION:The Sanctuary Clubhouse\, 800 Sanctuary Drive\, Oviedo\, FL\, 32766
CATEGORIES:Community Events
END:VEVENT
BEGIN:VEVENT
DTSTART;VALUE=DATE:20251006
DTEND;VALUE=DATE:20251007
DTSTAMP:20260423T152813
CREATED:20241211T225817Z
LAST-MODIFIED:20241211T225817Z
UID:6013-1759708800-1759795199@thesanctuaryhoa.net
SUMMARY:ARC Applications Due
DESCRIPTION:
URL:https://thesanctuaryhoa.net/event/arc-applications-due-37/
LOCATION:FL
CATEGORIES:Community Events
END:VEVENT
BEGIN:VEVENT
DTSTART;TZID=America/New_York:20251004T080000
DTEND;TZID=America/New_York:20251004T120000
DTSTAMP:20260423T152813
CREATED:20241211T222333Z
LAST-MODIFIED:20250121T220520Z
UID:5963-1759564800-1759579200@thesanctuaryhoa.net
SUMMARY:Community Yard Sale
DESCRIPTION:
URL:https://thesanctuaryhoa.net/event/community-yard-sale-6/
LOCATION:FL
CATEGORIES:Community Events
END:VEVENT
BEGIN:VEVENT
DTSTART;TZID=America/New_York:20250911T190000
DTEND;TZID=America/New_York:20250911T190000
DTSTAMP:20260423T152813
CREATED:20241211T223241Z
LAST-MODIFIED:20241211T223241Z
UID:5981-1757617200-1757617200@thesanctuaryhoa.net
SUMMARY:ARC Meeting
DESCRIPTION:
URL:https://thesanctuaryhoa.net/event/arc-meeting-37/
LOCATION:The Sanctuary Clubhouse\, 800 Sanctuary Drive\, Oviedo\, FL\, 32766
CATEGORIES:Community Events
END:VEVENT
BEGIN:VEVENT
DTSTART;VALUE=DATE:20250908
DTEND;VALUE=DATE:20250909
DTSTAMP:20260423T152813
CREATED:20241211T225800Z
LAST-MODIFIED:20241211T225800Z
UID:6011-1757289600-1757375999@thesanctuaryhoa.net
SUMMARY:ARC Applications Due
DESCRIPTION:
URL:https://thesanctuaryhoa.net/event/arc-applications-due-36/
LOCATION:FL
CATEGORIES:Community Events
END:VEVENT
BEGIN:VEVENT
DTSTART;TZID=America/New_York:20250826T183000
DTEND;TZID=America/New_York:20250826T183000
DTSTAMP:20260423T152813
CREATED:20241211T221907Z
LAST-MODIFIED:20241211T230142Z
UID:5953-1756233000-1756233000@thesanctuaryhoa.net
SUMMARY:Board Meeting
DESCRIPTION:
URL:https://thesanctuaryhoa.net/event/board-meeting-10/
LOCATION:The Sanctuary Clubhouse\, 800 Sanctuary Drive\, Oviedo\, FL\, 32766
CATEGORIES:Community Events
END:VEVENT
BEGIN:VEVENT
DTSTART;TZID=America/New_York:20250814T190000
DTEND;TZID=America/New_York:20250814T190000
DTSTAMP:20260423T152813
CREATED:20241211T223205Z
LAST-MODIFIED:20241211T223205Z
UID:5979-1755198000-1755198000@thesanctuaryhoa.net
SUMMARY:ARC Meeting
DESCRIPTION:
URL:https://thesanctuaryhoa.net/event/arc-meeting-36/
LOCATION:The Sanctuary Clubhouse\, 800 Sanctuary Drive\, Oviedo\, FL\, 32766
CATEGORIES:Community Events
END:VEVENT
BEGIN:VEVENT
DTSTART;VALUE=DATE:20250811
DTEND;VALUE=DATE:20250812
DTSTAMP:20260423T152813
CREATED:20241211T225531Z
LAST-MODIFIED:20241211T230230Z
UID:6009-1754870400-1754956799@thesanctuaryhoa.net
SUMMARY:ARC Applications Due
DESCRIPTION:
URL:https://thesanctuaryhoa.net/event/arc-applications-due-35/
LOCATION:FL
CATEGORIES:Community Events
END:VEVENT
BEGIN:VEVENT
DTSTART;TZID=America/New_York:20250810T140000
DTEND;TZID=America/New_York:20250810T190000
DTSTAMP:20260423T152813
CREATED:20250624T133442Z
LAST-MODIFIED:20250624T133442Z
UID:6358-1754834400-1754852400@thesanctuaryhoa.net
SUMMARY:Private Event
DESCRIPTION:
URL:https://thesanctuaryhoa.net/event/private-event-466/
LOCATION:Cabana\, 800 Sanctuary Drive\, Oviedo\, FL\, 32766
CATEGORIES:Community Events
END:VEVENT
BEGIN:VEVENT
DTSTART;TZID=America/New_York:20250727T110000
DTEND;TZID=America/New_York:20250727T160000
DTSTAMP:20260423T152813
CREATED:20250623T230024Z
LAST-MODIFIED:20250623T230024Z
UID:6356-1753614000-1753632000@thesanctuaryhoa.net
SUMMARY:Private Event
DESCRIPTION:
URL:https://thesanctuaryhoa.net/event/private-event-465/
LOCATION:Cabana\, 800 Sanctuary Drive\, Oviedo\, FL\, 32766
CATEGORIES:Community Events
END:VEVENT
BEGIN:VEVENT
DTSTART;TZID=America/New_York:20250719T130000
DTEND;TZID=America/New_York:20250719T180000
DTSTAMP:20260423T152813
CREATED:20250623T203657Z
LAST-MODIFIED:20250623T203657Z
UID:6352-1752930000-1752948000@thesanctuaryhoa.net
SUMMARY:Private Event
DESCRIPTION:
URL:https://thesanctuaryhoa.net/event/private-event-463/
LOCATION:East Pool Pavilion\, 800 Sanctuary Drive\, Oviedo\, FL\, 32766
CATEGORIES:Community Events
END:VEVENT
BEGIN:VEVENT
DTSTART;TZID=America/New_York:20250716T100000
DTEND;TZID=America/New_York:20250716T150000
DTSTAMP:20260423T152813
CREATED:20250623T203740Z
LAST-MODIFIED:20250623T203740Z
UID:6354-1752660000-1752678000@thesanctuaryhoa.net
SUMMARY:Private Event
DESCRIPTION:
URL:https://thesanctuaryhoa.net/event/private-event-464/
LOCATION:Splash Pad\, 800 Sanctuary Drive\, Oviedo\, FL\, 32766
CATEGORIES:Community Events
END:VEVENT
BEGIN:VEVENT
DTSTART;TZID=America/New_York:20250710T190000
DTEND;TZID=America/New_York:20250710T190000
DTSTAMP:20260423T152813
CREATED:20241211T223142Z
LAST-MODIFIED:20241211T223142Z
UID:5977-1752174000-1752174000@thesanctuaryhoa.net
SUMMARY:ARC Meeting
DESCRIPTION:
URL:https://thesanctuaryhoa.net/event/arc-meeting-35/
LOCATION:The Sanctuary Clubhouse\, 800 Sanctuary Drive\, Oviedo\, FL\, 32766
CATEGORIES:Community Events
END:VEVENT
BEGIN:VEVENT
DTSTART;VALUE=DATE:20250707
DTEND;VALUE=DATE:20250708
DTSTAMP:20260423T152813
CREATED:20241211T225513Z
LAST-MODIFIED:20241211T225513Z
UID:6007-1751846400-1751932799@thesanctuaryhoa.net
SUMMARY:ARC Applications Due
DESCRIPTION:
URL:https://thesanctuaryhoa.net/event/arc-applications-due-34/
LOCATION:FL
CATEGORIES:Community Events
END:VEVENT
BEGIN:VEVENT
DTSTART;TZID=America/New_York:20250625T100000
DTEND;TZID=America/New_York:20250625T150000
DTSTAMP:20260423T152813
CREATED:20250623T203606Z
LAST-MODIFIED:20250623T203606Z
UID:6350-1750845600-1750863600@thesanctuaryhoa.net
SUMMARY:Private Event
DESCRIPTION:
URL:https://thesanctuaryhoa.net/event/private-event-462/
LOCATION:Splash Pad\, 800 Sanctuary Drive\, Oviedo\, FL\, 32766
CATEGORIES:Community Events
END:VEVENT
BEGIN:VEVENT
DTSTART;TZID=America/New_York:20250624T183000
DTEND;TZID=America/New_York:20250624T183000
DTSTAMP:20260423T152813
CREATED:20241211T221827Z
LAST-MODIFIED:20241211T221827Z
UID:5951-1750789800-1750789800@thesanctuaryhoa.net
SUMMARY:Board Meeting
DESCRIPTION:
URL:https://thesanctuaryhoa.net/event/board-meeting-9/
LOCATION:The Sanctuary Clubhouse\, 800 Sanctuary Drive\, Oviedo\, FL\, 32766
CATEGORIES:Community Events
END:VEVENT
BEGIN:VEVENT
DTSTART;TZID=America/New_York:20250612T190000
DTEND;TZID=America/New_York:20250612T190000
DTSTAMP:20260423T152813
CREATED:20241211T223104Z
LAST-MODIFIED:20241211T223104Z
UID:5975-1749754800-1749754800@thesanctuaryhoa.net
SUMMARY:ARC Meeting
DESCRIPTION:
URL:https://thesanctuaryhoa.net/event/arc-meeting-34/
LOCATION:The Sanctuary Clubhouse\, 800 Sanctuary Drive\, Oviedo\, FL\, 32766
CATEGORIES:Community Events
END:VEVENT
END:VCALENDAR