BEGIN:VCALENDAR
VERSION:2.0
PRODID:-//The Sanctuary Community Association, Inc. - ECPv6.15.1.1//NONSGML v1.0//EN
CALSCALE:GREGORIAN
METHOD:PUBLISH
X-ORIGINAL-URL:https://thesanctuaryhoa.net
X-WR-CALDESC:Events for The Sanctuary Community Association, Inc.
REFRESH-INTERVAL;VALUE=DURATION:PT1H
X-Robots-Tag:noindex
X-PUBLISHED-TTL:PT1H
BEGIN:VTIMEZONE
TZID:America/New_York
BEGIN:DAYLIGHT
TZOFFSETFROM:-0500
TZOFFSETTO:-0400
TZNAME:EDT
DTSTART:20230312T070000
END:DAYLIGHT
BEGIN:STANDARD
TZOFFSETFROM:-0400
TZOFFSETTO:-0500
TZNAME:EST
DTSTART:20231105T060000
END:STANDARD
BEGIN:DAYLIGHT
TZOFFSETFROM:-0500
TZOFFSETTO:-0400
TZNAME:EDT
DTSTART:20240310T070000
END:DAYLIGHT
BEGIN:STANDARD
TZOFFSETFROM:-0400
TZOFFSETTO:-0500
TZNAME:EST
DTSTART:20241103T060000
END:STANDARD
END:VTIMEZONE
BEGIN:VEVENT
DTSTART;TZID=America/New_York:20240129T180000
DTEND;TZID=America/New_York:20240129T180000
DTSTAMP:20260424T004821
CREATED:20231116T230146Z
LAST-MODIFIED:20231129T211412Z
UID:5326-1706551200-1706551200@thesanctuaryhoa.net
SUMMARY:Covenants Enforcement Commitee Meeting
DESCRIPTION:
URL:https://thesanctuaryhoa.net/event/covenants-enforcement-commitee-meeting/
LOCATION:The Sanctuary Clubhouse\, 800 Sanctuary Drive\, Oviedo\, FL\, 32766
CATEGORIES:Community Events
END:VEVENT
BEGIN:VEVENT
DTSTART;TZID=America/New_York:20240123T193000
DTEND;TZID=America/New_York:20240123T203000
DTSTAMP:20260424T004821
CREATED:20231116T230032Z
LAST-MODIFIED:20231129T211333Z
UID:5324-1706038200-1706041800@thesanctuaryhoa.net
SUMMARY:Organizational Board Meeting (7:30pm)
DESCRIPTION:
URL:https://thesanctuaryhoa.net/event/organizational-board-meeting-730pm/
LOCATION:The Sanctuary Clubhouse\, 800 Sanctuary Drive\, Oviedo\, FL\, 32766
CATEGORIES:Community Events
END:VEVENT
BEGIN:VEVENT
DTSTART;TZID=America/New_York:20240123T190000
DTEND;TZID=America/New_York:20240123T193000
DTSTAMP:20260424T004821
CREATED:20231116T225907Z
LAST-MODIFIED:20231129T211327Z
UID:5322-1706036400-1706038200@thesanctuaryhoa.net
SUMMARY:Annual Members Meeting (7:00pm)
DESCRIPTION:
URL:https://thesanctuaryhoa.net/event/annual-members-meeting-700pm/
LOCATION:The Sanctuary Clubhouse\, 800 Sanctuary Drive\, Oviedo\, FL\, 32766
CATEGORIES:Community Events
END:VEVENT
BEGIN:VEVENT
DTSTART;TZID=America/New_York:20240111T190000
DTEND;TZID=America/New_York:20240111T190000
DTSTAMP:20260424T004821
CREATED:20231128T235701Z
LAST-MODIFIED:20231129T211907Z
UID:5334-1704999600-1704999600@thesanctuaryhoa.net
SUMMARY:ARC Meeting
DESCRIPTION:
URL:https://thesanctuaryhoa.net/event/arc-meeting-12/
LOCATION:The Sanctuary Clubhouse\, 800 Sanctuary Drive\, Oviedo\, FL\, 32766
CATEGORIES:Community Events
END:VEVENT
BEGIN:VEVENT
DTSTART;VALUE=DATE:20240108
DTEND;VALUE=DATE:20240109
DTSTAMP:20260424T004821
CREATED:20231129T212328Z
LAST-MODIFIED:20231129T212328Z
UID:5372-1704672000-1704758399@thesanctuaryhoa.net
SUMMARY:ARC Applications Due
DESCRIPTION:
URL:https://thesanctuaryhoa.net/event/arc-applications-due-11/
LOCATION:FL
CATEGORIES:Community Events
END:VEVENT
BEGIN:VEVENT
DTSTART;TZID=America/New_York:20240107T140000
DTEND;TZID=America/New_York:20240107T160000
DTSTAMP:20260424T004821
CREATED:20230123T201557Z
LAST-MODIFIED:20230123T201557Z
UID:4923-1704636000-1704643200@thesanctuaryhoa.net
SUMMARY:Snacks & Shredding
DESCRIPTION:
URL:https://thesanctuaryhoa.net/event/snacks-shredding/
LOCATION:The Sanctuary Clubhouse\, 800 Sanctuary Drive\, Oviedo\, FL\, 32766
CATEGORIES:Community Events
END:VEVENT
BEGIN:VEVENT
DTSTART;TZID=America/New_York:20231214T200000
DTEND;TZID=America/New_York:20231214T200000
DTSTAMP:20260424T004821
CREATED:20230123T201234Z
LAST-MODIFIED:20230123T201234Z
UID:4915-1702584000-1702584000@thesanctuaryhoa.net
SUMMARY:ARC Meeting
DESCRIPTION:
URL:https://thesanctuaryhoa.net/event/arc-meeting-11/
LOCATION:The Sanctuary Clubhouse\, 800 Sanctuary Drive\, Oviedo\, FL\, 32766
CATEGORIES:Community Events
END:VEVENT
BEGIN:VEVENT
DTSTART;VALUE=DATE:20231211
DTEND;VALUE=DATE:20231212
DTSTAMP:20260424T004821
CREATED:20230123T201338Z
LAST-MODIFIED:20231129T211821Z
UID:4919-1702252800-1702339199@thesanctuaryhoa.net
SUMMARY:ARC Applications Due
DESCRIPTION:
URL:https://thesanctuaryhoa.net/event/arc-applications-due-9/
LOCATION:FL
CATEGORIES:Community Events
END:VEVENT
BEGIN:VEVENT
DTSTART;TZID=America/New_York:20231210T130000
DTEND;TZID=America/New_York:20231210T160000
DTSTAMP:20260424T004821
CREATED:20231108T002858Z
LAST-MODIFIED:20231129T002750Z
UID:5300-1702213200-1702224000@thesanctuaryhoa.net
SUMMARY:Winter Festival
DESCRIPTION:
URL:https://thesanctuaryhoa.net/event/winter-festival-3/
LOCATION:The Sanctuary Clubhouse\, 800 Sanctuary Drive\, Oviedo\, FL\, 32766
CATEGORIES:Community Events
END:VEVENT
BEGIN:VEVENT
DTSTART;TZID=America/New_York:20231109T200000
DTEND;TZID=America/New_York:20231109T200000
DTSTAMP:20260424T004821
CREATED:20230123T201202Z
LAST-MODIFIED:20230123T201202Z
UID:4913-1699560000-1699560000@thesanctuaryhoa.net
SUMMARY:ARC Meeting
DESCRIPTION:
URL:https://thesanctuaryhoa.net/event/arc-meeting-10/
LOCATION:The Sanctuary Clubhouse\, 800 Sanctuary Drive\, Oviedo\, FL\, 32766
CATEGORIES:Community Events
END:VEVENT
BEGIN:VEVENT
DTSTART;TZID=America/New_York:20231024T183000
DTEND;TZID=America/New_York:20231024T183000
DTSTAMP:20260424T004821
CREATED:20230123T184947Z
LAST-MODIFIED:20230123T184947Z
UID:4865-1698172200-1698172200@thesanctuaryhoa.net
SUMMARY:Board of Directors Meeting (Budget)
DESCRIPTION:At the October 24\, 2023 meeting the 2023 budget will be discussed and presented. This meeting shall set the Base Assessment for Fiscal Year 2024.
URL:https://thesanctuaryhoa.net/event/board-of-directors-meeting-budget/
LOCATION:The Sanctuary Clubhouse\, 800 Sanctuary Drive\, Oviedo\, FL\, 32766
CATEGORIES:Community Events
END:VEVENT
BEGIN:VEVENT
DTSTART;TZID=America/New_York:20231012T200000
DTEND;TZID=America/New_York:20231012T200000
DTSTAMP:20260424T004821
CREATED:20230123T200959Z
LAST-MODIFIED:20230123T200959Z
UID:4909-1697140800-1697140800@thesanctuaryhoa.net
SUMMARY:ARC Meeting
DESCRIPTION:
URL:https://thesanctuaryhoa.net/event/arc-meeting-9/
LOCATION:The Sanctuary Clubhouse\, 800 Sanctuary Drive\, Oviedo\, FL\, 32766
CATEGORIES:Community Events
END:VEVENT
BEGIN:VEVENT
DTSTART;VALUE=DATE:20231007
DTEND;VALUE=DATE:20231008
DTSTAMP:20260424T004821
CREATED:20230123T201055Z
LAST-MODIFIED:20230123T201055Z
UID:4911-1696636800-1696723199@thesanctuaryhoa.net
SUMMARY:Community Yard Sale
DESCRIPTION:
URL:https://thesanctuaryhoa.net/event/community-yard-sale-2/
LOCATION:FL
CATEGORIES:Community Events
END:VEVENT
BEGIN:VEVENT
DTSTART;TZID=America/New_York:20230914T200000
DTEND;TZID=America/New_York:20230914T200000
DTSTAMP:20260424T004821
CREATED:20230123T200446Z
LAST-MODIFIED:20230123T200446Z
UID:4907-1694721600-1694721600@thesanctuaryhoa.net
SUMMARY:ARC Meeting
DESCRIPTION:
URL:https://thesanctuaryhoa.net/event/arc-meeting-8/
LOCATION:The Sanctuary Clubhouse\, 800 Sanctuary Drive\, Oviedo\, FL\, 32766
CATEGORIES:Community Events
END:VEVENT
BEGIN:VEVENT
DTSTART;TZID=America/New_York:20230822T183000
DTEND;TZID=America/New_York:20230822T183000
DTSTAMP:20260424T004821
CREATED:20230123T184745Z
LAST-MODIFIED:20230123T184745Z
UID:4863-1692729000-1692729000@thesanctuaryhoa.net
SUMMARY:Board of Directors Meeting
DESCRIPTION:
URL:https://thesanctuaryhoa.net/event/board-of-directors-meeting-4/
LOCATION:The Sanctuary Clubhouse\, 800 Sanctuary Drive\, Oviedo\, FL\, 32766
CATEGORIES:Community Events
END:VEVENT
BEGIN:VEVENT
DTSTART;VALUE=DATE:20230811
DTEND;VALUE=DATE:20230812
DTSTAMP:20260424T004821
CREATED:20230123T200000Z
LAST-MODIFIED:20230123T200000Z
UID:4903-1691712000-1691798399@thesanctuaryhoa.net
SUMMARY:Back to School Bash
DESCRIPTION:
URL:https://thesanctuaryhoa.net/event/back-to-school-bash/
LOCATION:The Sanctuary Clubhouse\, 800 Sanctuary Drive\, Oviedo\, FL\, 32766
CATEGORIES:Community Events
END:VEVENT
BEGIN:VEVENT
DTSTART;TZID=America/New_York:20230810T200000
DTEND;TZID=America/New_York:20230810T200000
DTSTAMP:20260424T004821
CREATED:20230123T195858Z
LAST-MODIFIED:20230123T195858Z
UID:4901-1691697600-1691697600@thesanctuaryhoa.net
SUMMARY:ARC Meeting
DESCRIPTION:
URL:https://thesanctuaryhoa.net/event/arc-meeting-7/
LOCATION:The Sanctuary Clubhouse\, 800 Sanctuary Drive\, Oviedo\, FL\, 32766
CATEGORIES:Community Events
END:VEVENT
BEGIN:VEVENT
DTSTART;TZID=America/New_York:20230715T100000
DTEND;TZID=America/New_York:20230715T130000
DTSTAMP:20260424T004821
CREATED:20230624T175330Z
LAST-MODIFIED:20230624T175330Z
UID:5083-1689415200-1689426000@thesanctuaryhoa.net
SUMMARY:Private Event
DESCRIPTION:
URL:https://thesanctuaryhoa.net/event/private-event-57/
LOCATION:Splash Pad\, 800 Sanctuary Drive\, Oviedo\, FL\, 32766
CATEGORIES:Community Events
END:VEVENT
BEGIN:VEVENT
DTSTART;TZID=America/New_York:20230713T200000
DTEND;TZID=America/New_York:20230713T200000
DTSTAMP:20260424T004821
CREATED:20230123T195219Z
LAST-MODIFIED:20230123T195219Z
UID:4895-1689278400-1689278400@thesanctuaryhoa.net
SUMMARY:ARC Meeting
DESCRIPTION:
URL:https://thesanctuaryhoa.net/event/arc-meeting-6/
LOCATION:The Sanctuary Clubhouse\, 800 Sanctuary Drive\, Oviedo\, FL\, 32766
CATEGORIES:Community Events
END:VEVENT
BEGIN:VEVENT
DTSTART;TZID=America/New_York:20230627T183000
DTEND;TZID=America/New_York:20230627T183000
DTSTAMP:20260424T004821
CREATED:20230123T184648Z
LAST-MODIFIED:20230123T184648Z
UID:4861-1687890600-1687890600@thesanctuaryhoa.net
SUMMARY:Board of Directors Meeting
DESCRIPTION:
URL:https://thesanctuaryhoa.net/event/board-of-directors-meeting-3/
LOCATION:The Sanctuary Clubhouse\, 800 Sanctuary Drive\, Oviedo\, FL\, 32766
CATEGORIES:Community Events
END:VEVENT
BEGIN:VEVENT
DTSTART;TZID=America/New_York:20230608T200000
DTEND;TZID=America/New_York:20230608T200000
DTSTAMP:20260424T004821
CREATED:20230123T195037Z
LAST-MODIFIED:20230123T195037Z
UID:4889-1686254400-1686254400@thesanctuaryhoa.net
SUMMARY:ARC Meeting
DESCRIPTION:
URL:https://thesanctuaryhoa.net/event/arc-meeting-5/
LOCATION:The Sanctuary Clubhouse\, 800 Sanctuary Drive\, Oviedo\, FL\, 32766
CATEGORIES:Community Events
END:VEVENT
BEGIN:VEVENT
DTSTART;VALUE=DATE:20230525
DTEND;VALUE=DATE:20230526
DTSTAMP:20260424T004821
CREATED:20230123T194945Z
LAST-MODIFIED:20230524T214520Z
UID:4887-1684972800-1685059199@thesanctuaryhoa.net
SUMMARY:CANCELED Last Day of School Bash
DESCRIPTION:
URL:https://thesanctuaryhoa.net/event/last-day-of-school-bash/
LOCATION:The Sanctuary Clubhouse\, 800 Sanctuary Drive\, Oviedo\, FL\, 32766
CATEGORIES:Community Events
END:VEVENT
BEGIN:VEVENT
DTSTART;TZID=America/New_York:20230511T200000
DTEND;TZID=America/New_York:20230511T200000
DTSTAMP:20260424T004821
CREATED:20230123T193600Z
LAST-MODIFIED:20230123T193600Z
UID:4881-1683835200-1683835200@thesanctuaryhoa.net
SUMMARY:ARC Meeting
DESCRIPTION:ARC
URL:https://thesanctuaryhoa.net/event/arc-meeting-4/
LOCATION:The Sanctuary Clubhouse\, 800 Sanctuary Drive\, Oviedo\, FL\, 32766
CATEGORIES:Community Events
END:VEVENT
BEGIN:VEVENT
DTSTART;TZID=America/New_York:20230506T080000
DTEND;TZID=America/New_York:20230506T140000
DTSTAMP:20260424T004821
CREATED:20230123T194837Z
LAST-MODIFIED:20230123T194837Z
UID:4885-1683360000-1683381600@thesanctuaryhoa.net
SUMMARY:Community Yard Sale
DESCRIPTION:
URL:https://thesanctuaryhoa.net/event/community-yard-sale/
LOCATION:FL
CATEGORIES:Community Events
END:VEVENT
BEGIN:VEVENT
DTSTART;TZID=America/New_York:20230425T183000
DTEND;TZID=America/New_York:20230425T183000
DTSTAMP:20260424T004821
CREATED:20230123T184600Z
LAST-MODIFIED:20230123T184600Z
UID:4859-1682447400-1682447400@thesanctuaryhoa.net
SUMMARY:Board of Directors Meeting
DESCRIPTION:
URL:https://thesanctuaryhoa.net/event/board-of-directors-meeting-2/
LOCATION:The Sanctuary Clubhouse\, 800 Sanctuary Drive\, Oviedo\, FL\, 32766
CATEGORIES:Community Events
END:VEVENT
BEGIN:VEVENT
DTSTART;TZID=America/New_York:20230413T200000
DTEND;TZID=America/New_York:20230413T200000
DTSTAMP:20260424T004821
CREATED:20230123T193252Z
LAST-MODIFIED:20230123T193252Z
UID:4875-1681416000-1681416000@thesanctuaryhoa.net
SUMMARY:ARC Meeting
DESCRIPTION:
URL:https://thesanctuaryhoa.net/event/arc-meeting-3/
LOCATION:The Sanctuary Clubhouse\, 800 Sanctuary Drive\, Oviedo\, FL\, 32766
CATEGORIES:Community Events
END:VEVENT
BEGIN:VEVENT
DTSTART;VALUE=DATE:20230402
DTEND;VALUE=DATE:20230403
DTSTAMP:20260424T004821
CREATED:20230123T193508Z
LAST-MODIFIED:20230123T193508Z
UID:4879-1680393600-1680479999@thesanctuaryhoa.net
SUMMARY:Easter Egg Hunt
DESCRIPTION:
URL:https://thesanctuaryhoa.net/event/easter-egg-hunt/
LOCATION:The Sanctuary Clubhouse\, 800 Sanctuary Drive\, Oviedo\, FL\, 32766
CATEGORIES:Community Events
END:VEVENT
BEGIN:VEVENT
DTSTART;TZID=America/New_York:20230309T200000
DTEND;TZID=America/New_York:20230309T200000
DTSTAMP:20260424T004821
CREATED:20230123T192023Z
LAST-MODIFIED:20230123T192023Z
UID:4871-1678392000-1678392000@thesanctuaryhoa.net
SUMMARY:ARC Meeting
DESCRIPTION:
URL:https://thesanctuaryhoa.net/event/arc-meeting-2/
LOCATION:The Sanctuary Clubhouse\, 800 Sanctuary Drive\, Oviedo\, FL\, 32766
CATEGORIES:Community Events
END:VEVENT
BEGIN:VEVENT
DTSTART;TZID=America/New_York:20230228T183000
DTEND;TZID=America/New_York:20230228T183000
DTSTAMP:20260424T004821
CREATED:20230123T184505Z
LAST-MODIFIED:20230123T184505Z
UID:4857-1677609000-1677609000@thesanctuaryhoa.net
SUMMARY:Board of Directors Meeting
DESCRIPTION:
URL:https://thesanctuaryhoa.net/event/board-of-directors-meeting/
LOCATION:The Sanctuary Clubhouse\, 800 Sanctuary Drive\, Oviedo\, FL\, 32766
CATEGORIES:Community Events
END:VEVENT
BEGIN:VEVENT
DTSTART;TZID=America/New_York:20230209T200000
DTEND;TZID=America/New_York:20230209T200000
DTSTAMP:20260424T004821
CREATED:20230123T185136Z
LAST-MODIFIED:20230123T185136Z
UID:4867-1675972800-1675972800@thesanctuaryhoa.net
SUMMARY:ARC Meeting
DESCRIPTION:
URL:https://thesanctuaryhoa.net/event/arc-meeting/
LOCATION:The Sanctuary Clubhouse\, 800 Sanctuary Drive\, Oviedo\, FL\, 32766
CATEGORIES:Community Events
END:VEVENT
END:VCALENDAR