BEGIN:VCALENDAR
VERSION:2.0
PRODID:-//The Sanctuary Community Association, Inc. - ECPv6.15.1.1//NONSGML v1.0//EN
CALSCALE:GREGORIAN
METHOD:PUBLISH
X-ORIGINAL-URL:https://thesanctuaryhoa.net
X-WR-CALDESC:Events for The Sanctuary Community Association, Inc.
REFRESH-INTERVAL;VALUE=DURATION:PT1H
X-Robots-Tag:noindex
X-PUBLISHED-TTL:PT1H
BEGIN:VTIMEZONE
TZID:America/New_York
BEGIN:DAYLIGHT
TZOFFSETFROM:-0500
TZOFFSETTO:-0400
TZNAME:EDT
DTSTART:20220313T070000
END:DAYLIGHT
BEGIN:STANDARD
TZOFFSETFROM:-0400
TZOFFSETTO:-0500
TZNAME:EST
DTSTART:20221106T060000
END:STANDARD
END:VTIMEZONE
BEGIN:VEVENT
DTSTART;TZID=America/New_York:20221104T170000
DTEND;TZID=America/New_York:20221104T200000
DTSTAMP:20260426T000556
CREATED:20221102T184355Z
LAST-MODIFIED:20221102T184355Z
UID:4768-1667581200-1667592000@thesanctuaryhoa.net
SUMMARY:Private Event
DESCRIPTION:
URL:https://thesanctuaryhoa.net/event/private-event-114/
LOCATION:Cabana\, 800 Sanctuary Drive\, Oviedo\, FL\, 32766
CATEGORIES:Private Events
END:VEVENT
BEGIN:VEVENT
DTSTART;TZID=America/New_York:20221105T170000
DTEND;TZID=America/New_York:20221105T230000
DTSTAMP:20260426T000556
CREATED:20221102T184447Z
LAST-MODIFIED:20221102T184447Z
UID:4770-1667667600-1667689200@thesanctuaryhoa.net
SUMMARY:Private Event
DESCRIPTION:
URL:https://thesanctuaryhoa.net/event/private-event-115/
LOCATION:The Sanctuary Clubhouse\, 800 Sanctuary Drive\, Oviedo\, FL\, 32766
CATEGORIES:Private Events
END:VEVENT
BEGIN:VEVENT
DTSTART;TZID=America/New_York:20221106T130000
DTEND;TZID=America/New_York:20221106T190000
DTSTAMP:20260426T000556
CREATED:20221102T184934Z
LAST-MODIFIED:20221102T184934Z
UID:4774-1667739600-1667761200@thesanctuaryhoa.net
SUMMARY:Private Event
DESCRIPTION:
URL:https://thesanctuaryhoa.net/event/private-event-117/
LOCATION:Cabana\, 800 Sanctuary Drive\, Oviedo\, FL\, 32766
CATEGORIES:Private Events
END:VEVENT
BEGIN:VEVENT
DTSTART;TZID=America/New_York:20221106T160000
DTEND;TZID=America/New_York:20221106T220000
DTSTAMP:20260426T000556
CREATED:20221102T184831Z
LAST-MODIFIED:20221102T184831Z
UID:4772-1667750400-1667772000@thesanctuaryhoa.net
SUMMARY:Private Event
DESCRIPTION:
URL:https://thesanctuaryhoa.net/event/private-event-116/
LOCATION:The Sanctuary Clubhouse\, 800 Sanctuary Drive\, Oviedo\, FL\, 32766
CATEGORIES:Private Events
END:VEVENT
BEGIN:VEVENT
DTSTART;TZID=America/New_York:20221106T160000
DTEND;TZID=America/New_York:20221106T220000
DTSTAMP:20260426T000556
CREATED:20221102T185020Z
LAST-MODIFIED:20221102T185020Z
UID:4776-1667750400-1667772000@thesanctuaryhoa.net
SUMMARY:Private Event
DESCRIPTION:
URL:https://thesanctuaryhoa.net/event/private-event-118/
LOCATION:The Sanctuary Clubhouse\, 800 Sanctuary Drive\, Oviedo\, FL\, 32766
CATEGORIES:Private Events
END:VEVENT
BEGIN:VEVENT
DTSTART;TZID=America/New_York:20221108T180000
DTEND;TZID=America/New_York:20221108T220000
DTSTAMP:20260426T000556
CREATED:20221102T185122Z
LAST-MODIFIED:20221102T185122Z
UID:4778-1667930400-1667944800@thesanctuaryhoa.net
SUMMARY:Private Event
DESCRIPTION:Private
URL:https://thesanctuaryhoa.net/event/private-event-119/
LOCATION:The Sanctuary Clubhouse\, 800 Sanctuary Drive\, Oviedo\, FL\, 32766
CATEGORIES:Private Events
END:VEVENT
BEGIN:VEVENT
DTSTART;TZID=America/New_York:20221112T140000
DTEND;TZID=America/New_York:20221112T200000
DTSTAMP:20260426T000556
CREATED:20221102T185223Z
LAST-MODIFIED:20221102T185223Z
UID:4780-1668261600-1668283200@thesanctuaryhoa.net
SUMMARY:Private Event
DESCRIPTION:
URL:https://thesanctuaryhoa.net/event/private-event-120/
LOCATION:The Sanctuary Clubhouse\, 800 Sanctuary Drive\, Oviedo\, FL\, 32766
CATEGORIES:Private Events
END:VEVENT
BEGIN:VEVENT
DTSTART;TZID=America/New_York:20221113T110000
DTEND;TZID=America/New_York:20221113T170000
DTSTAMP:20260426T000556
CREATED:20221102T185302Z
LAST-MODIFIED:20221102T185302Z
UID:4782-1668337200-1668358800@thesanctuaryhoa.net
SUMMARY:Private Event
DESCRIPTION:
URL:https://thesanctuaryhoa.net/event/private-event-121/
LOCATION:Cabana\, 800 Sanctuary Drive\, Oviedo\, FL\, 32766
CATEGORIES:Private Events
END:VEVENT
BEGIN:VEVENT
DTSTART;TZID=America/New_York:20221118T153000
DTEND;TZID=America/New_York:20221118T213000
DTSTAMP:20260426T000556
CREATED:20221102T185341Z
LAST-MODIFIED:20221102T185341Z
UID:4784-1668785400-1668807000@thesanctuaryhoa.net
SUMMARY:Private Event
DESCRIPTION:
URL:https://thesanctuaryhoa.net/event/private-event-122/
LOCATION:The Sanctuary Clubhouse\, 800 Sanctuary Drive\, Oviedo\, FL\, 32766
CATEGORIES:Private Events
END:VEVENT
BEGIN:VEVENT
DTSTART;TZID=America/New_York:20221119T150000
DTEND;TZID=America/New_York:20221119T200000
DTSTAMP:20260426T000556
CREATED:20221102T185428Z
LAST-MODIFIED:20221102T185428Z
UID:4786-1668870000-1668888000@thesanctuaryhoa.net
SUMMARY:Private Event
DESCRIPTION:
URL:https://thesanctuaryhoa.net/event/private-event-123/
LOCATION:Cabana\, 800 Sanctuary Drive\, Oviedo\, FL\, 32766
CATEGORIES:Private Events
END:VEVENT
BEGIN:VEVENT
DTSTART;TZID=America/New_York:20221120T140000
DTEND;TZID=America/New_York:20221120T200000
DTSTAMP:20260426T000556
CREATED:20221102T185653Z
LAST-MODIFIED:20221102T185653Z
UID:4790-1668952800-1668974400@thesanctuaryhoa.net
SUMMARY:Private Event
DESCRIPTION:
URL:https://thesanctuaryhoa.net/event/private-event-125/
LOCATION:The Sanctuary Clubhouse\, 800 Sanctuary Drive\, Oviedo\, FL\, 32766
CATEGORIES:Private Events
END:VEVENT
BEGIN:VEVENT
DTSTART;TZID=America/New_York:20221124T130000
DTEND;TZID=America/New_York:20221124T190000
DTSTAMP:20260426T000556
CREATED:20221102T185752Z
LAST-MODIFIED:20221102T185752Z
UID:4793-1669294800-1669316400@thesanctuaryhoa.net
SUMMARY:Private Event
DESCRIPTION:
URL:https://thesanctuaryhoa.net/event/private-event-126/
LOCATION:The Sanctuary Clubhouse\, 800 Sanctuary Drive\, Oviedo\, FL\, 32766
CATEGORIES:Private Events
END:VEVENT
END:VCALENDAR