BEGIN:VCALENDAR
VERSION:2.0
PRODID:-//The Sanctuary Community Association, Inc. - ECPv6.15.1.1//NONSGML v1.0//EN
CALSCALE:GREGORIAN
METHOD:PUBLISH
X-ORIGINAL-URL:https://thesanctuaryhoa.net
X-WR-CALDESC:Events for The Sanctuary Community Association, Inc.
REFRESH-INTERVAL;VALUE=DURATION:PT1H
X-Robots-Tag:noindex
X-PUBLISHED-TTL:PT1H
BEGIN:VTIMEZONE
TZID:America/New_York
BEGIN:DAYLIGHT
TZOFFSETFROM:-0500
TZOFFSETTO:-0400
TZNAME:EDT
DTSTART:20230312T070000
END:DAYLIGHT
BEGIN:STANDARD
TZOFFSETFROM:-0400
TZOFFSETTO:-0500
TZNAME:EST
DTSTART:20231105T060000
END:STANDARD
END:VTIMEZONE
BEGIN:VEVENT
DTSTART;TZID=America/New_York:20230804T163000
DTEND;TZID=America/New_York:20230804T203000
DTSTAMP:20260425T113441
CREATED:20230721T122345Z
LAST-MODIFIED:20230721T122345Z
UID:5121-1691166600-1691181000@thesanctuaryhoa.net
SUMMARY:Private Event
DESCRIPTION:
URL:https://thesanctuaryhoa.net/event/private-event-71/
LOCATION:FL
CATEGORIES:Private Events
END:VEVENT
BEGIN:VEVENT
DTSTART;TZID=America/New_York:20230805T120000
DTEND;TZID=America/New_York:20230805T180000
DTSTAMP:20260425T113441
CREATED:20230721T122257Z
LAST-MODIFIED:20230721T122257Z
UID:5119-1691236800-1691258400@thesanctuaryhoa.net
SUMMARY:Private Event
DESCRIPTION:
URL:https://thesanctuaryhoa.net/event/private-event-70/
LOCATION:Splash Pad\, 800 Sanctuary Drive\, Oviedo\, FL\, 32766
CATEGORIES:Private Events
END:VEVENT
BEGIN:VEVENT
DTSTART;TZID=America/New_York:20230805T130000
DTEND;TZID=America/New_York:20230805T190000
DTSTAMP:20260425T113441
CREATED:20230614T190804Z
LAST-MODIFIED:20230614T190804Z
UID:5046-1691240400-1691262000@thesanctuaryhoa.net
SUMMARY:Private Event
DESCRIPTION:
URL:https://thesanctuaryhoa.net/event/private-event-42/
LOCATION:The Sanctuary Clubhouse\, 800 Sanctuary Drive\, Oviedo\, FL\, 32766
CATEGORIES:Private Events
END:VEVENT
BEGIN:VEVENT
DTSTART;TZID=America/New_York:20230806T110000
DTEND;TZID=America/New_York:20230806T170000
DTSTAMP:20260425T113441
CREATED:20230715T150026Z
LAST-MODIFIED:20230715T150026Z
UID:5102-1691319600-1691341200@thesanctuaryhoa.net
SUMMARY:Private Events
DESCRIPTION:
URL:https://thesanctuaryhoa.net/event/private-events-2/
LOCATION:The Sanctuary Clubhouse\, 800 Sanctuary Drive\, Oviedo\, FL\, 32766
CATEGORIES:Private Events
END:VEVENT
BEGIN:VEVENT
DTSTART;TZID=America/New_York:20230817T090000
DTEND;TZID=America/New_York:20230817T150000
DTSTAMP:20260425T113441
CREATED:20230731T162017Z
LAST-MODIFIED:20230731T162017Z
UID:5138-1692262800-1692284400@thesanctuaryhoa.net
SUMMARY:Private Event
DESCRIPTION:
URL:https://thesanctuaryhoa.net/event/private-event-75/
LOCATION:Splash Pad\, 800 Sanctuary Drive\, Oviedo\, FL\, 32766
CATEGORIES:Private Events
END:VEVENT
BEGIN:VEVENT
DTSTART;TZID=America/New_York:20230823T180000
DTEND;TZID=America/New_York:20230823T220000
DTSTAMP:20260425T113441
CREATED:20230821T164757Z
LAST-MODIFIED:20230821T164757Z
UID:5177-1692813600-1692828000@thesanctuaryhoa.net
SUMMARY:Private Event
DESCRIPTION:
URL:https://thesanctuaryhoa.net/event/private-event-87/
LOCATION:The Sanctuary Clubhouse\, 800 Sanctuary Drive\, Oviedo\, FL\, 32766
CATEGORIES:Private Events
END:VEVENT
BEGIN:VEVENT
DTSTART;TZID=America/New_York:20230826T120000
DTEND;TZID=America/New_York:20230826T180000
DTSTAMP:20260425T113441
CREATED:20230811T153648Z
LAST-MODIFIED:20230811T153648Z
UID:5153-1693051200-1693072800@thesanctuaryhoa.net
SUMMARY:Private Event
DESCRIPTION:
URL:https://thesanctuaryhoa.net/event/private-event-80/
LOCATION:Cabana\, 800 Sanctuary Drive\, Oviedo\, FL\, 32766
CATEGORIES:Private Events
END:VEVENT
BEGIN:VEVENT
DTSTART;TZID=America/New_York:20230828T183000
DTEND;TZID=America/New_York:20230828T220000
DTSTAMP:20260425T113441
CREATED:20230828T150502Z
LAST-MODIFIED:20230828T150502Z
UID:5191-1693247400-1693260000@thesanctuaryhoa.net
SUMMARY:Private Event
DESCRIPTION:
URL:https://thesanctuaryhoa.net/event/private-event-94/
LOCATION:The Sanctuary Clubhouse\, 800 Sanctuary Drive\, Oviedo\, FL\, 32766
CATEGORIES:Private Events
END:VEVENT
END:VCALENDAR