BEGIN:VCALENDAR
VERSION:2.0
PRODID:-//The Sanctuary Community Association, Inc. - ECPv6.15.1.1//NONSGML v1.0//EN
CALSCALE:GREGORIAN
METHOD:PUBLISH
X-ORIGINAL-URL:https://thesanctuaryhoa.net
X-WR-CALDESC:Events for The Sanctuary Community Association, Inc.
REFRESH-INTERVAL;VALUE=DURATION:PT1H
X-Robots-Tag:noindex
X-PUBLISHED-TTL:PT1H
BEGIN:VTIMEZONE
TZID:America/New_York
BEGIN:DAYLIGHT
TZOFFSETFROM:-0500
TZOFFSETTO:-0400
TZNAME:EDT
DTSTART:20230312T070000
END:DAYLIGHT
BEGIN:STANDARD
TZOFFSETFROM:-0400
TZOFFSETTO:-0500
TZNAME:EST
DTSTART:20231105T060000
END:STANDARD
END:VTIMEZONE
BEGIN:VEVENT
DTSTART;TZID=America/New_York:20230903T130000
DTEND;TZID=America/New_York:20230903T180000
DTSTAMP:20260425T095834
CREATED:20230715T150406Z
LAST-MODIFIED:20230715T150406Z
UID:5106-1693746000-1693764000@thesanctuaryhoa.net
SUMMARY:Private Event
DESCRIPTION:
URL:https://thesanctuaryhoa.net/event/private-event-66/
LOCATION:FL
CATEGORIES:Private Events
END:VEVENT
BEGIN:VEVENT
DTSTART;TZID=America/New_York:20230905T183000
DTEND;TZID=America/New_York:20230905T220000
DTSTAMP:20260425T095834
CREATED:20230828T150550Z
LAST-MODIFIED:20230828T150550Z
UID:5193-1693938600-1693951200@thesanctuaryhoa.net
SUMMARY:Private Event
DESCRIPTION:
URL:https://thesanctuaryhoa.net/event/private-event-95/
LOCATION:The Sanctuary Clubhouse\, 800 Sanctuary Drive\, Oviedo\, FL\, 32766
CATEGORIES:Private Events
END:VEVENT
BEGIN:VEVENT
DTSTART;TZID=America/New_York:20230909T100000
DTEND;TZID=America/New_York:20230909T160000
DTSTAMP:20260425T095834
CREATED:20230503T230007Z
LAST-MODIFIED:20230503T230007Z
UID:5035-1694253600-1694275200@thesanctuaryhoa.net
SUMMARY:Private Event
DESCRIPTION:
URL:https://thesanctuaryhoa.net/event/private-event-41/
LOCATION:The Sanctuary Clubhouse\, 800 Sanctuary Drive\, Oviedo\, FL\, 32766
CATEGORIES:Private Events
END:VEVENT
BEGIN:VEVENT
DTSTART;TZID=America/New_York:20230909T110000
DTEND;TZID=America/New_York:20230909T130000
DTSTAMP:20260425T095834
CREATED:20230715T150521Z
LAST-MODIFIED:20230715T150521Z
UID:5109-1694257200-1694264400@thesanctuaryhoa.net
SUMMARY:Private Event
DESCRIPTION:
URL:https://thesanctuaryhoa.net/event/private-event-67/
LOCATION:FL
CATEGORIES:Private Events
END:VEVENT
BEGIN:VEVENT
DTSTART;TZID=America/New_York:20230912T183000
DTEND;TZID=America/New_York:20230912T220000
DTSTAMP:20260425T095834
CREATED:20230828T150623Z
LAST-MODIFIED:20230828T150623Z
UID:5195-1694543400-1694556000@thesanctuaryhoa.net
SUMMARY:Private Event
DESCRIPTION:
URL:https://thesanctuaryhoa.net/event/private-event-137/
LOCATION:The Sanctuary Clubhouse\, 800 Sanctuary Drive\, Oviedo\, FL\, 32766
CATEGORIES:Private Events
END:VEVENT
BEGIN:VEVENT
DTSTART;TZID=America/New_York:20230914T110000
DTEND;TZID=America/New_York:20230914T140000
DTSTAMP:20260425T095834
CREATED:20230828T162445Z
LAST-MODIFIED:20230828T162445Z
UID:5197-1694689200-1694700000@thesanctuaryhoa.net
SUMMARY:Private Event
DESCRIPTION:
URL:https://thesanctuaryhoa.net/event/private-event-138/
LOCATION:Cabana\, 800 Sanctuary Drive\, Oviedo\, FL\, 32766
CATEGORIES:Private Events
END:VEVENT
BEGIN:VEVENT
DTSTART;TZID=America/New_York:20230922T103000
DTEND;TZID=America/New_York:20230922T140000
DTSTAMP:20260425T095834
CREATED:20230828T162519Z
LAST-MODIFIED:20230828T162519Z
UID:5199-1695378600-1695391200@thesanctuaryhoa.net
SUMMARY:Private Event
DESCRIPTION:
URL:https://thesanctuaryhoa.net/event/private-event-139/
LOCATION:Cabana\, 800 Sanctuary Drive\, Oviedo\, FL\, 32766
CATEGORIES:Private Events
END:VEVENT
BEGIN:VEVENT
DTSTART;TZID=America/New_York:20230930T123000
DTEND;TZID=America/New_York:20230930T183000
DTSTAMP:20260425T095834
CREATED:20230715T150647Z
LAST-MODIFIED:20230715T150647Z
UID:5111-1696077000-1696098600@thesanctuaryhoa.net
SUMMARY:Private Event
DESCRIPTION:
URL:https://thesanctuaryhoa.net/event/private-event-68/
LOCATION:The Sanctuary Clubhouse\, 800 Sanctuary Drive\, Oviedo\, FL\, 32766
CATEGORIES:Private Events
END:VEVENT
END:VCALENDAR