BEGIN:VCALENDAR
VERSION:2.0
PRODID:-//The Sanctuary Community Association, Inc. - ECPv6.15.1.1//NONSGML v1.0//EN
CALSCALE:GREGORIAN
METHOD:PUBLISH
X-WR-CALNAME:The Sanctuary Community Association, Inc.
X-ORIGINAL-URL:https://thesanctuaryhoa.net
X-WR-CALDESC:Events for The Sanctuary Community Association, Inc.
REFRESH-INTERVAL;VALUE=DURATION:PT1H
X-Robots-Tag:noindex
X-PUBLISHED-TTL:PT1H
BEGIN:VTIMEZONE
TZID:America/New_York
BEGIN:DAYLIGHT
TZOFFSETFROM:-0500
TZOFFSETTO:-0400
TZNAME:EDT
DTSTART:20230312T070000
END:DAYLIGHT
BEGIN:STANDARD
TZOFFSETFROM:-0400
TZOFFSETTO:-0500
TZNAME:EST
DTSTART:20231105T060000
END:STANDARD
END:VTIMEZONE
BEGIN:VEVENT
DTSTART;TZID=America/New_York:20230505T180000
DTEND;TZID=America/New_York:20230505T230000
DTSTAMP:20260425T172723
CREATED:20230426T192052Z
LAST-MODIFIED:20230426T192052Z
UID:5002-1683309600-1683327600@thesanctuaryhoa.net
SUMMARY:Private Event
DESCRIPTION:
URL:https://thesanctuaryhoa.net/event/private-event-31/
LOCATION:The Sanctuary Clubhouse\, 800 Sanctuary Drive\, Oviedo\, FL\, 32766
CATEGORIES:Private Events
END:VEVENT
BEGIN:VEVENT
DTSTART;TZID=America/New_York:20230502T180000
DTEND;TZID=America/New_York:20230502T230000
DTSTAMP:20260425T172723
CREATED:20230426T192011Z
LAST-MODIFIED:20230426T192011Z
UID:5000-1683050400-1683068400@thesanctuaryhoa.net
SUMMARY:Private Event
DESCRIPTION:
URL:https://thesanctuaryhoa.net/event/private-event-30/
LOCATION:The Sanctuary Clubhouse\, 800 Sanctuary Drive\, Oviedo\, FL\, 32766
CATEGORIES:Private Events
END:VEVENT
BEGIN:VEVENT
DTSTART;TZID=America/New_York:20230429T183000
DTEND;TZID=America/New_York:20230429T220000
DTSTAMP:20260425T172723
CREATED:20230323T181254Z
LAST-MODIFIED:20230323T181254Z
UID:4977-1682793000-1682805600@thesanctuaryhoa.net
SUMMARY:Private Event
DESCRIPTION:
URL:https://thesanctuaryhoa.net/event/private-event-22/
LOCATION:The Sanctuary Clubhouse\, 800 Sanctuary Drive\, Oviedo\, FL\, 32766
CATEGORIES:Private Events
END:VEVENT
BEGIN:VEVENT
DTSTART;TZID=America/New_York:20230429T140000
DTEND;TZID=America/New_York:20230429T160000
DTSTAMP:20260425T172723
CREATED:20230407T155012Z
LAST-MODIFIED:20230407T155012Z
UID:4980-1682776800-1682784000@thesanctuaryhoa.net
SUMMARY:Private Event
DESCRIPTION:
URL:https://thesanctuaryhoa.net/event/private-event-23/
LOCATION:Cabana\, 800 Sanctuary Drive\, Oviedo\, FL\, 32766
CATEGORIES:Private Events
END:VEVENT
BEGIN:VEVENT
DTSTART;TZID=America/New_York:20230428T180000
DTEND;TZID=America/New_York:20230428T220000
DTSTAMP:20260425T172723
CREATED:20230323T181205Z
LAST-MODIFIED:20230323T181205Z
UID:4975-1682704800-1682719200@thesanctuaryhoa.net
SUMMARY:Private Event
DESCRIPTION:
URL:https://thesanctuaryhoa.net/event/private-event-21/
LOCATION:The Sanctuary Clubhouse\, 800 Sanctuary Drive\, Oviedo\, FL\, 32766
CATEGORIES:Private Events
END:VEVENT
BEGIN:VEVENT
DTSTART;TZID=America/New_York:20230426T090000
DTEND;TZID=America/New_York:20230426T150000
DTSTAMP:20260425T172723
CREATED:20230407T160731Z
LAST-MODIFIED:20230407T160731Z
UID:4990-1682499600-1682521200@thesanctuaryhoa.net
SUMMARY:Private Event
DESCRIPTION:
URL:https://thesanctuaryhoa.net/event/private-event-28/
LOCATION:Cabana\, 800 Sanctuary Drive\, Oviedo\, FL\, 32766
CATEGORIES:Private Events
END:VEVENT
BEGIN:VEVENT
DTSTART;TZID=America/New_York:20230423T130000
DTEND;TZID=America/New_York:20230423T190000
DTSTAMP:20260425T172723
CREATED:20230323T181125Z
LAST-MODIFIED:20230323T181125Z
UID:4973-1682254800-1682276400@thesanctuaryhoa.net
SUMMARY:Private Event
DESCRIPTION:
URL:https://thesanctuaryhoa.net/event/private-event-20/
LOCATION:Cabana\, 800 Sanctuary Drive\, Oviedo\, FL\, 32766
CATEGORIES:Private Events
END:VEVENT
BEGIN:VEVENT
DTSTART;TZID=America/New_York:20230422T120000
DTEND;TZID=America/New_York:20230422T180000
DTSTAMP:20260425T172723
CREATED:20230323T181034Z
LAST-MODIFIED:20230323T181034Z
UID:4971-1682164800-1682186400@thesanctuaryhoa.net
SUMMARY:Private Event
DESCRIPTION:
URL:https://thesanctuaryhoa.net/event/private-event-18/
LOCATION:The Sanctuary Clubhouse\, 800 Sanctuary Drive\, Oviedo\, FL\, 32766
CATEGORIES:Private Events
END:VEVENT
BEGIN:VEVENT
DTSTART;TZID=America/New_York:20230420T093000
DTEND;TZID=America/New_York:20230420T130000
DTSTAMP:20260425T172723
CREATED:20230407T160641Z
LAST-MODIFIED:20230407T160641Z
UID:4988-1681983000-1681995600@thesanctuaryhoa.net
SUMMARY:Private Event
DESCRIPTION:
URL:https://thesanctuaryhoa.net/event/private-event-27/
LOCATION:Cabana\, 800 Sanctuary Drive\, Oviedo\, FL\, 32766
CATEGORIES:Private Events
END:VEVENT
BEGIN:VEVENT
DTSTART;TZID=America/New_York:20230416T093000
DTEND;TZID=America/New_York:20230416T153000
DTSTAMP:20260425T172723
CREATED:20230323T180948Z
LAST-MODIFIED:20230323T180948Z
UID:4969-1681637400-1681659000@thesanctuaryhoa.net
SUMMARY:Private Event
DESCRIPTION:
URL:https://thesanctuaryhoa.net/event/private-event-17/
LOCATION:The Sanctuary Clubhouse\, 800 Sanctuary Drive\, Oviedo\, FL\, 32766
CATEGORIES:Private Events
END:VEVENT
BEGIN:VEVENT
DTSTART;TZID=America/New_York:20230415T090000
DTEND;TZID=America/New_York:20230415T140000
DTSTAMP:20260425T172723
CREATED:20230323T180838Z
LAST-MODIFIED:20230323T180838Z
UID:4967-1681549200-1681567200@thesanctuaryhoa.net
SUMMARY:Private Event
DESCRIPTION:
URL:https://thesanctuaryhoa.net/event/private-event-16/
LOCATION:The Sanctuary Clubhouse\, 800 Sanctuary Drive\, Oviedo\, FL\, 32766
CATEGORIES:Private Events
END:VEVENT
BEGIN:VEVENT
DTSTART;TZID=America/New_York:20230411T150000
DTEND;TZID=America/New_York:20230411T200000
DTSTAMP:20260425T172723
CREATED:20230407T155916Z
LAST-MODIFIED:20230407T155933Z
UID:4984-1681225200-1681243200@thesanctuaryhoa.net
SUMMARY:Private Event
DESCRIPTION:
URL:https://thesanctuaryhoa.net/event/private-event-25/
LOCATION:Cabana\, 800 Sanctuary Drive\, Oviedo\, FL\, 32766
CATEGORIES:Private Events
END:VEVENT
BEGIN:VEVENT
DTSTART;TZID=America/New_York:20230409T110000
DTEND;TZID=America/New_York:20230409T150000
DTSTAMP:20260425T172723
CREATED:20230323T180735Z
LAST-MODIFIED:20230323T180735Z
UID:4965-1681038000-1681052400@thesanctuaryhoa.net
SUMMARY:Private Event
DESCRIPTION:
URL:https://thesanctuaryhoa.net/event/private-event-15/
LOCATION:The Sanctuary Clubhouse\, 800 Sanctuary Drive\, Oviedo\, FL\, 32766
CATEGORIES:Private Events
END:VEVENT
BEGIN:VEVENT
DTSTART;TZID=America/New_York:20230408T130000
DTEND;TZID=America/New_York:20230408T180000
DTSTAMP:20260425T172723
CREATED:20230407T155818Z
LAST-MODIFIED:20230407T155818Z
UID:4982-1680958800-1680976800@thesanctuaryhoa.net
SUMMARY:Private Event
DESCRIPTION:
URL:https://thesanctuaryhoa.net/event/private-event-24/
LOCATION:Splash Pad\, 800 Sanctuary Drive\, Oviedo\, FL\, 32766
CATEGORIES:Private Events
END:VEVENT
BEGIN:VEVENT
DTSTART;TZID=America/New_York:20230401T110000
DTEND;TZID=America/New_York:20230401T170000
DTSTAMP:20260425T172723
CREATED:20230323T180656Z
LAST-MODIFIED:20230323T180656Z
UID:4963-1680346800-1680368400@thesanctuaryhoa.net
SUMMARY:Private Event
DESCRIPTION:
URL:https://thesanctuaryhoa.net/event/private-event-14/
LOCATION:The Sanctuary Clubhouse\, 800 Sanctuary Drive\, Oviedo\, FL\, 32766
CATEGORIES:Private Events
END:VEVENT
BEGIN:VEVENT
DTSTART;TZID=America/New_York:20230331T180000
DTEND;TZID=America/New_York:20230331T220000
DTSTAMP:20260425T172723
CREATED:20230215T222603Z
LAST-MODIFIED:20230215T222603Z
UID:4939-1680285600-1680300000@thesanctuaryhoa.net
SUMMARY:Private Event
DESCRIPTION:
URL:https://thesanctuaryhoa.net/event/private-event-7/
LOCATION:The Sanctuary Clubhouse\, 800 Sanctuary Drive\, Oviedo\, FL\, 32766
CATEGORIES:Private Events
END:VEVENT
BEGIN:VEVENT
DTSTART;TZID=America/New_York:20230325T100000
DTEND;TZID=America/New_York:20230325T160000
DTSTAMP:20260425T172723
CREATED:20230215T221634Z
LAST-MODIFIED:20230215T221648Z
UID:4933-1679738400-1679760000@thesanctuaryhoa.net
SUMMARY:Private Event
DESCRIPTION:
URL:https://thesanctuaryhoa.net/event/private-event-4/
LOCATION:Cabana\, 800 Sanctuary Drive\, Oviedo\, FL\, 32766
CATEGORIES:Private Events
END:VEVENT
BEGIN:VEVENT
DTSTART;TZID=America/New_York:20230324T170000
DTEND;TZID=America/New_York:20230324T193000
DTSTAMP:20260425T172723
CREATED:20230215T222503Z
LAST-MODIFIED:20230215T222503Z
UID:4937-1679677200-1679686200@thesanctuaryhoa.net
SUMMARY:Private Event
DESCRIPTION:
URL:https://thesanctuaryhoa.net/event/private-event-6/
LOCATION:Cabana\, 800 Sanctuary Drive\, Oviedo\, FL\, 32766
CATEGORIES:Private Events
END:VEVENT
BEGIN:VEVENT
DTSTART;TZID=America/New_York:20230319T100000
DTEND;TZID=America/New_York:20230319T160000
DTSTAMP:20260425T172723
CREATED:20230302T002351Z
LAST-MODIFIED:20230302T002351Z
UID:4960-1679220000-1679241600@thesanctuaryhoa.net
SUMMARY:Private Event
DESCRIPTION:
URL:https://thesanctuaryhoa.net/event/private-event-13/
LOCATION:Splash Pad\, 800 Sanctuary Drive\, Oviedo\, FL\, 32766
CATEGORIES:Private Events
END:VEVENT
BEGIN:VEVENT
DTSTART;TZID=America/New_York:20230318T100000
DTEND;TZID=America/New_York:20230318T160000
DTSTAMP:20260425T172723
CREATED:20230215T222710Z
LAST-MODIFIED:20230215T222710Z
UID:4941-1679133600-1679155200@thesanctuaryhoa.net
SUMMARY:Private Event
DESCRIPTION:
URL:https://thesanctuaryhoa.net/event/private-event-8/
LOCATION:Cabana\, 800 Sanctuary Drive\, Oviedo\, FL\, 32766
CATEGORIES:Private Events
END:VEVENT
BEGIN:VEVENT
DTSTART;TZID=America/New_York:20230312T140000
DTEND;TZID=America/New_York:20230312T200000
DTSTAMP:20260425T172723
CREATED:20221102T185552Z
LAST-MODIFIED:20230215T222156Z
UID:4788-1678629600-1678651200@thesanctuaryhoa.net
SUMMARY:Private Event
DESCRIPTION:
URL:https://thesanctuaryhoa.net/event/private-event-124/
LOCATION:Cabana\, 800 Sanctuary Drive\, Oviedo\, FL\, 32766
CATEGORIES:Private Events
END:VEVENT
BEGIN:VEVENT
DTSTART;TZID=America/New_York:20230311T130000
DTEND;TZID=America/New_York:20230311T170000
DTSTAMP:20260425T172723
CREATED:20230302T002232Z
LAST-MODIFIED:20230302T002232Z
UID:4956-1678539600-1678554000@thesanctuaryhoa.net
SUMMARY:Private Event
DESCRIPTION:
URL:https://thesanctuaryhoa.net/event/private-event-11/
LOCATION:The Sanctuary Clubhouse\, 800 Sanctuary Drive\, Oviedo\, FL\, 32766
CATEGORIES:Private Events
END:VEVENT
BEGIN:VEVENT
DTSTART;TZID=America/New_York:20230311T110000
DTEND;TZID=America/New_York:20230311T160000
DTSTAMP:20260425T172723
CREATED:20230302T002311Z
LAST-MODIFIED:20230302T002311Z
UID:4958-1678532400-1678550400@thesanctuaryhoa.net
SUMMARY:Private Event
DESCRIPTION:
URL:https://thesanctuaryhoa.net/event/private-event-12/
LOCATION:Splash Pad\, 800 Sanctuary Drive\, Oviedo\, FL\, 32766
CATEGORIES:Private Events
END:VEVENT
BEGIN:VEVENT
DTSTART;TZID=America/New_York:20230305T140000
DTEND;TZID=America/New_York:20230305T180000
DTSTAMP:20260425T172723
CREATED:20230215T220519Z
LAST-MODIFIED:20230215T220519Z
UID:4931-1678024800-1678039200@thesanctuaryhoa.net
SUMMARY:Private Event
DESCRIPTION:
URL:https://thesanctuaryhoa.net/event/private-event-3/
LOCATION:The Sanctuary Clubhouse\, 800 Sanctuary Drive\, Oviedo\, FL\, 32766
CATEGORIES:Private Events
END:VEVENT
BEGIN:VEVENT
DTSTART;TZID=America/New_York:20230304T140000
DTEND;TZID=America/New_York:20230304T200000
DTSTAMP:20260425T172723
CREATED:20230302T002200Z
LAST-MODIFIED:20230302T002200Z
UID:4954-1677938400-1677960000@thesanctuaryhoa.net
SUMMARY:Private Event
DESCRIPTION:Private
URL:https://thesanctuaryhoa.net/event/private-event-10/
LOCATION:The Sanctuary Clubhouse\, 800 Sanctuary Drive\, Oviedo\, FL\, 32766
CATEGORIES:Private Events
END:VEVENT
BEGIN:VEVENT
DTSTART;TZID=America/New_York:20230304T130000
DTEND;TZID=America/New_York:20230304T180000
DTSTAMP:20260425T172723
CREATED:20230302T002125Z
LAST-MODIFIED:20230302T002125Z
UID:4952-1677934800-1677952800@thesanctuaryhoa.net
SUMMARY:Private Event
DESCRIPTION:
URL:https://thesanctuaryhoa.net/event/private-event-9/
LOCATION:Splash Pad\, 800 Sanctuary Drive\, Oviedo\, FL\, 32766
CATEGORIES:Private Events
END:VEVENT
BEGIN:VEVENT
DTSTART;TZID=America/New_York:20230224T180000
DTEND;TZID=America/New_York:20230224T220000
DTSTAMP:20260425T172723
CREATED:20230215T220411Z
LAST-MODIFIED:20230215T220411Z
UID:4929-1677261600-1677276000@thesanctuaryhoa.net
SUMMARY:Private Event
DESCRIPTION:
URL:https://thesanctuaryhoa.net/event/private-event-2/
LOCATION:The Sanctuary Clubhouse\, 800 Sanctuary Drive\, Oviedo\, FL\, 32766
CATEGORIES:Private Events
END:VEVENT
BEGIN:VEVENT
DTSTART;TZID=America/New_York:20230218T100000
DTEND;TZID=America/New_York:20230218T160000
DTSTAMP:20260425T172723
CREATED:20230215T222326Z
LAST-MODIFIED:20230215T222326Z
UID:4935-1676714400-1676736000@thesanctuaryhoa.net
SUMMARY:Private Event
DESCRIPTION:
URL:https://thesanctuaryhoa.net/event/private-event-5/
LOCATION:Cabana\, 800 Sanctuary Drive\, Oviedo\, FL\, 32766
CATEGORIES:Private Events
END:VEVENT
BEGIN:VEVENT
DTSTART;TZID=America/New_York:20230218T090000
DTEND;TZID=America/New_York:20230218T130000
DTSTAMP:20260425T172723
CREATED:20230215T220330Z
LAST-MODIFIED:20230215T220330Z
UID:4926-1676710800-1676725200@thesanctuaryhoa.net
SUMMARY:Private Event
DESCRIPTION:
URL:https://thesanctuaryhoa.net/event/private-event/
LOCATION:The Sanctuary Clubhouse\, 800 Sanctuary Drive\, Oviedo\, FL\, 32766
CATEGORIES:Private Events
END:VEVENT
BEGIN:VEVENT
DTSTART;TZID=America/New_York:20230129T120000
DTEND;TZID=America/New_York:20230129T180000
DTSTAMP:20260425T172723
CREATED:20230107T175945Z
LAST-MODIFIED:20230107T175945Z
UID:4847-1674993600-1675015200@thesanctuaryhoa.net
SUMMARY:Private Event
DESCRIPTION:
URL:https://thesanctuaryhoa.net/event/private-event-136/
LOCATION:The Sanctuary Clubhouse\, 800 Sanctuary Drive\, Oviedo\, FL\, 32766
CATEGORIES:Private Events
END:VEVENT
END:VCALENDAR